Workbook
Name \0: #REF!
Name \0: #REF!
Name \a: #REF!
Name \a: #REF!
Name \b: #REF!
Name \b: #REF!
Name \c: [1]EDORES!#REF!
Name \c: [1]EDORES!#REF!
Name \e: [1]EDORES!$A$48
Name \g: #REF!
Name \g: #REF!
Name \h: [1]EDORES!$A$46
Name \m: #REF!
Name \m: #REF!
Name \s: #REF!
Name \s: #REF!
Name \w: #REF!
Name \w: #REF!
Name _1: [2]REPBOC98!#REF!
Name _1: [2]REPBOC98!#REF!
Name _2: #N/A
Name _Bal03: #REF!
Name _Bal03: #REF!
Name _nov99: '[6]EDO COSTOS'!#REF!
Name _nov99: '[6]EDO COSTOS'!#REF!
Name _Uni03: #REF!
Name _Uni03: #REF!
Name A: [1]EDORES!#REF!
Name A: [1]EDORES!#REF!
Name Aacum: #REF!
Name Aacum: #REF!
Name ABRIL: #REF!
Name ABRIL: #REF!
Name actual: #REF!
Name actual: #REF!
Name AGOSTO: #REF!
Name AGOSTO: #REF!
Name Amen: #REF!
Name Amen: #REF!
Name ApasAct: #REF!
Name ApasAct: #REF!
Name ApasAcumAnt: #REF!
Name ApasAcumAnt: #REF!
Name ApasAnt: #REF!
Name ApasAnt: #REF!
Name ASDE: #REF!
Name ASDE: #REF!
Name B: #REF!
Name B: #REF!
Name Bal_Uni: #REF!
Name Bal_Uni: #REF!
Name BalApaAct: #REF!
Name BalApaAct: #REF!
Name BalApaAnt: #REF!
Name BalApaAnt: #REF!
Name bocarrecibida: [7]Bocar!#REF!
Name bocarrecibida: [7]Bocar!#REF!
Name bocarrecibir: [7]Bocar!#REF!
Name bocarrecibir: [7]Bocar!#REF!
Name borrar: '[4]Cálculo Depreciación'!#REF!

Sheet Analisis de evolucion del ingre
A2: MUNICIPIO DE CHIHUAHUA
A3: TESORERIA
A4: ANALISIS DE EVOLUCION DEL INGRESO 2016
A5: CUARTO TRIMESTRE 2016
B7: OCTUBRE | C7: NOVIEMBRE | D7: DICIEMBRE | E7: TOTAL TRIMESTRAL | F7: ACUMULADO ANUAL | G7: LEY DE INGRESOS 2016 | H7: AVANCE ANUAL
A8: Predial | B8: 8538642.2 | C8: 12820193 | D8: 50228357 | E8: =SUM(B8:D8) -> 71587192 | F8: 6.6189723e+08 | G8: 5.1304418e+08 | H8: =+F8/G8 -> 1.2901369
A9: Traslación de Dominio de Bienes Inmuebles | B9: 17235384 | C9: 18229368 | D9: 18164898 | E9: =SUM(B9:D9) -> 53629650 | F9: 2.4147414e+08 | G9: 1.8328856e+08 | H9: =+F9/G9 -> 1.3174534
A10: Espectáculos Públicos | B10: 455426 | C10: 389980 | D10: 346412 | E10: =SUM(B10:D10) -> 1191818 | F10: 4807563.1 | G10: 3416027.7 | H10: =+F10/G10 -> 1.4073548
A11: Multas | B11: 723038.94 | C11: 581075.93 | D11: 1103579 | E11: =SUM(B11:D11) -> 2407693.9 | F11: 10196058 | G11: 7323552.1 | H11: =+F11/G11 -> 1.3922285
A12: Recargos | B12: 1360691.8 | C12: 770467.66 | D12: 2619749.4 | E12: =SUM(B12:D12) -> 4750908.8 | F12: 22195825 | G12: 19891295 | H12: =+F12/G12 -> 1.1158562
A13: Actos de Ejecución | B13: 119657.19 | C13: 347055.15 | D13: 1258228.3 | E13: =SUM(B13:D13) -> 1724940.6 | F13: 5737693.3 | G13: 5265387.9 | H13: =+F13/G13 -> 1.0897
A14: TOTAL IMPUESTOS Y CONTRIBUCIONES | B14: =SUM(B8:B13) -> 28432840 | C14: =SUM(C8:C13) -> 33138140 | D14: =SUM(D8:D13) -> 73721224 | E14: =SUM(E8:E13) -> 1.352922e+08 | F14: 9.4630851e+08 | G14: =SUM(G8:G13) -> 7.32229e+08 | H14: =F14/G14 -> 1.2923669
A15: Universitario | B15: 1008805.3 | C15: 1215239.5 | D15: 2577646.1 | E15: =SUM(B15:D15) -> 4801690.9 | F15: 35213105 | G15: 27853310 | H15: =+F15/G15 -> 1.2642342
A16: Contribuciones Especiales | B16: 104894.36 | C16: 143035.49 | D16: 388050.88 | E16: =SUM(B16:D16) -> 635980.73 | F16: 9001949.5 | G16: 6974078.9 | H16: =+F16/G16 -> 1.2907725
A17: Infraestructura y Equipamiento | B17: 3950 | C17: 18350 | D17: 49900 | E17: =SUM(B17:D17) -> 72200 | F17: 395700 | G17: 0 | H17: 0
A18: CONTRIBUCIONES DE MEJORAS | B18: =SUM(B15:B17) -> 1117649.7 | C18: =SUM(C15:C17) -> 1376625 | D18: =SUM(D15:D17) -> 3015597 | E18: =SUM(E15:E17) -> 5509871.6 | F18: 44610755 | G18: =SUM(G15:G17) -> 34827388 | H18: =+F18/G18 -> 1.2809101
A19: Mercados y Centrales de Abastos | B19: 13715.37 | C19: 4251.81 | D19: 11515.46 | E19: =SUM(B19:D19) -> 29482.64 | F19: 378505.54 | G19: 283526.49 | H19: =+F19/G19 -> 1.3349918
A20: Arrendamiento de Bienes | B20: 155493.04 | C20: 71894.17 | D20: 102612.96 | E20: =SUM(B20:D20) -> 330000.17 | F20: 452506.84 | G20: 469617.68 | H20: =+F20/G20 -> 0.96356432
A21: Cementerios | B21: 120077.82 | C21: 142354.97 | D21: 153383.4 | E21: =SUM(B21:D21) -> 415816.19 | F21: 1830371.6 | G21: 1725144.1 | H21: =+F21/G21 -> 1.0609964
A22: Permisos Ganaderos | B22: 103293.14 | C22: 160127.04 | D22: 102892.98 | E22: =SUM(B22:D22) -> 366313.16 | F22: 1413120.6 | G22: 638998.58 | H22: =+F22/G22 -> 2.2114612
A23: Permisos de Obras Públicas | B23: 6321134 | C23: 5060619.6 | D23: 4442421.2 | E23: =SUM(B23:D23) -> 15824175 | F23: 72351465 | G23: 60841881 | H23: =+F23/G23 -> 1.1891721
A24: Legalizacion de Firmas y Certificados | B24: 638327.73 | C24: 539953.39 | D24: 450528.73 | E24: =SUM(B24:D24) -> 1628809.9 | F24: 8912800.4 | G24: 7830800 | H24: =+F24/G24 -> 1.1381724
A25: Permisos de Gobernación | B25: 1911815.6 | C25: 886157.42 | D25: 1048364.1 | E25: =SUM(B25:D25) -> 3846337.2 | F25: 17180708 | G25: 9978445.2 | H25: =+F25/G25 -> 1.721782
A26: Aseo Urbano | B26: 1608594.4 | C26: 944050.64 | D26: 1701917.3 | E26: =SUM(B26:D26) -> 4254562.3 | F26: 19164896 | G26: 19489955 | H26: =+F26/G26 -> 0.98332167
A27: Alumbrado Público | B27: 14324021 | C27: 12089138 | D27: 12078890 | E27: =SUM(B27:D27) -> 38492049 | F27: 1.5217986e+08 | G27: 1.2330124e+08 | H27: =+F27/G27 -> 1.2342119
A28: Fijación de Anuncios y Propaganda Comercial | B28: 178290.65 | C28: 273885.41 | D28: 380786.74 | E28: =SUM(B28:D28) -> 832962.8 | F28: 2675726.1 | G28: 3071008.9 | H28: =+F28/G28 -> 0.87128568
A29: Servicios a Eventos Masivos | B29: 0 | C29: 0 | D29: 0 | E29: =SUM(B29:D29) -> 0 | F29: 584320 | G29: 0 | H29: 0
A30: Servicios Ley de Transparencia | B30: 0 | C30: 0 | D30: 0 | E30: =SUM(B30:D30) -> 0 | F30: 241.5 | G30: 8524.87 | H30: =+F30/G30 -> 0.028328878
A31: Servicios de Mantenimiento Urbano | B31: 7304 | C31: 14608 | D31: 0 | E31: =SUM(B31:D31) -> 21912 | F31: 93710.32 | G31: 26275.99 | H31: =+F31/G31 -> 3.5663859
A32: Servicios de Protección Civil | B32: 116864 | C32: 77605 | D32: 83630.8 | E32: =SUM(B32:D32) -> 278099.8 | F32: 1382426.6 | G32: 776937.93 | H32: =+F32/G32 -> 1.7793269
A33: Derechos de Operación de Máquinas de Video | B33: 146810.4 | C33: 0 | D33: 0 | E33: =SUM(B33:D33) -> 146810.4 | F33: 4394967.7 | G33: 3109633 | H33: =+F33/G33 -> 1.4133397
A34: Servicios de Vigilancia Especial | B34: 379590.76 | C34: 251242.63 | D34: 280479.23 | E34: =SUM(B34:D34) -> 911312.62 | F34: 3803055.5 | G34: 3598014.8 | H34: =+F34/G34 -> 1.0569872
A35: TOTAL DERECHOS | B35: =SUM(B19:B34) -> 26025331 | C35: =SUM(C19:C34) -> 20515888 | D35: =SUM(D19:D34) -> 20837423 | E35: =SUM(E19:E34) -> 67378643 | F35: 2.8679868e+08 | G35: =SUM(G19:G34) -> 2.3515001e+08 | H35: =F35/G35 -> 1.2196414
A36: Vigilancia Especial | B36: 0 | C36: 0 | D36: 0 | F36: 0 | G36: 0 | H36: 0
A37: Rendimientos Financieros | B37: 416300.52 | C37: 393766.91 | D37: 257006.56 | E37: =SUM(B37:D37) -> 1067074 | F37: 8188021.5 | G37: 6415068.4 | H37: =+F37/G37 -> 1.2763732
A38: Rendimientos Financieros FORTAMUN | B38: 18810.22 | C38: 23640.5 | D38: 26904.58 | E38: =SUM(B38:D38) -> 69355.3 | F38: 265190.64 | G38: 221803.98 | H38: =+F38/G38 -> 1.1956081
A39: Rendimientos Financieros FISM | B39: 26325.52 | C39: 29771.38 | D39: 31609.48 | E39: =SUM(B39:D39) -> 87706.38 | F39: 315290.54 | G39: 188126.04 | H39: =+F39/G39 -> 1.6759537
A40: Rendimientos Financieros Subsemun FORTASEG | B40: 3997.96 | C40: 16283.18 | D40: 17126 | E40: =SUM(B40:D40) -> 37407.14 | F40: 94909.52 | G40: 67480.98 | H40: =+F40/G40 -> 1.4064633
A41: Rendimientos Financieros FORTALECE | B41: 3791.28 | C41: 2721.2 | D41: 1428.68 | E41: =SUM(B41:D41) -> 7941.16 | F41: 30265.56 | G41: 0 | H41: 0
A42: Rendimientos Financieros FONDO MINERO 2016 | B42: 522.55 | C42: 935.56 | D42: 143.76 | E42: =SUM(B42:D42) -> 1601.87 | F42: 2222.5 | G42: 0 | H42: 0
...

Sheet trimestral
A2: MUNICIPIO DE CHIHUAHUA
A3: TESORERIA
A4: ANALISIS DE EVOLUCION DEL INGRESO 2016
A5: AL 31 DE DICIEMBRE DE 2016
B7: OCTUBRE | C7: NOVIEMBRE | D7: DICIEMBRE | E7: TOTAL TRIMESTRAL
A8: IMPUESTOS Y CONTRIBUCIONES | B8: =+'Analisis de evolucion del ingre'!B14 -> 28432840 | C8: =+'Analisis de evolucion del ingre'!C14 -> 33138140 | D8: =+'Analisis de evolucion del ingre'!D14 -> 73721224 | E8: =SUM(B8:D8) -> 1.352922e+08
A9: CONTRIBUCIONES DE MEJORAS | B9: =+'Analisis de evolucion del ingre'!B18 -> 1117649.7 | C9: =+'Analisis de evolucion del ingre'!C18 -> 1376625 | D9: =+'Analisis de evolucion del ingre'!D18 -> 3015597 | E9: =SUM(B9:D9) -> 5509871.6
A10: DERECHOS | B10: =+'Analisis de evolucion del ingre'!B35 -> 26025331 | C10: =+'Analisis de evolucion del ingre'!C35 -> 20515888 | D10: =+'Analisis de evolucion del ingre'!D35 -> 20837423 | E10: =SUM(B10:D10) -> 67378643
A11: PRODUCTOS DE TIPO CORRIENTE | B11: =+'Analisis de evolucion del ingre'!B44 -> 469813.27 | C11: =+'Analisis de evolucion del ingre'!C44 -> 467188.62 | D11: =+'Analisis de evolucion del ingre'!D44 -> 334291.3 | E11: =SUM(B11:D11) -> 1271293.2
A12: APROVECHAMIENTOS | B12: =+'Analisis de evolucion del ingre'!B49 -> 1264107.8 | C12: =+'Analisis de evolucion del ingre'!C49 -> 542686.79 | D12: =+'Analisis de evolucion del ingre'!D49 -> 2267629.5 | E12: =SUM(B12:D12) -> 4074424
A13: VENTA DE BIENES Y SERVICIOS | B13: =+'Analisis de evolucion del ingre'!B52 -> 237284 | C13: =+'Analisis de evolucion del ingre'!C52 -> 12166.84 | D13: =+'Analisis de evolucion del ingre'!D52 -> 10311.24 | E13: =SUM(B13:D13) -> 259762.08
A14: PARTICIPACIONES | B14: =+'Analisis de evolucion del ingre'!B63 -> 65436535 | C14: =+'Analisis de evolucion del ingre'!C63 -> 71312926 | D14: =+'Analisis de evolucion del ingre'!D63 -> 73990039 | E14: =SUM(B14:D14) -> 2.107395e+08
A15: APORTACIONES | B15: =+'Analisis de evolucion del ingre'!B87 -> 46360193 | C15: =+'Analisis de evolucion del ingre'!C87 -> 84239057 | D15: =+'Analisis de evolucion del ingre'!D87 -> 53009808 | E15: =SUM(B15:D15) -> 1.8360906e+08
A16: INGRESOS TOTALES | B16: =SUM(B8:B15) -> 1.6934375e+08 | C16: =SUM(C8:C15) -> 2.1160468e+08 | D16: =SUM(D8:D15) -> 2.2718632e+08 | E16: =SUM(B16:D16) -> 6.0813476e+08
A22: PRESIDENTE MUNICIPAL
A28: LIC. MARCO ADÁN QUEZADA MARTÍNEZ
