Workbook

Sheet I. Parametros Grales
B2: PROYECTO DE GESTIÓN INTEGRAL DE RESIDUOS PARA EL MUNICIPIO DE CHIHUAHUA
B4: Parametros Generales
B6: Tabla 1. Parámetros del Proyecto
B7: Días al año | C7: 365
B8: Semanas al año | C8: =+C7/7 -> 52.142857
B9: Tasa social de descuento | C9: 0.1
B10: Año Base | C10: 2024
B11: Horizonte de Evaluación (años) | C11: 40
B12: Fuente: Estudio Diagnóstico
B14: Tabla 2. Datos Básicos de la Estación de Transferencia (ET) y PSTRS
B15: Concepto | C15: Unidad | D15: Cantidad
B16: Número de turnos ET | C16: # | D16: 1
B17: Horas por turno E. Transf. | C17: h | D17: 8
B18: Número de turnos PSTRS | C18: # | D18: 2
B19: Horas por turno PSTRS | C19: h | D19: 8
B20: Días por semana (ET y PSTRS) | C20: días | D20: 6
B21: Horas por semana ET | C21: h/semana | D21: =+D16*D17*D20 -> 48
B22: Horas por Semana PSTRS | C22: h/semana | D22: =+D18*D19*D20 -> 96
B23: Capacidad nominal de equipo de compactación ET | C23: t/h | D23: 140
B24: Costo promedio del diesel | C24: lto | D24: 23.72 | E24: Fuente: Precios Promedio Chihuahua acorde a información compartida por la Comisión Reguladora de Energía y reportados en www.gasolinamexico.com.mx (A Febrero 2024)
B25: Costo promedio de la gasolina | C25: lto | D25: 22.34 | E25: Fuente: Precios Promedio Chihuahua acorde a información compartida por la Comisión Reguladora de Energía y reportados en www.gasolinamexico.com.mx (A Febrero 2024)
B26: Costo lubricantes sobre el costo del diésel | C26: % | D26: 0.2 | E26: Fuente: | F26: Parámetrico utilizado por el consultor de acuerdo con estimaciones de usuarios de maquinaria consultados, incluye (Aceite, filtros, etc.)
B27: Tarifa de EE en media tensión TARIFA GDMTH base (HM) | C27: $/kW-h | D27: 1.0362 | E27: Fuente: | F27: Pagina de CFE a enero del 2024 | H27: app.cfe.mx/Aplicaciones/CCFE/Tarifas/TarifasCRENegocio/Tarifas/GranDemandaMTH.aspx
B28: Tarifa de EE en media tensión TARIFA GDMTH intermedia (HM) | C28: $/kW-h | D28: 1.6532 | E28: Fuente: | F28: Pagina de CFE a enero del 2024 | H28: app.cfe.mx/Aplicaciones/CCFE/Tarifas/TarifasCRENegocio/Tarifas/GranDemandaMTH.aspx
B29: Tarifa de EE en media tensión TARIFA GDMTH punta (HM) | C29: $/kW-h | D29: 1.9362 | E29: Fuente: | F29: Pagina de CFE a enero del 2024 | H29: app.cfe.mx/Aplicaciones/CCFE/Tarifas/TarifasCRENegocio/Tarifas/GranDemandaMTH.aspx
B30: Tarifa de EE en media tensión TARIFA GDMTH promedio ponderado (HM) ET | C30: $/kW-h | D30: =(C57*C45+J54*C54)/12 -> 1.6689632 | E30: Fuente: | F30: Ver cálculos
B31: Tarifa de EE en media tensión TARIFA GDMTH promedio ponderado (HM) PSTRS | C31: $/kW-h | D31: =+(C45*J46+C54*J55)/12 -> 1.6802226 | E31: Fuente: | F31: Ver cálculos
B32: Distribución | C32: $/kW | D32: 75.79 | E32: Fuente: | F32: Pagina de CFE a enero del 2024 | H32: app.cfe.mx/Aplicaciones/CCFE/Tarifas/TarifasCRENegocio/Tarifas/GranDemandaMTH.aspx
B33: Capacidad | C33: $/kW | D33: 410.85 | E33: Fuente: | F33: Pagina de CFE a enero del 2024 | H33: app.cfe.mx/Aplicaciones/CCFE/Tarifas/TarifasCRENegocio/Tarifas/GranDemandaMTH.aspx
B34: Costos de Distribución + Capacidad respecto al Consumo | C34: % | D34: =+E72+G61 -> 0.44248767 | E34: Fuente: | F34: Estimación conservadora del consultor, incluye cargos de distribución y capacidad (35% de la tarifa punta)
B35: Fuente: Estudio Diagnóstico
B37: Regiones Central, Noreste, Noroeste, Norte, Peninsular y Sur | F37: TARIFAS y Horarios Tarifa de EE en media tensión TARIFA GDMTH (HM) por Segmento Tarifario
F38: BASE | G38: INTERMEDIO | H38: PUNTA | I38: PROMEDIO
B39: Del primer domingo de abril al sábado anterior al último domingo de octubre
B40: Lunes a Viernes | F40: 0:00 - 6:00 | G40: 6:00 - 20:00 | H40: 20:00 - 22:00
G41: 22:00 - 24:00
B42: Sabado | F42: 0:00 - 7:00 | G42: 7:00 - 24:00
B43: Domingo y festivo | F43: 0:00 - 19:00 | G43: 19:00 - 24:00
E44: TARIFA | F44: =+D27 -> 1.0362 | G44: =+D28 -> 1.6532 | H44: =+D29 -> 1.9362
B45: Número de meses | C45: 7 | D45: ET | E45: # horas/semana | F45: 0 | G45: =8*6 -> 48 | H45: 0 | I45: =+SUM(F45:H45) -> 48 | J45: =+(F45*F44+G44*G45+H44*H45)/I45 -> 1.6532 | K45: HORARIO DE 08:00 - 16:00
...

Sheet I.1 Proyecciones Población
B2: PROYECTO DE GESTIÓN INTEGRAL DE RESIDUOS PARA EL MUNICIPIO DE CHIHUAHUA
B4: Proyecciones Población Municipal
B7: Tabla 1. Numero de Habitantes, INEGI 2020
B8: Municipio | C8: Número de Habitantes
B9: Chihuahua | C9: 937674
B10: Aldama | C10: 26047
B11: Aquiles Serdan | C11: 24344
B12: Total | C12: =+SUM(C9:C11) -> 988065
B13: Fuente: Censo Poblacional 2020
B15: Tabla 2. Proyección del Crecimiento Poblacional en la Zona de Estudio
B16: Tiempo | D16: Factor de crecimiento poblacional total CONAPO para el estado de Chihuahua | F16: Población Habitantes a mitad de año
B17: t | C17: Año | D17: Periodo % | E17: Acumulado % | F17: Chihuahua | G17: Aldama | H17: Aquiles Serdán | I17: Total
B18: -4 | C18: 2020 | D18: 0 | E18: 1 | F18: =+C9 -> 937674 | G18: =+C10 -> 26047 | H18: =+C11 -> 24344 | I18: =+SUM(F18:H18) -> 988065
B19: -3 | C19: 2021 | D19: =+D68 -> 0.0094177432 | E19: =+E18*(1+D19) -> 1.0094177 | F19: =+$F$18*E19 -> 946504.77 | G19: =+$G$18*E19 -> 26292.304 | H19: =+$H$18*E19 -> 24573.266 | I19: =+SUM(F19:H19) -> 997370.34
B20: -2 | C20: 2022 | D20: =+D69 -> 0.011172722 | E20: =+E19*(1+D20) -> 1.0206957 | F20: =+$F$18*E20 -> 957079.81 | G20: =+$G$18*E20 -> 26586.061 | H20: =+$H$18*E20 -> 24847.816 | I20: =+SUM(F20:H20) -> 1008513.7
B21: -1 | C21: 2023 | D21: =+D70 -> 0.01290222 | E21: =+E20*(1+D21) -> 1.0338649 | F21: =+$F$18*E21 -> 969428.26 | G21: =+$G$18*E21 -> 26929.08 | H21: =+$H$18*E21 -> 25168.408 | I21: =+SUM(F21:H21) -> 1021525.7
B22: 0 | C22: 2024 | D22: =+D71 -> 0.012578567 | E22: =+E21*(1+D22) -> 1.0468695 | F22: =+$F$18*E22 -> 981622.28 | G22: =+$G$18*E22 -> 27267.809 | H22: =+$H$18*E22 -> 25484.99 | I22: =+SUM(F22:H22) -> 1034375.1
B23: 1 | C23: 2025 | D23: =+D72 -> 0.012030881 | E23: =+E22*(1+D23) -> 1.0594642 | F23: =+$F$18*E23 -> 993432.06 | G23: =+$G$18*E23 -> 27595.865 | H23: =+$H$18*E23 -> 25791.597 | I23: =+SUM(F23:H23) -> 1046819.5
B24: 2 | C24: 2026 | D24: =+D73 -> 0.011310057 | E24: =+E23*(1+D24) -> 1.0714468 | F24: =+$F$18*E24 -> 1004667.8 | G24: =+$G$18*E24 -> 27907.976 | H24: =+$H$18*E24 -> 26083.302 | I24: =+SUM(F24:H24) -> 1058659.1
B25: 3 | C25: 2027 | D25: =+D74 -> 0.01054361 | E25: =+E24*(1+D25) -> 1.0827437 | F25: =+$F$18*E25 -> 1015260.7 | G25: =+$G$18*E25 -> 28202.226 | H25: =+$H$18*E25 -> 26358.314 | I25: =+SUM(F25:H25) -> 1069821.2
B26: 4 | C26: 2028 | D26: =+D75 -> 0.0097935038 | E26: =+E25*(1+D26) -> 1.0933476 | F26: =+$F$18*E26 -> 1025203.6 | G26: =+$G$18*E26 -> 28478.425 | H26: =+$H$18*E26 -> 26616.454 | I26: =+SUM(F26:H26) -> 1080298.5
B27: 5 | C27: 2029 | D27: =+D76 -> 0.0091154869 | E27: =+E26*(1+D27) -> 1.103314 | F27: =+$F$18*E27 -> 1034548.8 | G27: =+$G$18*E27 -> 28738.02 | H27: =+$H$18*E27 -> 26859.076 | I27: =+SUM(F27:H27) -> 1090145.9
B28: 6 | C28: 2030 | D28: =+D77 -> 0.0085454224 | E28: =+E27*(1+D28) -> 1.1127423 | F28: =+$F$18*E28 -> 1043389.5 | G28: =+$G$18*E28 -> 28983.598 | H28: =+$H$18*E28 -> 27088.598 | I28: =+SUM(F28:H28) -> 1099461.7
B29: 7 | C29: 2031 | D29: =+D78 -> 0.0080832079 | E29: =+E28*(1+D29) -> 1.1217368 | F29: =+$F$18*E29 -> 1051823.4 | G29: =+$G$18*E29 -> 29217.879 | H29: =+$H$18*E29 -> 27307.561 | I29: =+SUM(F29:H29) -> 1108348.9
B30: 8 | C30: 2032 | D30: =+D79 -> 0.0077153428 | E30: =+E29*(1+D30) -> 1.1303914 | F30: =+$F$18*E30 -> 1059938.6 | G30: =+$G$18*E30 -> 29443.305 | H30: =+$H$18*E30 -> 27518.248 | I30: =+SUM(F30:H30) -> 1116900.2
... B61: 39 | C61: 2063 | D61: =+D110 -> -0.0021252251 | E61: =+E60*(1+D61) -> 1.2260764 | F61: =+$F$18*E61 -> 1149660 | G61: =+$G$18*E61 -> 31935.613 | H61: =+$H$18*E61 -> 29847.605 | I61: =+SUM(F61:H61) -> 1211443.2
B62: Fuente: Elaboración propia con datos de la CONAPO, Proyecciones poblacionales al año 2070
B65: Tabla 3. Proyección del Crecimiento Poblacional en el Estado de Chihuahua
B66: Año | C66: Población | D66: Tasa de Crecimiento
B67: 2020 | C67: 3794752 | D67: -
B68: 2021 | C68: 3830490 | D68: =+(C68-C67)/C67 -> 0.0094177432
B69: 2022 | C69: 3873287 | D69: =+(C69-C68)/C68 -> 0.011172722
B70: 2023 | C70: 3923261 | D70: =+(C70-C69)/C69 -> 0.01290222
B71: 2024 | C71: 3972610 | D71: =+(C71-C70)/C70 -> 0.012578567
B72: 2025 | C72: 4020404 | D72: =+(C72-C71)/C71 -> 0.012030881
B73: 2026 | C73: 4065875 | D73: =+(C73-C72)/C72 -> 0.011310057
B74: 2027 | C74: 4108744 | D74: =+(C74-C73)/C73 -> 0.01054361
B75: 2028 | C75: 4148983 | D75: =+(C75-C74)/C74 -> 0.0097935038
B76: 2029 | C76: 4186803 | D76: =+(C76-C75)/C75 -> 0.0091154869
B77: 2030 | C77: 4222581 | D77: =+(C77-C76)/C76 -> 0.0085454224
...

Sheet II. Caracterizacion RSU
B2: PROYECTO DE GESTIÓN INTEGRAL DE RESIDUOS PARA EL MUNICIPIO DE CHIHUAHUA
B4: Caracterización y Composición de Residuos
B6: Tabla 1. Caracterización de RSU y RME (año base: 2023/365 días) | F6: =+H6-G42 -> 1133.1476 | H6: =+E54 -> 1148.7476 | J6: =+H6='III. Sit. Actual O-D'!S12 -> TRUE
B7: SUBPRODUCTO | C7: % Global sin RME específico | D7: Clase de Residuo | E7: Tipo de Residuo | F7: Toneladas al dia sin RME específicos | G7: RME especificos | H7: Toneladas totales | I7: %Global con RME especifico
B8: Residuos Alimenticios | C8: 0.1511 | D8: Orgánico | E8: Residuos alimenticios | F8: =+$F$6*C8 -> 171.2186 | G8: 6.72 | H8: =+F8+G8 -> 177.9386 | I8: =+H8/$H$6 -> 0.15489791
B9: Residuos de jardinería | C9: 0.034 | D9: Orgánico | E9: Residuos de jardinería | F9: =+$F$6*C9 -> 38.527018 | H9: =+F9+G9 -> 38.527018 | I9: =+H9/$H$6 -> 0.03353828
B10: Hueso | C10: 0.0023 | D10: Orgánico | E10: Otros | F10: =+$F$6*C10 -> 2.6062395 | H10: =+F10+G10 -> 2.6062395 | I10: =+H10/$H$6 -> 0.002268766
B11: Fibra dura vegetal | C11: 0 | D11: Orgánico | E11: Otros | F11: =+$F$6*C11 -> 0 | H11: =+F11+G11 -> 0 | I11: =+H11/$H$6 -> 0
B12: Papel | C12: 0.0418 | D12: Inorg. Recuperable | E12: Papel y Cartón | F12: =+$F$6*C12 -> 47.365569 | H12: =+F12+G12 -> 47.365569 | I12: =+H12/$H$6 -> 0.041232356
B13: Cartón | C13: 0.0858 | D13: Inorg. Recuperable | E13: Papel y Cartón | F13: =+$F$6*C13 -> 97.224063 | H13: =+F13+G13 -> 97.224063 | I13: =+H13/$H$6 -> 0.084634835
B14: Envase de cartón encerado | C14: 0 | D14: Inorg. Recuperable | E14: Papel y Cartón | F14: =+$F$6*C14 -> 0 | H14: =+F14+G14 -> 0 | I14: =+H14/$H$6 -> 0
B15: Tetrapack | C15: 0.014 | D15: Inorg. Recuperable | E15: Papel y Cartón | F15: =+$F$6*C15 -> 15.864066 | H15: =+F15+G15 -> 15.864066 | I15: =+H15/$H$6 -> 0.01380988
B16: Plástico rígido | C16: 0.0707 | D16: Inorg. Recuperable | E16: Plástico | F16: =+$F$6*C16 -> 80.113534 | H16: =+F16+G16 -> 80.113534 | I16: =+H16/$H$6 -> 0.069739894
B17: Plástico ligero | C17: 0.097 | D17: Inorg. Recuperable | E17: Plástico | F17: =+$F$6*C17 -> 109.91532 | H17: =+F17+G17 -> 109.91532 | I17: =+H17/$H$6 -> 0.095682739
B18: PET | C18: 0.0667 | D18: Inorg. Recuperable | E18: Plástico | F18: =+$F$6*C18 -> 75.580944 | H18: =+F18+G18 -> 75.580944 | I18: =+H18/$H$6 -> 0.065794214
B19: Vidrio de color | C19: 0.0097 | D19: Inorg. Recuperable | E19: Vidrio | F19: =+$F$6*C19 -> 10.991532 | H19: =+F19+G19 -> 10.991532 | I19: =+H19/$H$6 -> 0.0095682739
B20: Vidrio trasparente | C20: 0.0323 | D20: Inorg. Recuperable | E20: Vidrio | F20: =+$F$6*C20 -> 36.600667 | H20: =+F20+G20 -> 36.600667 | I20: =+H20/$H$6 -> 0.031861366
... B35: Cuero | C35: 0.0007 | D35: Inorg. No Recup. | E35: Otros | F35: =+$F$6*C35 -> 0.79320331 | H35: =+F35+G35 -> 0.79320331 | I35: =+H35/$H$6 -> 0.000690494
B36: Material de construcción | C36: 0.0007 | D36: Inorg. No Recup. | E36: Otros | F36: =+$F$6*C36 -> 0.79320331 | G36: 4.41 | H36: =+F36+G36 -> 5.2032033 | I36: =+H36/$H$6 -> 0.0045294574
B37: Loza y cerámica | C37: 0.0021 | D37: Inorg. No Recup. | E37: Otros | F37: =+$F$6*C37 -> 2.3796099 | H37: =+F37+G37 -> 2.3796099 | I37: =+H37/$H$6 -> 0.002071482
B38: Poliuretano | C38: 0.0056 | D38: Inorg. No Recup. | E38: Otros | F38: =+$F$6*C38 -> 6.3456265 | H38: =+F38+G38 -> 6.3456265 | I38: =+H38/$H$6 -> 0.005523952
B39: Hule | C39: 0.0042 | D39: Inorg. No Recup. | E39: Otros | F39: =+$F$6*C39 -> 4.7592199 | G39: 2.98 | H39: =+F39+G39 -> 7.7392199 | I39: =+H39/$H$6 -> 0.0067370935
B40: Otros | C40: 0.0508 | D40: Inorg. No Recup. | E40: Otros | F40: =+$F$6*C40 -> 57.563897 | G40: 1.49 | H40: =+F40+G40 -> 59.053897 | I40: =+H40/$H$6 -> 0.0514072
B41: Residuos Peligrosos | C41: 0.0039 | D41: Peligrosos | E41: Otros | F41: =+$F$6*C41 -> 4.4192756 | H41: =+F41+G41 -> 4.4192756 | I41: =+H41/$H$6 -> 0.003847038
B42: Total General | C42: =+SUM(C8:C41) -> 1 | F42: =+SUM(F8:F41) -> 1133.1476 | G42: 15.6 | H42: =F42+G42 -> 1148.7476 | I42: =+SUM(I8:I41) -> 1
B43: Fuente: Estudio Diagnóstico, Generación y Composición de los Residuos (2023) para el Proyecto Integral de Residuos para el municipio de Chihuahua
B45: Tabla 2. Índice de Generación Per Cápita (Año Base 2023)
B46: Tipo de Residuo | C46: Población | D46: kg/hab/día(365) | E46: Ton/día | F46: Ton/año
B47: RSU | C47: =+'I.1 Proyecciones Población'!I21 -> 1021525.7 | D47: 0.78 | E47: =+C47*D47/1000 -> 796.79008 | F47: =+E47*365 -> 290828.38
B48: RME | C48: =+'I.1 Proyecciones Población'!I21 -> 1021525.7 | D48: =+SUM(D49:D53) -> 0.344541 | E48: =+SUM(E49:E53) -> 351.9575 | F48: =+E48*365 -> 128464.49
B49: No Domésticos similares a Domésticos | D49: 0.329271 | E49: =+$C$48*D49/1000 -> 336.3588 | F49: =+E49*365 -> 122770.96
B50: Llantas | D50: 0.00289 | E50: =+$C$48*D50/1000 -> 2.9522094 | F50: =+E50*365 -> 1077.5564
B51: Escombros | D51: 0.0043 | E51: =+$C$48*D51/1000 -> 4.3925607 | F51: =+E51*365 -> 1603.2847
B52: Orgánicos | D52: 0.0066 | E52: =+$C$48*D52/1000 -> 6.7420699 | F52: =+E52*365 -> 2460.8555
B53: Inorgánicos | D53: 0.00148 | E53: =+$C$48*D53/1000 -> 1.5118581 | F53: =+E53*365 -> 551.82821
B54: Total | D54: =+SUM(D47:D48) -> 1.124541 | E54: =+SUM(E47:E48) -> 1148.7476 | F54: =+SUM(F47:F48) -> 419292.87
B55: Fuente: Elaboración Propia con información con base en Estudio de Taras y Pesajes y con las Proyecciones de CONAPO.
B57: Tabla 3. Residuos Totales
B58: Clase de Residuo | C58: Ton/día | D58: Porcentaje
B59: Inorgánico no Recuperable | C59: =+F25+F26+F27+F28+F29+F30+F31+F32+F33+F34+F35+F36+F37+F38+F39+F40+G36+G39+G40 -> 425.08511 | D59: =+C59/$C$63 -> 0.37004222
...

Sheet III. Sit. Actual O-D
B2: PROYECTO DE GESTIÓN INTEGRAL DE RESIDUOS PARA EL MUNICIPIO DE CHIHUAHUA
B4: Proyección de la Población y Demanda en Situación Actual
B6: Tabla 1. Proyección de la Demanda en la Situación Actual
B7: Tiempo | D7: Factor de crecimiento poblacional total CONAPO para el estado de Chihuahua | F7: Población Habitantes a mitad de año | J7: Generación RSU | N7: Generación RME | R7: Generación RS = RSU + RME | Y7: Ver Nota 1
B8: t | C8: Año | D8: Periodo | E8: Acumulado | F8: Chihuahua | G8: Aldama | H8: Aquiles Serdán | I8: Total | J8: Producción Per Cápita RSU (k/hab.día) | K8: Masa RSU (T/día) | L8: Masa RSU (T/día hábil) | M8: Masa RSU (T/año) | N8: Producción Per Cápita RME (k/hab.día) | O8: Masa RME (T/día) | P8: Masa RME (T/día hábil) | Q8: Masa RME (T/año) | R8: Producción Per Cápita RS (k/hab.día) | S8: Masa RS (T/día) | T8: Masa RS (T/día hábil) | U8: Masa RS (T/año) | V8: RSU (m3/año) | W8: RME (m3/año) | X8: Total (m3/año) | Y8: Volumen Efectivo Confinado (m3/año)
B9: -4 | C9: 2020 | D9: =+'I.1 Proyecciones Población'!D18 -> 0 | E9: 1 | F9: 937674 | G9: 26047 | H9: 24344 | I9: =SUM(F9:H9) -> 988065 | J9: =+'II. Caracterizacion RSU'!D47 -> 0.78 | K9: =+I9*J9/1000 -> 770.6907 | L9: =+K9*365/'I. Parametros Grales'!$C$81 -> 901.60931 | M9: =+J9*$I9*365/1000 -> 281302.11 | N9: =+'II. Caracterizacion RSU'!D48 -> 0.344541 | O9: =+I9*N9/1000 -> 340.4289 | P9: =+O9*365/'I. Parametros Grales'!$C$81 -> 398.25817 | Q9: =+N9*$I9*365/1000 -> 124256.55 | R9: =+J9+N9 -> 1.124541 | S9: =+K9+O9 -> 1111.1196 | T9: =+L9+P9 -> 1299.8675 | U9: =+M9+Q9 -> 405558.66
B10: -3 | C10: 2021 | D10: =+'I.1 Proyecciones Población'!D19 -> 0.0094177432 | E10: =+E9*(1+D10) -> 1.0094177 | F10: =+$F$9*E10 -> 946504.77 | G10: =+$G$9*E10 -> 26292.304 | H10: =+$H$9*E10 -> 24573.266 | I10: =SUM(F10:H10) -> 997370.34 | J10: =+J9 -> 0.78 | K10: =+I10*J10/1000 -> 777.94887 | L10: =+K10*365/'I. Parametros Grales'!$C$81 -> 910.10044 | M10: =+J10*$I10*365/1000 -> 283951.34 | N10: =+N9 -> 0.344541 | O10: =+I10*N10/1000 -> 343.63498 | P10: =+O10*365/'I. Parametros Grales'!$C$81 -> 402.00887 | Q10: =+N10*$I10*365/1000 -> 125426.77 | R10: =+J10+N10 -> 1.124541 | S10: =+K10+O10 -> 1121.5838 | T10: =+L10+P10 -> 1312.1093 | U10: =+M10+Q10 -> 409378.1
B11: -2 | C11: 2022 | D11: =+'I.1 Proyecciones Población'!D20 -> 0.011172722 | E11: =+E10*(1+D11) -> 1.0206957 | F11: =+$F$9*E11 -> 957079.81 | G11: =+$G$9*E11 -> 26586.061 | H11: =+$H$9*E11 -> 24847.816 | I11: =SUM(F11:H11) -> 1008513.7 | J11: =+J10 -> 0.78 | K11: =+I11*J11/1000 -> 786.64067 | L11: =+K11*365/'I. Parametros Grales'!$C$81 -> 920.26874 | M11: =+J11*$I11*365/1000 -> 287123.85 | N11: =+N10 -> 0.344541 | O11: =+I11*N11/1000 -> 347.47431 | P11: =+O11*365/'I. Parametros Grales'!$C$81 -> 406.5004 | Q11: =+N11*$I11*365/1000 -> 126828.12 | R11: =+J11+N11 -> 1.124541 | S11: =+K11+O11 -> 1134.115 | T11: =+L11+P11 -> 1326.7691 | U11: =+M11+Q11 -> 413951.97
B12: -1 | C12: 2023 | D12: =+'I.1 Proyecciones Población'!D21 -> 0.01290222 | E12: =+E11*(1+D12) -> 1.0338649 | F12: =+$F$9*E12 -> 969428.26 | G12: =+$G$9*E12 -> 26929.08 | H12: =+$H$9*E12 -> 25168.408 | I12: =SUM(F12:H12) -> 1021525.7 | J12: =+J11 -> 0.78 | K12: =+I12*J12/1000 -> 796.79008 | L12: =+K12*365/'I. Parametros Grales'!$C$81 -> 932.14225 | M12: =+J12*$I12*365/1000 -> 290828.38 | N12: =+N11 -> 0.344541 | O12: =+I12*N12/1000 -> 351.9575 | P12: =+O12*365/'I. Parametros Grales'!$C$81 -> 411.74516 | Q12: =+N12*$I12*365/1000 -> 128464.49 | R12: =+J12+N12 -> 1.124541 | S12: =+K12+O12 -> 1148.7476 | T12: =+L12+P12 -> 1343.8874 | U12: =+M12+Q12 -> 419292.87 | V12: =+M12*1000/'I. Parametros Grales'!$C$145 -> 415469.12 | W12: =+Q12*1000/'I. Parametros Grales'!$C$145 -> 183520.7 | X12: =+U12*1000/'I. Parametros Grales'!$C$145 -> 598989.81 | Y12: =+X12*'I. Parametros Grales'!$C$149*'I. Parametros Grales'!$C$148 -> 756300.27
B13: 0 | C13: 2024 | D13: =+'I.1 Proyecciones Población'!D22 -> 0.012578567 | E13: =+E12*(1+D13) -> 1.0468695 | F13: =+$F$9*E13 -> 981622.28 | G13: =+$G$9*E13 -> 27267.809 | H13: =+$H$9*E13 -> 25484.99 | I13: =SUM(F13:H13) -> 1034375.1 | J13: =+J12 -> 0.78 | K13: =+I13*J13/1000 -> 806.81256 | L13: =+K13*365/'I. Parametros Grales'!$C$81 -> 943.86726 | M13: =+J13*$I13*365/1000 -> 294486.58 | N13: =+N12 -> 0.344541 | O13: =+I13*N13/1000 -> 356.38462 | P13: =+O13*365/'I. Parametros Grales'!$C$81 -> 416.92432 | Q13: =+N13*$I13*365/1000 -> 130080.39 | R13: =+J13+N13 -> 1.124541 | S13: =+K13+O13 -> 1163.1972 | T13: =+L13+P13 -> 1360.7916 | U13: =+M13+Q13 -> 424566.97 | V13: =+M13*1000/'I. Parametros Grales'!$C$145 -> 420695.12 | W13: =+Q13*1000/'I. Parametros Grales'!$C$145 -> 185829.13 | X13: =+U13*1000/'I. Parametros Grales'!$C$145 -> 606524.25 | Y13: =+X13*'I. Parametros Grales'!$C$149*'I. Parametros Grales'!$C$148 -> 765813.44 | Z13: =+X13*0.25 -> 151631.06
B14: 1 | C14: 2025 | D14: =+'I.1 Proyecciones Población'!D23 -> 0.012030881 | E14: =+E13*(1+D14) -> 1.0594642 | F14: =+$F$9*E14 -> 993432.06 | G14: =+$G$9*E14 -> 27595.865 | H14: =+$H$9*E14 -> 25791.597 | I14: =SUM(F14:H14) -> 1046819.5 | J14: =+J13 -> 0.78 | K14: =+I14*J14/1000 -> 816.51923 | L14: =+K14*365/'I. Parametros Grales'!$C$81 -> 955.22281 | M14: =+J14*$I14*365/1000 -> 298029.52 | N14: =+N13 -> 0.344541 | O14: =+I14*N14/1000 -> 360.67225 | P14: =+O14*365/'I. Parametros Grales'!$C$81 -> 421.94029 | Q14: =+N14*$I14*365/1000 -> 131645.37 | R14: =+J14+N14 -> 1.124541 | S14: =+K14+O14 -> 1177.1915 | T14: =+L14+P14 -> 1377.1631 | U14: =+M14+Q14 -> 429674.89 | V14: =+M14*1000/'I. Parametros Grales'!$C$145 -> 425756.45 | W14: =+Q14*1000/'I. Parametros Grales'!$C$145 -> 188064.81 | X14: =+U14*1000/'I. Parametros Grales'!$C$145 -> 613821.27 | Y14: =+X14*'I. Parametros Grales'!$C$149*'I. Parametros Grales'!$C$148 -> 775026.85 | Z14: =+X14*0.25 -> 153455.32
B15: 2 | C15: 2026 | D15: =+'I.1 Proyecciones Población'!D24 -> 0.011310057 | E15: =+E14*(1+D15) -> 1.0714468 | F15: =+$F$9*E15 -> 1004667.8 | G15: =+$G$9*E15 -> 27907.976 | H15: =+$H$9*E15 -> 26083.302 | I15: =SUM(F15:H15) -> 1058659.1 | J15: =+J14 -> 0.78 | K15: =+I15*J15/1000 -> 825.75411 | L15: =+K15*365/'I. Parametros Grales'!$C$81 -> 966.02644 | M15: =+J15*$I15*365/1000 -> 301400.25 | N15: =+N14 -> 0.344541 | O15: =+I15*N15/1000 -> 364.75147 | P15: =+O15*365/'I. Parametros Grales'!$C$81 -> 426.71246 | Q15: =+N15*$I15*365/1000 -> 133134.29 | R15: =+J15+N15 -> 1.124541 | S15: =+K15+O15 -> 1190.5056 | T15: =+L15+P15 -> 1392.7389 | U15: =+M15+Q15 -> 434534.54 | V15: =+M15*1000/'I. Parametros Grales'!$C$145 -> 430571.78 | W15: =+Q15*1000/'I. Parametros Grales'!$C$145 -> 190191.84 | X15: =+U15*1000/'I. Parametros Grales'!$C$145 -> 620763.62 | Y15: =+X15*'I. Parametros Grales'!$C$149*'I. Parametros Grales'!$C$148 -> 783792.45 | Z15: =+X15*0.25 -> 155190.91
B16: 3 | C16: 2027 | D16: =+'I.1 Proyecciones Población'!D25 -> 0.01054361 | E16: =+E15*(1+D16) -> 1.0827437 | F16: =+$F$9*E16 -> 1015260.7 | G16: =+$G$9*E16 -> 28202.226 | H16: =+$H$9*E16 -> 26358.314 | I16: =SUM(F16:H16) -> 1069821.2 | J16: =+J15 -> 0.78 | K16: =+I16*J16/1000 -> 834.46054 | L16: =+K16*365/'I. Parametros Grales'!$C$81 -> 976.21185 | M16: =+J16*$I16*365/1000 -> 304578.1 | N16: =+N15 -> 0.344541 | O16: =+I16*N16/1000 -> 368.59727 | P16: =+O16*365/'I. Parametros Grales'!$C$81 -> 431.21155 | Q16: =+N16*$I16*365/1000 -> 134538 | R16: =+J16+N16 -> 1.124541 | S16: =+K16+O16 -> 1203.0578 | T16: =+L16+P16 -> 1407.4234 | U16: =+M16+Q16 -> 439116.1 | V16: =+M16*1000/'I. Parametros Grales'!$C$145 -> 435111.57 | W16: =+Q16*1000/'I. Parametros Grales'!$C$145 -> 192197.15 | X16: =+U16*1000/'I. Parametros Grales'!$C$145 -> 627308.71 | Y16: =+X16*'I. Parametros Grales'!$C$149*'I. Parametros Grales'!$C$148 -> 792056.45 | Z16: =+X16*0.25 -> 156827.18
B17: 4 | C17: 2028 | D17: =+'I.1 Proyecciones Población'!D26 -> 0.0097935038 | E17: =+E16*(1+D17) -> 1.0933476 | F17: =+$F$9*E17 -> 1025203.6 | G17: =+$G$9*E17 -> 28478.425 | H17: =+$H$9*E17 -> 26616.454 | I17: =SUM(F17:H17) -> 1080298.5 | J17: =+J16 -> 0.78 | K17: =+I17*J17/1000 -> 842.63283 | L17: =+K17*365/'I. Parametros Grales'!$C$81 -> 985.77238 | M17: =+J17*$I17*365/1000 -> 307560.98 | N17: =+N16 -> 0.344541 | O17: =+I17*N17/1000 -> 372.20712 | P17: =+O17*365/'I. Parametros Grales'!$C$81 -> 435.43462 | Q17: =+N17*$I17*365/1000 -> 135855.6 | R17: =+J17+N17 -> 1.124541 | S17: =+K17+O17 -> 1214.84 | T17: =+L17+P17 -> 1421.207 | U17: =+M17+Q17 -> 443416.58 | V17: =+M17*1000/'I. Parametros Grales'!$C$145 -> 439372.83 | W17: =+Q17*1000/'I. Parametros Grales'!$C$145 -> 194079.43 | X17: =+U17*1000/'I. Parametros Grales'!$C$145 -> 633452.26 | Y17: =+X17*'I. Parametros Grales'!$C$149*'I. Parametros Grales'!$C$148 -> 799813.46 | Z17: =+X17*0.25 -> 158363.07
B18: 5 | C18: 2029 | D18: =+'I.1 Proyecciones Población'!D27 -> 0.0091154869 | E18: =+E17*(1+D18) -> 1.103314 | F18: =+$F$9*E18 -> 1034548.8 | G18: =+$G$9*E18 -> 28738.02 | H18: =+$H$9*E18 -> 26859.076 | I18: =SUM(F18:H18) -> 1090145.9 | J18: =+J17 -> 0.78 | K18: =+I18*J18/1000 -> 850.31384 | L18: =+K18*365/'I. Parametros Grales'!$C$81 -> 994.75818 | M18: =+J18*$I18*365/1000 -> 310364.55 | N18: =+N17 -> 0.344541 | O18: =+I18*N18/1000 -> 375.59997 | P18: =+O18*365/'I. Parametros Grales'!$C$81 -> 439.40382 | Q18: =+N18*$I18*365/1000 -> 137093.99 | R18: =+J18+N18 -> 1.124541 | S18: =+K18+O18 -> 1225.9138 | T18: =+L18+P18 -> 1434.162 | U18: =+M18+Q18 -> 447458.54 | V18: =+M18*1000/'I. Parametros Grales'!$C$145 -> 443377.93 | W18: =+Q18*1000/'I. Parametros Grales'!$C$145 -> 195848.56 | X18: =+U18*1000/'I. Parametros Grales'!$C$145 -> 639226.49 | Y18: =+X18*'I. Parametros Grales'!$C$149*'I. Parametros Grales'!$C$148 -> 807104.15 | Z18: =+X18*0.25 -> 159806.62
B19: 6 | C19: 2030 | D19: =+'I.1 Proyecciones Población'!D28 -> 0.0085454224 | E19: =+E18*(1+D19) -> 1.1127423 | F19: =+$F$9*E19 -> 1043389.5 | G19: =+$G$9*E19 -> 28983.598 | H19: =+$H$9*E19 -> 27088.598 | I19: =SUM(F19:H19) -> 1099461.7 | J19: =+J18 -> 0.78 | K19: =+I19*J19/1000 -> 857.58013 | L19: =+K19*365/'I. Parametros Grales'!$C$81 -> 1003.2588 | M19: =+J19*$I19*365/1000 -> 313016.75 | N19: =+N18 -> 0.344541 | O19: =+I19*N19/1000 -> 378.80963 | P19: =+O19*365/'I. Parametros Grales'!$C$81 -> 443.15871 | Q19: =+N19*$I19*365/1000 -> 138265.52 | R19: =+J19+N19 -> 1.124541 | S19: =+K19+O19 -> 1236.3898 | T19: =+L19+P19 -> 1446.4175 | U19: =+M19+Q19 -> 451282.26 | V19: =+M19*1000/'I. Parametros Grales'!$C$145 -> 447166.78 | W19: =+Q19*1000/'I. Parametros Grales'!$C$145 -> 197522.17 | X19: =+U19*1000/'I. Parametros Grales'!$C$145 -> 644688.95 | Y19: =+X19*'I. Parametros Grales'!$C$149*'I. Parametros Grales'!$C$148 -> 814001.2 | Z19: =+X19*0.25 -> 161172.24
B20: 7 | C20: 2031 | D20: =+'I.1 Proyecciones Población'!D29 -> 0.0080832079 | E20: =+E19*(1+D20) -> 1.1217368 | F20: =+$F$9*E20 -> 1051823.4 | G20: =+$G$9*E20 -> 29217.879 | H20: =+$H$9*E20 -> 27307.561 | I20: =SUM(F20:H20) -> 1108348.9 | J20: =+J19 -> 0.78 | K20: =+I20*J20/1000 -> 864.51213 | L20: =+K20*365/'I. Parametros Grales'!$C$81 -> 1011.3684 | M20: =+J20*$I20*365/1000 -> 315546.93 | N20: =+N19 -> 0.344541 | O20: =+I20*N20/1000 -> 381.87163 | P20: =+O20*365/'I. Parametros Grales'!$C$81 -> 446.74085 | Q20: =+N20*$I20*365/1000 -> 139383.15 | R20: =+J20+N20 -> 1.124541 | S20: =+K20+O20 -> 1246.3838 | T20: =+L20+P20 -> 1458.1092 | U20: =+M20+Q20 -> 454930.07 | V20: =+M20*1000/'I. Parametros Grales'!$C$145 -> 450781.32 | W20: =+Q20*1000/'I. Parametros Grales'!$C$145 -> 199118.78 | X20: =+U20*1000/'I. Parametros Grales'!$C$145 -> 649900.1 | Y20: =+X20*'I. Parametros Grales'!$C$149*'I. Parametros Grales'!$C$148 -> 820580.94 | Z20: =+X20*0.25 -> 162475.03
B21: 8 | C21: 2032 | D21: =+'I.1 Proyecciones Población'!D30 -> 0.0077153428 | E21: =+E20*(1+D21) -> 1.1303914 | F21: =+$F$9*E21 -> 1059938.6 | G21: =+$G$9*E21 -> 29443.305 | H21: =+$H$9*E21 -> 27518.248 | I21: =SUM(F21:H21) -> 1116900.2 | J21: =+J20 -> 0.78 | K21: =+I21*J21/1000 -> 871.18213 | L21: =+K21*365/'I. Parametros Grales'!$C$81 -> 1019.1714 | M21: =+J21*$I21*365/1000 -> 317981.48 | N21: =+N20 -> 0.344541 | O21: =+I21*N21/1000 -> 384.8179 | P21: =+O21*365/'I. Parametros Grales'!$C$81 -> 450.18761 | Q21: =+N21*$I21*365/1000 -> 140458.53 | R21: =+J21+N21 -> 1.124541 | S21: =+K21+O21 -> 1256 | T21: =+L21+P21 -> 1469.359 | U21: =+M21+Q21 -> 458440.01 | V21: =+M21*1000/'I. Parametros Grales'!$C$145 -> 454259.26 | W21: =+Q21*1000/'I. Parametros Grales'!$C$145 -> 200655.05 | X21: =+U21*1000/'I. Parametros Grales'!$C$145 -> 654914.3 | Y21: =+X21*'I. Parametros Grales'!$C$149*'I. Parametros Grales'!$C$148 -> 826912 | Z21: =+X21*0.25 -> 163728.58
B22: 9 | C22: 2033 | D22: =+'I.1 Proyecciones Población'!D31 -> 0.007431307 | E22: =+E21*(1+D22) -> 1.1387917 | F22: =+$F$9*E22 -> 1067815.3 | G22: =+$G$9*E22 -> 29662.107 | H22: =+$H$9*E22 -> 27722.745 | I22: =SUM(F22:H22) -> 1125200.2 | J22: =+J21 -> 0.78 | K22: =+I22*J22/1000 -> 877.65616 | L22: =+K22*365/'I. Parametros Grales'!$C$81 -> 1026.7452 | M22: =+J22*$I22*365/1000 -> 320344.5 | N22: =+N21 -> 0.344541 | O22: =+I22*N22/1000 -> 387.6776 | P22: =+O22*365/'I. Parametros Grales'!$C$81 -> 453.53309 | Q22: =+N22*$I22*365/1000 -> 141502.32 | R22: =+J22+N22 -> 1.124541 | S22: =+K22+O22 -> 1265.3338 | T22: =+L22+P22 -> 1480.2783 | U22: =+M22+Q22 -> 461846.82 | V22: =+M22*1000/'I. Parametros Grales'!$C$145 -> 457635 | W22: =+Q22*1000/'I. Parametros Grales'!$C$145 -> 202146.18 | X22: =+U22*1000/'I. Parametros Grales'!$C$145 -> 659781.17 | Y22: =+X22*'I. Parametros Grales'!$C$149*'I. Parametros Grales'!$C$148 -> 833057.04 | Z22: =+X22*0.25 -> 164945.29
B23: 10 | C23: 2034 | D23: =+'I.1 Proyecciones Población'!D32 -> 0.0072230686 | E23: =+E22*(1+D23) -> 1.1470172 | F23: =+$F$9*E23 -> 1075528.3 | G23: =+$G$9*E23 -> 29876.358 | H23: =+$H$9*E23 -> 27922.988 | I23: =SUM(F23:H23) -> 1133327.6 | J23: =+J22 -> 0.78 | K23: =+I23*J23/1000 -> 883.99553 | L23: =+K23*365/'I. Parametros Grales'!$C$81 -> 1034.1614 | M23: =+J23*$I23*365/1000 -> 322658.37 | N23: =+N22 -> 0.344541 | O23: =+I23*N23/1000 -> 390.47782 | P23: =+O23*365/'I. Parametros Grales'!$C$81 -> 456.80899 | Q23: =+N23*$I23*365/1000 -> 142524.41 | R23: =+J23+N23 -> 1.124541 | S23: =+K23+O23 -> 1274.4734 | T23: =+L23+P23 -> 1490.9704 | U23: =+M23+Q23 -> 465182.77 | V23: =+M23*1000/'I. Parametros Grales'!$C$145 -> 460940.52 | W23: =+Q23*1000/'I. Parametros Grales'!$C$145 -> 203606.29 | X23: =+U23*1000/'I. Parametros Grales'!$C$145 -> 664546.82 | Y23: =+X23*'I. Parametros Grales'!$C$149*'I. Parametros Grales'!$C$148 -> 839074.27 | Z23: =+X23*0.25 -> 166136.7
B24: 11 | C24: 2035 | D24: =+'I.1 Proyecciones Población'!D33 -> 0.0070433019 | E24: =+E23*(1+D24) -> 1.155096 | F24: =+$F$9*E24 -> 1083103.5 | G24: =+$G$9*E24 -> 30086.786 | H24: =+$H$9*E24 -> 28119.658 | I24: =SUM(F24:H24) -> 1141310 | J24: =+J23 -> 0.78 | K24: =+I24*J24/1000 -> 890.22177 | L24: =+K24*365/'I. Parametros Grales'!$C$81 -> 1041.4453 | M24: =+J24*$I24*365/1000 -> 324930.95 | N24: =+N23 -> 0.344541 | O24: =+I24*N24/1000 -> 393.22808 | P24: =+O24*365/'I. Parametros Grales'!$C$81 -> 460.02644 | Q24: =+N24*$I24*365/1000 -> 143528.25 | R24: =+J24+N24 -> 1.124541 | S24: =+K24+O24 -> 1283.4499 | T24: =+L24+P24 -> 1501.4718 | U24: =+M24+Q24 -> 468459.2 | V24: =+M24*1000/'I. Parametros Grales'!$C$145 -> 464187.07 | W24: =+Q24*1000/'I. Parametros Grales'!$C$145 -> 205040.35 | X24: =+U24*1000/'I. Parametros Grales'!$C$145 -> 669227.42 | Y24: =+X24*'I. Parametros Grales'!$C$149*'I. Parametros Grales'!$C$148 -> 844984.12 | Z24: =+X24*0.25 -> 167306.86
... B52: 39 | C52: 2063 | D52: =+'I.1 Proyecciones Población'!D61 -> -0.0021252251 | E52: =+E51*(1+D52) -> 1.2260764 | F52: =+$F$9*E52 -> 1149660 | G52: =+$G$9*E52 -> 31935.613 | H52: =+$H$9*E52 -> 29847.605 | I52: =SUM(F52:H52) -> 1211443.2 | J52: =+J51 -> 0.78 | K52: =+I52*J52/1000 -> 944.92571 | L52: =+K52*365/'I. Parametros Grales'!$C$81 -> 1105.4419 | M52: =+J52*$I52*365/1000 -> 344897.88 | N52: =+N51 -> 0.344541 | O52: =+I52*N52/1000 -> 417.39186 | P52: =+O52*365/'I. Parametros Grales'!$C$81 -> 488.29496 | Q52: =+N52*$I52*365/1000 -> 152348.03 | R52: =+J52+N52 -> 1.124541 | S52: =+K52+O52 -> 1362.3176 | T52: =+L52+P52 -> 1593.7369 | U52: =+M52+Q52 -> 497245.91 | V52: =+M52*1000/'I. Parametros Grales'!$C$145 -> 492711.26 | W52: =+Q52*1000/'I. Parametros Grales'!$C$145 -> 217640.04 | X52: =+U52*1000/'I. Parametros Grales'!$C$145 -> 710351.3 | Y52: =+X52*'I. Parametros Grales'!$C$149*'I. Parametros Grales'!$C$148 -> 896908.21 | Z52: =+X52*0.25 -> 177587.82
B53: Fuente: Elaboración Propia | Z53: =+X53*0.25 -> 0
B54: Nota 1: Según se cita en la referencia “Landfill Manual” (Maccaferri SpA, Abril 2007) se recurre a un coeficiente adimensional de uso del relleno de 0.99 (Se acepta que coeficiente muy próximo a 1 es suficiente para tener en cuenta el manejo del relleno sanitario) Vef = Volumen de residuos depositados (m3/año) * Coeficiente eficiencia * Coeficiente capas intermedias Vef (m3/año) = V (m3/año) * ef * cp ef =Coeficiente de corrector de eficiencia en el vertido (ef = 1/ 0.99) cp = Proporción del volumen requerido para las capas intermedias de cubrición (cp = 1.2 – 1.25) MANUAL DE ESPECIFICACIONES TÉCNICAS PARA LA CONSTRUCCIÓN DE RELLENOS SANITARIOS PARA RESIDUOS SÓLIDOS URBANOS (RSU) Y RESIDUOS DE MANEJO ESPECIAL (RME) – SEMARNAT- CONTRATO DGRMIS-DAC-DGFAUT- No. 018/2009 Pag. 66 | Z54: =+X54*0.25 -> 0
B55: Interacción Oferta - Demanda | Z55: =+X55*0.25 -> 0
C57: Tabla 2. Interacción Oferta - Demanda Disposición Final
C58: Año | D58: Oferta (m3/año) | E58: Demanda de RS (m3/año) | F58: Demanda Efectiva para Confinamiento (m3/año) | G58: Interacción (m3/año) | H58: Déficit Acumulado (m3)
C59: 2024 | D59: 0 | E59: =+X13 -> 606524.25 | F59: =+Y13 -> 765813.44 | G59: =+F59-D59 -> 765813.44 | H59: =+G59 -> 765813.44
C60: 2025 | D60: 0 | E60: =+X14 -> 613821.27 | F60: =+Y14 -> 775026.85 | G60: =+F60-D60 -> 775026.85 | H60: =+G60+H59 -> 1540840.3
C61: 2026 | D61: 0 | E61: =+X15 -> 620763.62 | F61: =+Y15 -> 783792.45 | G61: =+F61-D61 -> 783792.45 | H61: =+G61+H60 -> 2324632.7
C62: 2027 | D62: 0 | E62: =+X16 -> 627308.71 | F62: =+Y16 -> 792056.45 | G62: =+F62-D62 -> 792056.45 | H62: =+G62+H61 -> 3116689.2
C63: 2028 | D63: 0 | E63: =+X17 -> 633452.26 | F63: =+Y17 -> 799813.46 | G63: =+F63-D63 -> 799813.46 | H63: =+G63+H62 -> 3916502.7
C64: 2029 | D64: 0 | E64: =+X18 -> 639226.49 | F64: =+Y18 -> 807104.15 | G64: =+F64-D64 -> 807104.15 | H64: =+G64+H63 -> 4723606.8
C65: 2030 | D65: 0 | E65: =+X19 -> 644688.95 | F65: =+Y19 -> 814001.2 | G65: =+F65-D65 -> 814001.2 | H65: =+G65+H64 -> 5537608
C66: 2031 | D66: 0 | E66: =+X20 -> 649900.1 | F66: =+Y20 -> 820580.94 | G66: =+F66-D66 -> 820580.94 | H66: =+G66+H65 -> 6358188.9
C67: 2032 | D67: 0 | E67: =+X21 -> 654914.3 | F67: =+Y21 -> 826912 | G67: =+F67-D67 -> 826912 | H67: =+G67+H66 -> 7185100.9
C68: 2033 | D68: 0 | E68: =+X22 -> 659781.17 | F68: =+Y22 -> 833057.04 | G68: =+F68-D68 -> 833057.04 | H68: =+G68+H67 -> 8018158
C69: 2034 | D69: 0 | E69: =+X23 -> 664546.82 | F69: =+Y23 -> 839074.27 | G69: =+F69-D69 -> 839074.27 | H69: =+G69+H68 -> 8857232.3
C70: 2035 | D70: 0 | E70: =+X24 -> 669227.42 | F70: =+Y24 -> 844984.12 | G70: =+F70-D70 -> 844984.12 | H70: =+G70+H69 -> 9702216.4
C71: 2036 | D71: 0 | E71: =+X25 -> 673831.69 | F71: =+Y25 -> 850797.59 | G71: =+F71-D71 -> 850797.59 | H71: =+G71+H70 -> 10553014
...

Sheet III.1 Recolección
B2: PROYECTO DE GESTIÓN INTEGRAL DE RESIDUOS PARA EL MUNICIPIO DE CHIHUAHUA
B4: Recolección Situación Actual
B6: Tabla 1. Unidades de Recolección Concesionadas
B7: Carga promedio por camión | C7: 5.8 | D7: Ton/viaje
B8: Cantidad | C8: 80 | D8: Unidades
B9: Viajes por día | C9: 113.89154 | D9: Viaje/Día
B10: Relación | C10: =C9/C8 -> 1.4236442 | D10: Viaje/Unidad
B11: Toneladas promedio | C11: =C7*C9 -> 660.57093 | D11: Ton/Día
B12: Fuente: Municipio de Chihuahua
B14: Tabla 2. Unidades de Recolección Municipales
B15: Carga promedio por camión | C15: 5.8 | D15: Ton/viaje
B16: Cantidad | C16: 48 | D16: Unidades
B17: Viajes por día | C17: 40 | D17: Viaje/Día
B18: Relación | C18: =C17/C16 -> 0.83333333 | D18: Viaje/Unidad/Día
B19: Toneladas promedio | C19: =+C17*C15 -> 232 | D19: Ton/Día
B20: Fuente: Municipio de Chihuahua
B21: Nota: Aunque el Municipio cuenta con 48 Unidades para la recolección, debido al mal estado de algunas unidades, en promedio al año, solo se pueden hacer en promedio 40 viajes por día.
B23: Tabla 3. Días Promedio de Recolección
B24: Días del Año | C24: 365
B25: Días Que no se Recolecta | C25: =+SUM(C26:C28) -> 56
B26: Domingos | C26: 52
B27: Navidad y Año Nuevo | C27: 2
B28: Semana Santa | C28: 2
B29: Días de Recolección | C29: =+C24-C25 -> 309
B30: Fuente: Municipio de Chihuahua
B32: Tabla 4. Oferta Actual (ton/año)
B33: Carga promedio por camión | C33: 5.8 | D33: Ton/viaje
B34: Cantidad | C34: =+C16+C8 -> 128 | D34: Unidades
B35: Viajes por día | C35: =+C17+C9 -> 153.89154 | D35: Viaje/Día
B36: Relación | C36: =C35/C34 -> 1.2022776 | D36: Viaje/Unidad | E36: Cobertura
B37: Toneladas promedio | C37: =+C19+C11 -> 892.57093 | D37: Ton/Día | E37: =+C37/'III. Sit. Actual O-D'!L13 -> 0.94565302
B38: Toneladas Totales (Oferta Actual) | C38: =+C37*C29 -> 275804.42 | D38: Ton/año
B39: Fuente: Municipio de Chihuahua
B41: Recolección Situación Optimizada
B43: Tabla 5. Unidades de Recolección Concesionadas (optimización)
B44: Carga promedio por camión | C44: 5.8 | D44: Ton/viaje
B45: Cantidad | C45: 80 | D45: Unidades
B46: Viajes por día | C46: 113.89154 | D46: Viaje/Día
B47: Relación | C47: =C46/C45 -> 1.4236442 | D47: Viaje/Unidad
B48: Toneladas promedio | C48: =C44*C46 -> 660.57093 | D48: Ton/Día
...

Sheet IV. Sit. Sin Proy O-D
B2: PROYECTO DE GESTIÓN INTEGRAL DE RESIDUOS PARA EL MUNICIPIO DE CHIHUAHUA
B4: Situación Sin Proyecto
B6: Oferta
B8: Tabla 1. Oferta Disposición Final
B9: Año | C9: Total (ton/día)
B10: 2024 | C10: 0
B11: 2025 | C11: 0
B12: 2026 | C12: 0
B13: 2027 | C13: 0
B14: 2028 | C14: 0
B15: 2029 | C15: 0
B16: 2030 | C16: 0
B17: 2031 | C17: 0
B18: 2032 | C18: 0
B19: 2033 | C19: 0
B20: 2034 | C20: 0
B21: 2035 | C21: 0
... B49: 2063 | C49: 0
B50: Fuente: Estudio Diagnóstico
B53: Demanda
B55: Tabla 3. Proyección de Generación de Residuos
B56: No | C56: Año | D56: Chihuahua | J56: Aldama | P56: Aquiles Serdan
D57: RSU (ton/día) | E57: RME (ton/día) | F57: Total (ton/día) | G57: RSU (ton/año) | H57: RME (ton/año) | I57: Total (ton/año) | J57: RSU (ton/día) | K57: RME (ton/día) | L57: Total (ton/día) | M57: RSU (ton/año) | N57: RME (ton/año) | O57: Total (ton/año) | P57: RSU (ton/día) | Q57: RME (ton/día) | R57: Total (ton/día) | S57: RSU (ton/año) | T57: RME (ton/año) | U57: Total (ton/año)
B58: 0 | C58: 2024 | D58: =+'I.1 Proyecciones Población'!F22*'II. Caracterizacion RSU'!$D$47/1000 -> 765.66538 | E58: =+'I.1 Proyecciones Población'!F22*'II. Caracterizacion RSU'!$D$48/1000 -> 338.20912 | F58: =+SUM(D58:E58) -> 1103.8745 | G58: =+D58*365 -> 279467.86 | H58: =+E58*365 -> 123446.33 | I58: =+SUM(G58:H58) -> 402914.19 | J58: =+'I.1 Proyecciones Población'!G22*'II. Caracterizacion RSU'!$D$47/1000 -> 21.268891 | K58: =+'I.1 Proyecciones Población'!G22*'II. Caracterizacion RSU'!$D$48/1000 -> 9.3948782 | L58: =+SUM(J58:K58) -> 30.663769 | M58: =+J58*365 -> 7763.1452 | N58: =+K58*365 -> 3429.1305 | O58: =+SUM(M58:N58) -> 11192.276 | P58: =+'I.1 Proyecciones Población'!H22*'II. Caracterizacion RSU'!$D$47/1000 -> 19.878292 | Q58: =+'I.1 Proyecciones Población'!H22*'II. Caracterizacion RSU'!$D$48/1000 -> 8.780624 | R58: =+SUM(P58:Q58) -> 28.658916 | S58: =+P58*365 -> 7255.5767 | T58: =+Q58*365 -> 3204.9278 | U58: =+SUM(S58:T58) -> 10460.505
B59: 1 | C59: 2025 | D59: =+'I.1 Proyecciones Población'!F23*'II. Caracterizacion RSU'!$D$47/1000 -> 774.87701 | E59: =+'I.1 Proyecciones Población'!F23*'II. Caracterizacion RSU'!$D$48/1000 -> 342.27808 | F59: =+SUM(D59:E59) -> 1117.1551 | G59: =+D59*365 -> 282830.11 | H59: =+E59*365 -> 124931.5 | I59: =+SUM(G59:H59) -> 407761.61 | J59: =+'I.1 Proyecciones Población'!G23*'II. Caracterizacion RSU'!$D$47/1000 -> 21.524775 | K59: =+'I.1 Proyecciones Población'!G23*'II. Caracterizacion RSU'!$D$48/1000 -> 9.5079068 | L59: =+SUM(J59:K59) -> 31.032681 | M59: =+J59*365 -> 7856.5427 | N59: =+K59*365 -> 3470.386 | O59: =+SUM(M59:N59) -> 11326.929 | P59: =+'I.1 Proyecciones Población'!H23*'II. Caracterizacion RSU'!$D$47/1000 -> 20.117446 | Q59: =+'I.1 Proyecciones Población'!H23*'II. Caracterizacion RSU'!$D$48/1000 -> 8.8862627 | R59: =+SUM(P59:Q59) -> 29.003708 | S59: =+P59*365 -> 7342.8677 | T59: =+Q59*365 -> 3243.4859 | U59: =+SUM(S59:T59) -> 10586.354
B60: 2 | C60: 2026 | D60: =+'I.1 Proyecciones Población'!F24*'II. Caracterizacion RSU'!$D$47/1000 -> 783.64091 | E60: =+'I.1 Proyecciones Población'!F24*'II. Caracterizacion RSU'!$D$48/1000 -> 346.14926 | F60: =+SUM(D60:E60) -> 1129.7902 | G60: =+D60*365 -> 286028.93 | H60: =+E60*365 -> 126344.48 | I60: =+SUM(G60:H60) -> 412373.41 | J60: =+'I.1 Proyecciones Población'!G24*'II. Caracterizacion RSU'!$D$47/1000 -> 21.768221 | K60: =+'I.1 Proyecciones Población'!G24*'II. Caracterizacion RSU'!$D$48/1000 -> 9.6154418 | L60: =+SUM(J60:K60) -> 31.383663 | M60: =+J60*365 -> 7945.4006 | N60: =+K60*365 -> 3509.6363 | O60: =+SUM(M60:N60) -> 11455.037 | P60: =+'I.1 Proyecciones Población'!H24*'II. Caracterizacion RSU'!$D$47/1000 -> 20.344975 | Q60: =+'I.1 Proyecciones Población'!H24*'II. Caracterizacion RSU'!$D$48/1000 -> 8.9867668 | R60: =+SUM(P60:Q60) -> 29.331742 | S60: =+P60*365 -> 7425.916 | T60: =+Q60*365 -> 3280.1699 | U60: =+SUM(S60:T60) -> 10706.086
B61: 3 | C61: 2027 | D61: =+'I.1 Proyecciones Población'!F25*'II. Caracterizacion RSU'!$D$47/1000 -> 791.90332 | E61: =+'I.1 Proyecciones Población'!F25*'II. Caracterizacion RSU'!$D$48/1000 -> 349.79892 | F61: =+SUM(D61:E61) -> 1141.7022 | G61: =+D61*365 -> 289044.71 | H61: =+E61*365 -> 127676.61 | I61: =+SUM(G61:H61) -> 416721.32 | J61: =+'I.1 Proyecciones Población'!G25*'II. Caracterizacion RSU'!$D$47/1000 -> 21.997737 | K61: =+'I.1 Proyecciones Población'!G25*'II. Caracterizacion RSU'!$D$48/1000 -> 9.7168233 | L61: =+SUM(J61:K61) -> 31.71456 | M61: =+J61*365 -> 8029.1739 | N61: =+K61*365 -> 3546.6405 | O61: =+SUM(M61:N61) -> 11575.814 | P61: =+'I.1 Proyecciones Población'!H25*'II. Caracterizacion RSU'!$D$47/1000 -> 20.559485 | Q61: =+'I.1 Proyecciones Población'!H25*'II. Caracterizacion RSU'!$D$48/1000 -> 9.0815198 | R61: =+SUM(P61:Q61) -> 29.641005 | S61: =+P61*365 -> 7504.2119 | T61: =+Q61*365 -> 3314.7547 | U61: =+SUM(S61:T61) -> 10818.967
B62: 4 | C62: 2028 | D62: =+'I.1 Proyecciones Población'!F26*'II. Caracterizacion RSU'!$D$47/1000 -> 799.65882 | E62: =+'I.1 Proyecciones Población'!F26*'II. Caracterizacion RSU'!$D$48/1000 -> 353.22468 | F62: =+SUM(D62:E62) -> 1152.8835 | G62: =+D62*365 -> 291875.47 | H62: =+E62*365 -> 128927.01 | I62: =+SUM(G62:H62) -> 420802.48 | J62: =+'I.1 Proyecciones Población'!G26*'II. Caracterizacion RSU'!$D$47/1000 -> 22.213171 | K62: =+'I.1 Proyecciones Población'!G26*'II. Caracterizacion RSU'!$D$48/1000 -> 9.811985 | L62: =+SUM(J62:K62) -> 32.025157 | M62: =+J62*365 -> 8107.8076 | N62: =+K62*365 -> 3581.3745 | O62: =+SUM(M62:N62) -> 11689.182 | P62: =+'I.1 Proyecciones Población'!H26*'II. Caracterizacion RSU'!$D$47/1000 -> 20.760834 | Q62: =+'I.1 Proyecciones Población'!H26*'II. Caracterizacion RSU'!$D$48/1000 -> 9.1704597 | R62: =+SUM(P62:Q62) -> 29.931294 | S62: =+P62*365 -> 7577.7045 | T62: =+Q62*365 -> 3347.2178 | U62: =+SUM(S62:T62) -> 10924.922
B63: 5 | C63: 2029 | D63: =+'I.1 Proyecciones Población'!F27*'II. Caracterizacion RSU'!$D$47/1000 -> 806.9481 | E63: =+'I.1 Proyecciones Población'!F27*'II. Caracterizacion RSU'!$D$48/1000 -> 356.4445 | F63: =+SUM(D63:E63) -> 1163.3926 | G63: =+D63*365 -> 294536.06 | H63: =+E63*365 -> 130102.24 | I63: =+SUM(G63:H63) -> 424638.3 | J63: =+'I.1 Proyecciones Población'!G27*'II. Caracterizacion RSU'!$D$47/1000 -> 22.415655 | K63: =+'I.1 Proyecciones Población'!G27*'II. Caracterizacion RSU'!$D$48/1000 -> 9.901426 | L63: =+SUM(J63:K63) -> 32.317081 | M63: =+J63*365 -> 8181.7142 | N63: =+K63*365 -> 3614.0205 | O63: =+SUM(M63:N63) -> 11795.735 | P63: =+'I.1 Proyecciones Población'!H27*'II. Caracterizacion RSU'!$D$47/1000 -> 20.950079 | Q63: =+'I.1 Proyecciones Población'!H27*'II. Caracterizacion RSU'!$D$48/1000 -> 9.2540529 | R63: =+SUM(P63:Q63) -> 30.204132 | S63: =+P63*365 -> 7646.7789 | T63: =+Q63*365 -> 3377.7293 | U63: =+SUM(S63:T63) -> 11024.508
B64: 6 | C64: 2030 | D64: =+'I.1 Proyecciones Población'!F28*'II. Caracterizacion RSU'!$D$47/1000 -> 813.84382 | E64: =+'I.1 Proyecciones Población'!F28*'II. Caracterizacion RSU'!$D$48/1000 -> 359.49046 | F64: =+SUM(D64:E64) -> 1173.3343 | G64: =+D64*365 -> 297052.99 | H64: =+E64*365 -> 131214.02 | I64: =+SUM(G64:H64) -> 428267.01 | J64: =+'I.1 Proyecciones Población'!G28*'II. Caracterizacion RSU'!$D$47/1000 -> 22.607207 | K64: =+'I.1 Proyecciones Población'!G28*'II. Caracterizacion RSU'!$D$48/1000 -> 9.9860379 | L64: =+SUM(J64:K64) -> 32.593245 | M64: =+J64*365 -> 8251.6304 | N64: =+K64*365 -> 3644.9038 | O64: =+SUM(M64:N64) -> 11896.534 | P64: =+'I.1 Proyecciones Población'!H28*'II. Caracterizacion RSU'!$D$47/1000 -> 21.129107 | Q64: =+'I.1 Proyecciones Población'!H28*'II. Caracterizacion RSU'!$D$48/1000 -> 9.3331327 | R64: =+SUM(P64:Q64) -> 30.462239 | S64: =+P64*365 -> 7712.1239 | T64: =+Q64*365 -> 3406.5934 | U64: =+SUM(S64:T64) -> 11118.717
B65: 7 | C65: 2031 | D65: =+'I.1 Proyecciones Población'!F29*'II. Caracterizacion RSU'!$D$47/1000 -> 820.42228 | E65: =+'I.1 Proyecciones Población'!F29*'II. Caracterizacion RSU'!$D$48/1000 -> 362.3963 | F65: =+SUM(D65:E65) -> 1182.8186 | G65: =+D65*365 -> 299454.13 | H65: =+E65*365 -> 132274.65 | I65: =+SUM(G65:H65) -> 431728.78 | J65: =+'I.1 Proyecciones Población'!G29*'II. Caracterizacion RSU'!$D$47/1000 -> 22.789945 | K65: =+'I.1 Proyecciones Población'!G29*'II. Caracterizacion RSU'!$D$48/1000 -> 10.066757 | L65: =+SUM(J65:K65) -> 32.856702 | M65: =+J65*365 -> 8318.3301 | N65: =+K65*365 -> 3674.3664 | O65: =+SUM(M65:N65) -> 11992.696 | P65: =+'I.1 Proyecciones Población'!H29*'II. Caracterizacion RSU'!$D$47/1000 -> 21.299897 | Q65: =+'I.1 Proyecciones Población'!H29*'II. Caracterizacion RSU'!$D$48/1000 -> 9.4085743 | R65: =+SUM(P65:Q65) -> 30.708472 | S65: =+P65*365 -> 7774.4626 | T65: =+Q65*365 -> 3434.1296 | U65: =+SUM(S65:T65) -> 11208.592
B66: 8 | C66: 2032 | D66: =+'I.1 Proyecciones Población'!F30*'II. Caracterizacion RSU'!$D$47/1000 -> 826.75212 | E66: =+'I.1 Proyecciones Población'!F30*'II. Caracterizacion RSU'!$D$48/1000 -> 365.19231 | F66: =+SUM(D66:E66) -> 1191.9444 | G66: =+D66*365 -> 301764.52 | H66: =+E66*365 -> 133295.19 | I66: =+SUM(G66:H66) -> 435059.72 | J66: =+'I.1 Proyecciones Población'!G30*'II. Caracterizacion RSU'!$D$47/1000 -> 22.965778 | K66: =+'I.1 Proyecciones Población'!G30*'II. Caracterizacion RSU'!$D$48/1000 -> 10.144426 | L66: =+SUM(J66:K66) -> 33.110203 | M66: =+J66*365 -> 8382.5088 | N66: =+K66*365 -> 3702.7153 | O66: =+SUM(M66:N66) -> 12085.224 | P66: =+'I.1 Proyecciones Población'!H30*'II. Caracterizacion RSU'!$D$47/1000 -> 21.464233 | Q66: =+'I.1 Proyecciones Población'!H30*'II. Caracterizacion RSU'!$D$48/1000 -> 9.4811647 | R66: =+SUM(P66:Q66) -> 30.945398 | S66: =+P66*365 -> 7834.4452 | T66: =+Q66*365 -> 3460.6251 | U66: =+SUM(S66:T66) -> 11295.07
B67: 9 | C67: 2033 | D67: =+'I.1 Proyecciones Población'!F31*'II. Caracterizacion RSU'!$D$47/1000 -> 832.89597 | E67: =+'I.1 Proyecciones Población'!F31*'II. Caracterizacion RSU'!$D$48/1000 -> 367.90617 | F67: =+SUM(D67:E67) -> 1200.8021 | G67: =+D67*365 -> 304007.03 | H67: =+E67*365 -> 134285.75 | I67: =+SUM(G67:H67) -> 438292.78 | J67: =+'I.1 Proyecciones Población'!G31*'II. Caracterizacion RSU'!$D$47/1000 -> 23.136443 | K67: =+'I.1 Proyecciones Población'!G31*'II. Caracterizacion RSU'!$D$48/1000 -> 10.219812 | L67: =+SUM(J67:K67) -> 33.356255 | M67: =+J67*365 -> 8444.8018 | N67: =+K67*365 -> 3730.2314 | O67: =+SUM(M67:N67) -> 12175.033 | P67: =+'I.1 Proyecciones Población'!H31*'II. Caracterizacion RSU'!$D$47/1000 -> 21.623741 | Q67: =+'I.1 Proyecciones Población'!H31*'II. Caracterizacion RSU'!$D$48/1000 -> 9.5516222 | R67: =+SUM(P67:Q67) -> 31.175363 | S67: =+P67*365 -> 7892.6654 | T67: =+Q67*365 -> 3486.3421 | U67: =+SUM(S67:T67) -> 11379.007
B68: 10 | C68: 2034 | D68: =+'I.1 Proyecciones Población'!F32*'II. Caracterizacion RSU'!$D$47/1000 -> 838.91204 | E68: =+'I.1 Proyecciones Población'!F32*'II. Caracterizacion RSU'!$D$48/1000 -> 370.56358 | F68: =+SUM(D68:E68) -> 1209.4756 | G68: =+D68*365 -> 306202.89 | H68: =+E68*365 -> 135255.71 | I68: =+SUM(G68:H68) -> 441458.6 | J68: =+'I.1 Proyecciones Población'!G32*'II. Caracterizacion RSU'!$D$47/1000 -> 23.303559 | K68: =+'I.1 Proyecciones Población'!G32*'II. Caracterizacion RSU'!$D$48/1000 -> 10.29363 | L68: =+SUM(J68:K68) -> 33.59719 | M68: =+J68*365 -> 8505.7992 | N68: =+K68*365 -> 3757.1751 | O68: =+SUM(M68:N68) -> 12262.974 | P68: =+'I.1 Proyecciones Población'!H32*'II. Caracterizacion RSU'!$D$47/1000 -> 21.779931 | Q68: =+'I.1 Proyecciones Población'!H32*'II. Caracterizacion RSU'!$D$48/1000 -> 9.6206142 | R68: =+SUM(P68:Q68) -> 31.400545 | S68: =+P68*365 -> 7949.6747 | T68: =+Q68*365 -> 3511.5242 | U68: =+SUM(S68:T68) -> 11461.199
B69: 11 | C69: 2035 | D69: =+'I.1 Proyecciones Población'!F33*'II. Caracterizacion RSU'!$D$47/1000 -> 844.82075 | E69: =+'I.1 Proyecciones Población'!F33*'II. Caracterizacion RSU'!$D$48/1000 -> 373.17357 | F69: =+SUM(D69:E69) -> 1217.9943 | G69: =+D69*365 -> 308359.57 | H69: =+E69*365 -> 136208.35 | I69: =+SUM(G69:H69) -> 444567.93 | J69: =+'I.1 Proyecciones Población'!G33*'II. Caracterizacion RSU'!$D$47/1000 -> 23.467693 | K69: =+'I.1 Proyecciones Población'!G33*'II. Caracterizacion RSU'!$D$48/1000 -> 10.366132 | L69: =+SUM(J69:K69) -> 33.833825 | M69: =+J69*365 -> 8565.7081 | N69: =+K69*365 -> 3783.638 | O69: =+SUM(M69:N69) -> 12349.346 | P69: =+'I.1 Proyecciones Población'!H33*'II. Caracterizacion RSU'!$D$47/1000 -> 21.933333 | Q69: =+'I.1 Proyecciones Población'!H33*'II. Caracterizacion RSU'!$D$48/1000 -> 9.6883751 | R69: =+SUM(P69:Q69) -> 31.621708 | S69: =+P69*365 -> 8005.6666 | T69: =+Q69*365 -> 3536.2569 | U69: =+SUM(S69:T69) -> 11541.924
... B97: 39 | C97: 2063 | D97: =+'I.1 Proyecciones Población'!F61*'II. Caracterizacion RSU'!$D$47/1000 -> 896.7348 | E97: =+'I.1 Proyecciones Población'!F61*'II. Caracterizacion RSU'!$D$48/1000 -> 396.105 | F97: =+SUM(D97:E97) -> 1292.8398 | G97: =+D97*365 -> 327308.2 | H97: =+E97*365 -> 144578.33 | I97: =+SUM(G97:H97) -> 471886.53 | J97: =+'I.1 Proyecciones Población'!G61*'II. Caracterizacion RSU'!$D$47/1000 -> 24.909778 | K97: =+'I.1 Proyecciones Población'!G61*'II. Caracterizacion RSU'!$D$48/1000 -> 11.003128 | L97: =+SUM(J97:K97) -> 35.912906 | M97: =+J97*365 -> 9092.069 | N97: =+K97*365 -> 4016.1417 | O97: =+SUM(M97:N97) -> 13108.211 | P97: =+'I.1 Proyecciones Población'!H61*'II. Caracterizacion RSU'!$D$47/1000 -> 23.281132 | Q97: =+'I.1 Proyecciones Población'!H61*'II. Caracterizacion RSU'!$D$48/1000 -> 10.283724 | R97: =+SUM(P97:Q97) -> 33.564855 | S97: =+P97*365 -> 8497.6131 | T97: =+Q97*365 -> 3753.5591 | U97: =+SUM(S97:T97) -> 12251.172
B98: Fuente: Elaboración Propia
B101: Tabla 5. Proyección de la Demanda de Disposición Final
B102: No. | C102: Año | D102: RSU (ton/día) | E102: RME (ton/día) | F102: Total (ton/día) | G102: RSU (ton/año) | H102: RME (ton/año) | I102: Total (ton/año) | J102: RSU (m3/año) | K102: RME (m3/año) | L102: Total (m3/año) | M102: Volumen Efectivo Confinado (m3/año)
B103: 0 | C103: 2024 | D103: =+D58+J58+P58 -> 806.81256 | E103: =+E58+K58+Q58 -> 356.38462 | F103: =+SUM(D103:E103) -> 1163.1972 | G103: =+G58+M58+S58 -> 294486.58 | H103: =+H58+N58+T58 -> 130080.39 | I103: =+SUM(G103:H103) -> 424566.97 | J103: =+G103*1000/'I. Parametros Grales'!$C$145 -> 420695.12 | K103: =+H103*1000/'I. Parametros Grales'!$C$145 -> 185829.13 | L103: =+SUM(J103:K103) -> 606524.25 | M103: =+L103*'I. Parametros Grales'!$C$148*'I. Parametros Grales'!$C$149 -> 765813.44
...

Sheet IV.1 CAE Alt 1
B2: PROYECTO DE GESTIÓN INTEGRAL DE RESIDUOS PARA EL MUNICIPIO DE CHIHUAHUA
B4: Costo Anual Equivalente del Proyecto
B7: Año | D7: Costos totales de inversión | E7: Costos de Operación y Mantenimiento | F7: Costos de Mantenimiento Mayor | G7: Costos Totales por año | H7: Valor presente de los costos
B8: 0 | C8: 2024 | D8: =+SUM('VII.1 Calendario'!C14:K14) -> 64081223 | E8: =+'VIII. Costos Op y Mant'!X9 -> 53343537 | F8: 0 | G8: =+SUM(D8:F8) -> 1.1742476e+08 | H8: =+G8/((1+$D$48)^B8) -> 1.1742476e+08
B9: 1 | C9: 2025 | D9: =+SUM('VII.1 Calendario'!L14:W14) -> 9.8819698e+08 | E9: =+'VIII. Costos Op y Mant'!X10 -> 53343537 | F9: 0 | G9: =+SUM(D9:F9) -> 1.0415405e+09 | H9: =+G9/((1+$D$48)^B9) -> 9.4685501e+08
B10: 2 | C10: 2026 | D10: =+SUM('VII.1 Calendario'!X14:AC14) -> 1.6836725e+08 | E10: =+'VIII. Costos Op y Mant'!X11 -> 1.5046788e+08 | F10: - | G10: =+SUM(D10:F10) -> 3.1883512e+08 | H10: =+G10/((1+$D$48)^B10) -> 2.635001e+08
B11: 3 | C11: 2027 | D11: 0 | E11: =+'VIII. Costos Op y Mant'!X12 -> 1.5127232e+08 | F11: =+'IX. Costos MantenimientoMayor'!H11 -> 0 | G11: =+SUM(D11:F11) -> 1.5127232e+08 | H11: =+G11/((1+$D$48)^B11) -> 1.1365313e+08
B12: 4 | C12: 2028 | D12: 0 | E12: =+'VIII. Costos Op y Mant'!X13 -> 1.5202741e+08 | F12: =+'IX. Costos MantenimientoMayor'!H12 -> 0 | G12: =+SUM(D12:F12) -> 1.5202741e+08 | H12: =+G12/((1+$D$48)^B12) -> 1.0383676e+08
B13: 5 | C13: 2029 | D13: 0 | E13: =+'VIII. Costos Op y Mant'!X14 -> 1.527371e+08 | F13: =+'IX. Costos MantenimientoMayor'!H13 -> 0 | G13: =+SUM(D13:F13) -> 1.527371e+08 | H13: =+G13/((1+$D$48)^B13) -> 94837725
B14: 6 | C14: 2030 | D14: 0 | E14: =+'VIII. Costos Op y Mant'!X15 -> 1.5340848e+08 | F14: =+'IX. Costos MantenimientoMayor'!H14 -> 0 | G14: =+SUM(D14:F14) -> 1.5340848e+08 | H14: =+G14/((1+$D$48)^B14) -> 86595089
B15: 7 | C15: 2031 | D15: 0 | E15: =+'VIII. Costos Op y Mant'!X16 -> 1.5404897e+08 | F15: =+'IX. Costos MantenimientoMayor'!H15 -> 0 | G15: =+SUM(D15:F15) -> 1.5404897e+08 | H15: =+G15/((1+$D$48)^B15) -> 79051481
B16: 8 | C16: 2032 | D16: 0 | E16: =+'VIII. Costos Op y Mant'!X17 -> 1.5466526e+08 | F16: =+'IX. Costos MantenimientoMayor'!H16 -> 1750000 | G16: =+SUM(D16:F16) -> 1.5641526e+08 | H16: =+G16/((1+$D$48)^B16) -> 72968872
B17: 9 | C17: 2033 | D17: 0 | E17: =+'VIII. Costos Op y Mant'!X18 -> 1.5526343e+08 | F17: =+'IX. Costos MantenimientoMayor'!H17 -> 32378260 | G17: =+SUM(D17:F17) -> 1.8764169e+08 | H17: =+G17/((1+$D$48)^B17) -> 79578395
B18: 10 | C18: 2034 | D18: 0 | E18: =+'VIII. Costos Op y Mant'!X19 -> 1.5584917e+08 | F18: =+'IX. Costos MantenimientoMayor'!H18 -> 125491485 | G18: =+SUM(D18:F18) -> 2.8134065e+08 | H18: =+G18/((1+$D$48)^B18) -> 1.08469e+08
B19: 11 | C19: 2035 | D19: 0 | E19: =+'VIII. Costos Op y Mant'!X20 -> 1.5642445e+08 | F19: =+'IX. Costos MantenimientoMayor'!H19 -> 0 | G19: =+SUM(D19:F19) -> 1.5642445e+08 | H19: =+G19/((1+$D$48)^B19) -> 54825815
B20: 12 | C20: 2036 | D20: 0 | E20: =+'VIII. Costos Op y Mant'!X21 -> 1.5699035e+08 | F20: =+'IX. Costos MantenimientoMayor'!H20 -> 0 | G20: =+SUM(D20:F20) -> 1.5699035e+08 | H20: =+G20/((1+$D$48)^B20) -> 50021963
B21: 13 | C21: 2037 | D21: 0 | E21: =+'VIII. Costos Op y Mant'!X22 -> 1.5754426e+08 | F21: =+'IX. Costos MantenimientoMayor'!H21 -> 49394500 | G21: =+SUM(D21:F21) -> 2.0693876e+08 | H21: =+G21/((1+$D$48)^B21) -> 59942787
B22: 14 | C22: 2038 | D22: 0 | E22: =+'VIII. Costos Op y Mant'!X23 -> 1.5807997e+08 | F22: =+'IX. Costos MantenimientoMayor'!H22 -> 0 | G22: =+SUM(D22:F22) -> 1.5807997e+08 | H22: =+G22/((1+$D$48)^B22) -> 41627395
... B47: 39 | C47: 2063 | D47: 0 | E47: =+'VIII. Costos Op y Mant'!X48 -> 1.6147889e+08 | F47: =+'IX. Costos MantenimientoMayor'!H47 -> 0 | G47: =+SUM(D47:F47) -> 1.6147889e+08 | H47: =+G47/((1+$D$48)^B47) -> 3924650.9
B48: Tasa | D48: 0.1 | G48: Valor Presente | H48: =SUM(H8:H47) -> 2.747743e+09
B49: Vida Util | D49: =+COUNT(E10:E47) -> 38 | G49: CAE | H49: =+PMT(D48,D49,H48)*-1 -> 2.8232214e+08

Sheet IV.2 CAE Alt 2
B2: PROYECTO DE GESTIÓN INTEGRAL DE RESIDUOS PARA EL MUNICIPIO DE CHIHUAHUA
B4: Costo Anual Equivalente de la Alternativa
B7: Año | D7: Costos totales de inversión | E7: Costos de Operación y Mantenimiento | F7: Costos de Mantenimiento Mayor | G7: Costos Totales por año | H7: Valor presente de los costos
B8: 0 | C8: 2024 | D8: =+'IV2.2. Costos Alt2'!O9 -> 2.0627072e+08 | E8: =+'IV2.3. CostosOPEX Alt2'!Y9 -> 53343537 | F8: 0 | G8: =+SUM(D8:F8) -> 2.5961426e+08 | H8: =+G8/((1+$D$48)^B8) -> 2.5961426e+08
B9: 1 | C9: 2025 | D9: =+'IV2.2. Costos Alt2'!O10 -> 1.1534304e+09 | E9: =+'IV2.3. CostosOPEX Alt2'!Y10 -> 53343537 | F9: 0 | G9: =+SUM(D9:F9) -> 1.206774e+09 | H9: =+G9/((1+$D$48)^B9) -> 1.0970672e+09
B10: 2 | C10: 2026 | D10: =+'IV2.2. Costos Alt2'!O11 -> 4.0952765e+08 | E10: =+'IV2.3. CostosOPEX Alt2'!Y11 -> 2.2647925e+08 | F10: =+'[2]IV.3.Costos de Inversión Alt'!O11 -> 0 | G10: =+SUM(D10:F10) -> 6.360069e+08 | H10: =+G10/((1+$D$48)^B10) -> 5.2562554e+08
B11: 3 | C11: 2027 | D11: 0 | E11: =+'IV2.3. CostosOPEX Alt2'!Y12 -> 2.2690741e+08 | F11: =+'IV2.2. Costos Alt2'!O12 -> 0 | G11: =+SUM(D11:F11) -> 2.2690741e+08 | H11: =+G11/((1+$D$48)^B11) -> 1.7047889e+08
B12: 4 | C12: 2028 | D12: 0 | E12: =+'IV2.3. CostosOPEX Alt2'!Y13 -> 2.2732032e+08 | F12: =+'IV2.2. Costos Alt2'!O13 -> 0 | G12: =+SUM(D12:F12) -> 2.2732032e+08 | H12: =+G12/((1+$D$48)^B12) -> 1.5526284e+08
B13: 5 | C13: 2029 | D13: 0 | E13: =+'IV2.3. CostosOPEX Alt2'!Y14 -> 2.2771248e+08 | F13: =+'IV2.2. Costos Alt2'!O14 -> 0 | G13: =+SUM(D13:F13) -> 2.2771248e+08 | H13: =+G13/((1+$D$48)^B13) -> 1.4139153e+08
B14: 6 | C14: 2030 | D14: 0 | E14: =+'IV2.3. CostosOPEX Alt2'!Y15 -> 2.2809446e+08 | F14: =+'IV2.2. Costos Alt2'!O15 -> 0 | G14: =+SUM(D14:F14) -> 2.2809446e+08 | H14: =+G14/((1+$D$48)^B14) -> 1.2875338e+08
B15: 7 | C15: 2031 | D15: 0 | E15: =+'IV2.3. CostosOPEX Alt2'!Y16 -> 2.2845455e+08 | F15: =+'IV2.2. Costos Alt2'!O16 -> 0 | G15: =+SUM(D15:F15) -> 2.2845455e+08 | H15: =+G15/((1+$D$48)^B15) -> 1.1723331e+08
B16: 8 | C16: 2032 | D16: 0 | E16: =+'IV2.3. CostosOPEX Alt2'!Y17 -> 2.2879767e+08 | F16: =+'IV2.2. Costos Alt2'!O17 -> 1750000 | G16: =+SUM(D16:F16) -> 2.3054767e+08 | H16: =+G16/((1+$D$48)^B16) -> 1.0755219e+08
B17: 9 | C17: 2033 | D17: 0 | E17: =+'IV2.3. CostosOPEX Alt2'!Y18 -> 2.2912351e+08 | F17: =+'IV2.2. Costos Alt2'!O18 -> 32378260 | G17: =+SUM(D17:F17) -> 2.6150177e+08 | H17: =+G17/((1+$D$48)^B17) -> 1.1090228e+08
B18: 10 | C18: 2034 | D18: 0 | E18: =+'IV2.3. CostosOPEX Alt2'!Y19 -> 2.2943177e+08 | F18: =+'IV2.2. Costos Alt2'!O19 -> 125491485 | G18: =+SUM(D18:F18) -> 3.5492325e+08 | H18: =+G18/((1+$D$48)^B18) -> 1.3683828e+08
B19: 11 | C19: 2035 | D19: 0 | E19: =+'IV2.3. CostosOPEX Alt2'!Y20 -> 2.2972217e+08 | F19: =+'IV2.2. Costos Alt2'!O20 -> 0 | G19: =+SUM(D19:F19) -> 2.2972217e+08 | H19: =+G19/((1+$D$48)^B19) -> 80516218
B20: 12 | C20: 2036 | D20: 0 | E20: =+'IV2.3. CostosOPEX Alt2'!Y21 -> 2.2999443e+08 | F20: =+'IV2.2. Costos Alt2'!O21 -> 0 | G20: =+SUM(D20:F20) -> 2.2999443e+08 | H20: =+G20/((1+$D$48)^B20) -> 73283315
B21: 13 | C21: 2037 | D21: 0 | E21: =+'IV2.3. CostosOPEX Alt2'!Y22 -> 2.3024832e+08 | F21: =+'IV2.2. Costos Alt2'!O22 -> 49394500 | G21: =+SUM(D21:F21) -> 2.7964282e+08 | H21: =+G21/((1+$D$48)^B21) -> 81002564
B22: 14 | C22: 2038 | D22: 0 | E22: =+'IV2.3. CostosOPEX Alt2'!Y23 -> 2.3048358e+08 | F22: =+'IV2.2. Costos Alt2'!O23 -> 0 | G22: =+SUM(D22:F22) -> 2.3048358e+08 | H22: =+G22/((1+$D$48)^B22) -> 60693531
... B46: 38 | C46: 2062 | D46: 0 | E46: =+'IV2.3. CostosOPEX Alt2'!Y47 -> 2.3206171e+08 | F46: =+'IV2.2. Costos Alt2'!O47 -> 1750000 | G46: =+SUM(D46:F46) -> 2.3381171e+08 | H46: =+G46/((1+$D$48)^B46) -> 6250924.1
B47: 39 | C47: 2063 | D47: 0 | E47: =+'IV2.3. CostosOPEX Alt2'!Y48 -> 2.3208246e+08 | F47: 0 | G47: =+SUM(D47:F47) -> 2.3208246e+08 | H47: =+G47/((1+$D$48)^B47) -> 5640629.8
B48: Tasa | D48: 0.1 | G48: Valor Presente | H48: =SUM(H8:H47) -> 3.9884273e+09
B49: Vida Util | D49: 38 | G49: CAE | H49: =+PMT(D48,D49,H48)*-1 -> 4.0979864e+08

Sheet IV2.2. Costos Alt2
B2: PROYECTO DE GESTIÓN INTEGRAL DE RESIDUOS PARA EL MUNICIPIO DE CHIHUAHUA
B4: Costos de Inversión de la Alternativa
B7: Tabla 6. Biodigestor | H7: Tabla 2. Programa de Inversión Anual
B8: Concepto | C8: Unidad | D8: Cantidad | E8: P.U. | F8: Monto sin IVA | H8: Año | I8: Ampliación del RA | J8: Estación de Transferencia | K8: Planta de Separación | L8: NRSM | M8: Clausura | N8: Biodigestor | O8: Total
B9: Edificación y Obra Civil | C9: lote | D9: 1 | E9: 90252378 | F9: =+E9*D9 -> 90252378 | H9: 2024 | I9: =+'VII. Costos de Inversión'!G103 -> 56678528 | J9: 0 | K9: =+'IX. Costos MantenimientoMayor'!E8 -> 0 | L9: =+SUM('VII.1 Calendario'!C12:N12) -> 94255362 | M9: =+SUM('VII.1 Calendario'!C13:Y13) -> 55336833 | N9: 0 | O9: =+SUM(I9:N9) -> 2.0627072e+08
B10: Planta de Digestión | C10: lote | D10: 1 | E10: =+SUM(E11:E14) -> 449073280 | F10: =+E10*D10 -> 449073280 | H10: 2025 | I10: 0 | J10: =+SUM('VII.1 Calendario'!S10:Z10) -> 1.4660458e+08 | K10: =+SUM('VII.1 Calendario'!I11:Q11) -> 4.3438718e+08 | L10: =+SUM('VII.1 Calendario'!O12:S12) -> 1.4940952e+08 | M10: =+SUM('VII.1 Calendario'!Q13:AA13) -> 92484000 | N10: =+$F$19/2 -> 330545161 | O10: =+SUM(J10:N10) -> 1.1534304e+09
B11: Digestores | C11: lote | D11: 1 | E11: 315308350 | F11: =+D11*E11 -> 315308350 | H11: 2026 | I11: 0 | J11: =+'VII.1 Calendario'!AA10 -> 21980009 | K11: =+SUM('VII.1 Calendario'!U11:W11) -> 57002483 | L11: =+'IX. Costos MantenimientoMayor'!F10 -> 0 | M11: =+'IX. Costos MantenimientoMayor'!G10 -> 0 | N11: =+$F$19/2 -> 330545161 | O11: =+SUM(J11:N11) -> 4.0952765e+08
