Workbook

Sheet FORMULAS
A2: METODOLOGÍA PARA EL CÁLCULO DE EMISIONES DE METANO PROVENIENTES DE LA DISPOSICIÓN FINAL DE RESIDUOS SÓLIDOS URBANOS
H3: Sin Relleno | I3: Con Relleno | Q3: Sin Relleno | R3: Con Relleno
G4: Ecuación 3 | P4: Ecuación 11
G5: Masa de Metano emitido | H5: Emisiones de CH4T | P5: Emisiones de metano en CO2 equivalente. | Q5: Emisiones de CH4 en CO2e
G6: (depende de Ecuación 5) | P6: (depende de Ecuación 3)
G7: OX 0.1 | P7: PCGmetano=28
G14: Ecuación 5 | P14: Ecuación 12
G15: Metano generado a partir de CODDm en descomposición | H15: CH4 generado j,T | P15: Emisiones de óxido nitroso en CO2 equivalente. | Q15: Emisiones de N2O en CO2e
G16: (depende de Ecuación 6) | P16: PCGoxidoN=265
G19: Ecuación 6
G20: CODDm descompuesto durante el año T. | H20: CODDm descomp j,T
G21: (depende de Ecuación 8 y 9)
G24: Ecuación 8
G25: CODDm descompuesto durante el año de la disposición | H25: CODDm dec j,T
G26: (depende de Ecuación 10)
G28: Ecuación 9
G29: CODDm acumulado al término del año T. | H29: CODDma j,T
G30: (depende de Ecuación 7)
G33: Ecuación 10
G34: CODD calculado a partir de los datos sobre disposición de residuos. | H34: CODDmdj,T
G35: Cj

Sheet PARAMETROS
A1: PARAMETROS
A4: Valores COD por categoría (Tabla 6)
A5: Categoría de residuos j | B5: Comida | C5: Jardín | D5: Papel | E5: Madera y paja | F5: Textiles | G5: Pañales
A6: Valor | B6: 0.15 | C6: 0.2 | D6: 0.4 | E6: 0.43 | F6: 0.24 | G6: 0.24
A8: Composición de RSU
A9: Caracterización RSU | B9: =+'[1]II. Caracterizacion RSU'!$C$6 -> 0.22925803 | C9: =+'[1]II. Caracterizacion RSU'!$C$7 -> 0.024498673 | D9: =+'[1]II. Caracterizacion RSU'!$C$10 -> 0.10482104 | E9: =+'[1]II. Caracterizacion RSU'!$C$28 -> 0.011719044 | F9: =+'[1]II. Caracterizacion RSU'!$C$23+'[1]II. Caracterizacion RSU'!$C$24+'[1]II. Caracterizacion RSU'!$C$25 -> 0.053462406 | G9: =+'[1]II. Caracterizacion RSU'!$C$27 -> 0.03464987
A10: Cj/100 | B10: =+B9 -> 0.22925803 | C10: =+C9 -> 0.024498673 | D10: =+D9 -> 0.10482104 | E10: =+E9 -> 0.011719044 | F10: =+F9 -> 0.053462406 | G10: =+G9 -> 0.03464987
A12: Tabla 4. Valores de la constante de descomposición (kj) por categoría de residuos j y entidad federativa
B13: k1: Comida | C13: k2:Jardín | D13: k3:Papel | E13: k4:Madera y paja | F13: k5:Textiles | G13: k6:Pañales
A14: Chihuahua | B14: 0.1 | C14: 0.05 | D14: 0.02 | E14: 0.01 | F14: 0.02 | G14: 0.1
A17: Potencial de Calentamiento Global
A18: VII. Metano (CH4): | B18: 28
A19: VIII. Óxido nitroso (N2O): | B19: 265
A20: Fuente: ACUERDO que establece los gases o compuestos de efecto invernadero que se agrupan para efectos de reporte de emisiones, así como sus potenciales de calentamiento. (DOF 14/08/2015) https://www.dof.gob.mx/nota_detalle.php?codigo=5404077&fecha=14/08/2015#gsc.tab=0

Sheet TCA
C1: Ecuación 3 | D1: Emisiones de CH4T (TCA) | F1: =+AO4*(1-0) -> 139422.57
C2: Ecuación 11 | D2: Emisiones de metano en CO2 equivalente (TCA) | F2: =F1*28 -> 3903832
C3: Fuente: INECC, 2020, METODOLOGÍA PARA EL CÁLCULO DE EMISIONES DE GASES DE EFECTO INVERNADERO GENERADO POR RESIDUOS SÓLIDOS URBANOS EN SITIOS DE DISPOSICIÓN FINAL
AO4: =+SUBTOTAL(9,AO8:AO55) -> 139422.57
C5: Categoría de residuos j | E5: Comida | K5: Jardín | Q5: Papel | W5: Madera y paja | AC5: Textiles | AI5: Pañales | AO5: Total de CH4 generado
D6: RS Total (Tiradero a Cielo Abierto) | E6: CODDmdj,T | F6: CODDm dec j,T | G6: CODDm rem j,T | H6: CODDma j,T | I6: CODDm descomp j,T | J6: CH4 generado j,T | K6: CODDmdj,T | L6: CODDm dec j,T | M6: CODDm rem j,T | N6: CODDma j,T | O6: CODDm descomp j,T | P6: CH4 generado j,T | Q6: CODDmdj,T | R6: CODDm dec j,T | S6: CODDm rem j,T | T6: CODDma j,T | U6: CODDm descomp j,T | V6: CH4 generado j,T | W6: CODDmdj,T | X6: CODDm dec j,T | Y6: CODDm rem j,T | Z6: CODDma j,T | AA6: CODDm descomp j,T | AB6: CH4 generado j,T | AC6: CODDmdj,T | AD6: CODDm dec j,T | AE6: CODDm rem j,T | AF6: CODDma j,T | AG6: CODDm descomp j,T | AH6: CH4 generado j,T | AI6: CODDmdj,T | AJ6: CODDm dec j,T | AK6: CODDm rem j,T | AL6: CODDma j,T | AM6: CODDm descomp j,T | AN6: CH4 generado j,T
B7: t | C7: Año | D7: Toneladas | E7: Ecuación 10 | F7: Ecuación 8 | G7: Ecuación 7 | H7: Ecuación 9 | I7: Ecuación 6 | J7: Ecuación 5 | K7: Ecuación 10 | L7: Ecuación 8 | M7: Ecuación 7 | N7: Ecuación 9 | O7: Ecuación 6 | P7: Ecuación 5 | Q7: Ecuación 10 | R7: Ecuación 8 | S7: Ecuación 7 | T7: Ecuación 9 | U7: Ecuación 6 | V7: Ecuación 5 | W7: Ecuación 10 | X7: Ecuación 8 | Y7: Ecuación 7 | Z7: Ecuación 9 | AA7: Ecuación 6 | AB7: Ecuación 5 | AC7: Ecuación 10 | AD7: Ecuación 8 | AE7: Ecuación 7 | AF7: Ecuación 9 | AG7: Ecuación 6 | AH7: Ecuación 5 | AI7: Ecuación 10 | AJ7: Ecuación 8 | AK7: Ecuación 7 | AL7: Ecuación 9 | AM7: Ecuación 6 | AN7: Ecuación 5
B8: 0 | C8: 2024 | D8: 419224.84 | E8: =+D8*PARAMETROS!$B$10*PARAMETROS!$B$6*0.5*0.4 -> 2883.3198 | F8: =+E8*(1-EXP(-PARAMETROS!$B$14*((13-8)/12))) -> 117.66985 | G8: =+E8*EXP(-PARAMETROS!$B$14*((13-8)/12)) -> 2765.65 | H8: 0 | I8: =+F8+(H8*(1-EXP(-PARAMETROS!$B$14))) -> 117.66985 | J8: =+I8*0.55*(1.33333333333333) -> 86.291222 | K8: =+D8*PARAMETROS!$C$10*0.5*0.4*PARAMETROS!$C$6 -> 410.81809 | L8: =+K8*(1-EXP(-PARAMETROS!$C$14*((13-8)/12))) -> 8.4701729 | M8: =+K8*EXP(-PARAMETROS!$C$14*((13-8)/12)) -> 402.34792 | N8: 0 | O8: =+L8+(N8*(1-EXP(-PARAMETROS!$C$14))) -> 8.4701729 | P8: =+O8*0.55*(1.33333333333333) -> 6.2114601 | Q8: =+D8*PARAMETROS!$D$6*0.5*0.4*PARAMETROS!$D$10 -> 3515.4866 | R8: =+Q8*(1-EXP(-PARAMETROS!$D$14*((13-8)/12))) -> 29.173994 | S8: =+Q8*EXP(-PARAMETROS!$D$14*((13-8)/12)) -> 3486.3126 | T8: 0 | U8: =+R8+(T8*(1-EXP(-PARAMETROS!$D$14))) -> 29.173994 | V8: =+U8*0.55*(1.33333333333333) -> 21.394262 | W8: =+D8*PARAMETROS!$E$6*0.5*0.4*PARAMETROS!$E$10 -> 422.51062 | X8: =+W8*(1-EXP(-PARAMETROS!$E$14*((13-8)/12))) -> 1.7567984 | Y8: =+W8*EXP(-PARAMETROS!$E$14*((13-8)/12)) -> 420.75383 | Z8: 0 | AA8: =+X8+(Z8*(1-EXP(-PARAMETROS!$E$14))) -> 1.7567984 | AB8: =+AA8*0.55*(1.33333333333333) -> 1.2883188 | AC8: =+D8*PARAMETROS!$F$6*0.5*0.4*PARAMETROS!$F$10 -> 1075.8129 | AD8: =+AC8*(1-EXP(-PARAMETROS!$F$14*((13-8)/12))) -> 8.9278563 | AE8: =+AC8*EXP(-PARAMETROS!$F$14*((13-8)/12)) -> 1066.885 | AF8: 0 | AG8: =+AD8+(AF8*(1-EXP(-PARAMETROS!$F$14))) -> 8.9278563 | AH8: =+AG8*0.55*(1.33333333333333) -> 6.5470946 | AI8: =+D8*PARAMETROS!$G$6*0.5*0.4*PARAMETROS!$G$10 -> 697.25213 | AJ8: =+AI8*(1-EXP(-PARAMETROS!$G$14*((13-8)/12))) -> 28.455238 | AK8: =+AI8*EXP(-PARAMETROS!$G$14*((13-8)/12)) -> 668.79689 | AL8: 0 | AM8: =+AJ8+(AL8*(1-EXP(-PARAMETROS!$G$14))) -> 28.455238 | AN8: =+AM8*0.55*(1.33333333333333) -> 20.867174 | AO8: =+AN8+AH8+AB8+V8+P8+J8 -> 142.59953
B9: 1 | C9: 2025 | D9: 422410.94 | E9: =+D9*PARAMETROS!$B$10*0.5*0.4*PARAMETROS!$B$6 -> 2905.2331 | F9: =+E9*(1-EXP(-PARAMETROS!$B$14*((13-8)/12))) -> 118.56414 | G9: =+E9*EXP(-PARAMETROS!$B$14*((13-8)/12)) -> 2786.6689 | H9: =+G9+(H8*EXP(-PARAMETROS!$B$14)) -> 2786.6689 | I9: =+F9+(H9*(1-EXP(-PARAMETROS!$B$14))) -> 383.75075 | J9: =+I9*0.55*(1.33333333333333) -> 281.41722 | K9: =+D9*PARAMETROS!$C$10*0.5*0.4*PARAMETROS!$C$6 -> 413.94031 | L9: =+K9*(1-EXP(-PARAMETROS!$C$14*((13-8)/12))) -> 8.5345462 | M9: =+K9*EXP(-PARAMETROS!$C$14*((13-8)/12)) -> 405.40576 | N9: =+M9+(N8*EXP(-PARAMETROS!$C$14)) -> 405.40576 | O9: =+L9+(N9*(1-EXP(-PARAMETROS!$C$14))) -> 28.306419 | P9: =+O9*0.55*(1.33333333333333) -> 20.75804 | Q9: =+D9*PARAMETROS!$D$6*0.5*0.4*PARAMETROS!$D$10 -> 3542.2043 | R9: =+Q9*(1-EXP(-PARAMETROS!$D$14*((13-8)/12))) -> 29.395716 | S9: =+Q9*EXP(-PARAMETROS!$D$14*((13-8)/12)) -> 3512.8085 | T9: =+S9+(T8*EXP(-PARAMETROS!$D$14)) -> 3512.8085 | U9: =+R9+(T9*(1-EXP(-PARAMETROS!$D$14))) -> 98.953986 | V9: =+U9*0.55*(1.33333333333333) -> 72.566256 | W9: =+D9*PARAMETROS!$E$6*0.5*0.4*PARAMETROS!$E$10 -> 425.72171 | X9: =+W9*(1-EXP(-PARAMETROS!$E$14*((13-8)/12))) -> 1.7701501 | Y9: =+W9*EXP(-PARAMETROS!$E$14*((13-8)/12)) -> 423.95156 | Z9: =+Y9+(Z8*EXP(-PARAMETROS!$E$14)) -> 423.95156 | AA9: =+X9+(Z9*(1-EXP(-PARAMETROS!$E$14))) -> 5.9885385 | AB9: =+AA9*0.55*(1.33333333333333) -> 4.3915949 | AC9: =+D9*PARAMETROS!$F$6*0.5*0.4*PARAMETROS!$F$10 -> 1083.9891 | AD9: =+AC9*(1-EXP(-PARAMETROS!$F$14*((13-8)/12))) -> 8.995708 | AE9: =+AC9*EXP(-PARAMETROS!$F$14*((13-8)/12)) -> 1074.9934 | AF9: =+AE9+(AF8*EXP(-PARAMETROS!$F$14)) -> 1074.9934 | AG9: =+AD9+(AF9*(1-EXP(-PARAMETROS!$F$14))) -> 30.282003 | AH9: =+AG9*0.55*(1.33333333333333) -> 22.206802 | AI9: =+D9*PARAMETROS!$G$6*0.5*0.4*PARAMETROS!$G$10 -> 702.55125 | AJ9: =+AI9*(1-EXP(-PARAMETROS!$G$14*((13-8)/12))) -> 28.671498 | AK9: =+AI9*EXP(-PARAMETROS!$G$14*((13-8)/12)) -> 673.87975 | AL9: =+AK9+(AL8*EXP(-PARAMETROS!$G$14)) -> 673.87975 | AM9: =+AJ9+(AL9*(1-EXP(-PARAMETROS!$G$14))) -> 92.799635 | AN9: =+AM9*0.55*(1.33333333333333) -> 68.053065 | AO9: =+AN9+AH9+AB9+V9+P9+J9 -> 469.39297
B10: 2 | C10: 2026 | D10: 425477.65 | E10: =+D10*PARAMETROS!$B$10*0.5*0.4*PARAMETROS!$B$6 -> 2926.3251 | F10: =+E10*(1-EXP(-PARAMETROS!$B$14*((13-8)/12))) -> 119.42491 | G10: =+E10*EXP(-PARAMETROS!$B$14*((13-8)/12)) -> 2806.9001 | H10: =+G10+(H9*EXP(-PARAMETROS!$B$14)) -> 5328.3825 | I10: =+F10+(H10*(1-EXP(-PARAMETROS!$B$14))) -> 626.48755 | J10: =+I10*0.55*(1.33333333333333) -> 459.4242 | K10: =+D10*PARAMETROS!$C$10*0.5*0.4*PARAMETROS!$C$6 -> 416.94552 | L10: =+K10*(1-EXP(-PARAMETROS!$C$14*((13-8)/12))) -> 8.596507 | M10: =+K10*EXP(-PARAMETROS!$C$14*((13-8)/12)) -> 408.34901 | N10: =+M10+(N9*EXP(-PARAMETROS!$C$14)) -> 793.9829 | O10: =+L10+(N10*(1-EXP(-PARAMETROS!$C$14))) -> 47.31951 | P10: =+O10*0.55*(1.33333333333333) -> 34.700974 | Q10: =+D10*PARAMETROS!$D$6*0.5*0.4*PARAMETROS!$D$10 -> 3567.9207 | R10: =+Q10*(1-EXP(-PARAMETROS!$D$14*((13-8)/12))) -> 29.609129 | S10: =+Q10*EXP(-PARAMETROS!$D$14*((13-8)/12)) -> 3538.3115 | T10: =+S10+(T9*EXP(-PARAMETROS!$D$14)) -> 6981.5618 | U10: =+R10+(T10*(1-EXP(-PARAMETROS!$D$14))) -> 167.85332 | V10: =+U10*0.55*(1.33333333333333) -> 123.09243 | W10: =+D10*PARAMETROS!$E$6*0.5*0.4*PARAMETROS!$E$10 -> 428.81245 | X10: =+W10*(1-EXP(-PARAMETROS!$E$14*((13-8)/12))) -> 1.7830014 | Y10: =+W10*EXP(-PARAMETROS!$E$14*((13-8)/12)) -> 427.02944 | Z10: =+Y10+(Z9*EXP(-PARAMETROS!$E$14)) -> 846.76261 | AA10: =+X10+(Z10*(1-EXP(-PARAMETROS!$E$14))) -> 10.20843 | AB10: =+AA10*0.55*(1.33333333333333) -> 7.4861821 | AC10: =+D10*PARAMETROS!$F$6*0.5*0.4*PARAMETROS!$F$10 -> 1091.8588 | AD10: =+AC10*(1-EXP(-PARAMETROS!$F$14*((13-8)/12))) -> 9.0610169 | AE10: =+AC10*EXP(-PARAMETROS!$F$14*((13-8)/12)) -> 1082.7978 | AF10: =+AE10+(AF9*EXP(-PARAMETROS!$F$14)) -> 2136.5049 | AG10: =+AD10+(AF10*(1-EXP(-PARAMETROS!$F$14))) -> 51.366648 | AH10: =+AG10*0.55*(1.33333333333333) -> 37.668875 | AI10: =+D10*PARAMETROS!$G$6*0.5*0.4*PARAMETROS!$G$10 -> 707.65177 | AJ10: =+AI10*(1-EXP(-PARAMETROS!$G$14*((13-8)/12))) -> 28.879653 | AK10: =+AI10*EXP(-PARAMETROS!$G$14*((13-8)/12)) -> 678.77212 | AL10: =+AK10+(AL9*EXP(-PARAMETROS!$G$14)) -> 1288.5237 | AM10: =+AJ10+(AL10*(1-EXP(-PARAMETROS!$G$14))) -> 151.4989 | AN10: =+AM10*0.55*(1.33333333333333) -> 111.09919 | AO10: =+AN10+AH10+AB10+V10+P10+J10 -> 773.47185
B11: 3 | C11: 2027 | D11: 428421.95 | E11: =+D11*PARAMETROS!$B$10*0.5*0.4*PARAMETROS!$B$6 -> 2946.5752 | F11: =+E11*(1-EXP(-PARAMETROS!$B$14*((13-8)/12))) -> 120.25133 | G11: =+E11*EXP(-PARAMETROS!$B$14*((13-8)/12)) -> 2826.3239 | H11: =+G11+(H10*EXP(-PARAMETROS!$B$14)) -> 7647.6437 | I11: =+F11+(H11*(1-EXP(-PARAMETROS!$B$14))) -> 848.02086 | J11: =+I11*0.55*(1.33333333333333) -> 621.88196 | K11: =+D11*PARAMETROS!$C$10*0.5*0.4*PARAMETROS!$C$6 -> 419.83078 | L11: =+K11*(1-EXP(-PARAMETROS!$C$14*((13-8)/12))) -> 8.6559949 | M11: =+K11*EXP(-PARAMETROS!$C$14*((13-8)/12)) -> 411.17478 | N11: =+M11+(N10*EXP(-PARAMETROS!$C$14)) -> 1166.4347 | O11: =+L11+(N11*(1-EXP(-PARAMETROS!$C$14))) -> 65.543686 | P11: =+O11*0.55*(1.33333333333333) -> 48.065369 | Q11: =+D11*PARAMETROS!$D$6*0.5*0.4*PARAMETROS!$D$10 -> 3592.6107 | R11: =+Q11*(1-EXP(-PARAMETROS!$D$14*((13-8)/12))) -> 29.814025 | S11: =+Q11*EXP(-PARAMETROS!$D$14*((13-8)/12)) -> 3562.7966 | T11: =+S11+(T10*EXP(-PARAMETROS!$D$14)) -> 10406.114 | U11: =+R11+(T11*(1-EXP(-PARAMETROS!$D$14))) -> 235.86889 | V11: =+U11*0.55*(1.33333333333333) -> 172.97052 | W11: =+D11*PARAMETROS!$E$6*0.5*0.4*PARAMETROS!$E$10 -> 431.77983 | X11: =+W11*(1-EXP(-PARAMETROS!$E$14*((13-8)/12))) -> 1.7953397 | Y11: =+W11*EXP(-PARAMETROS!$E$14*((13-8)/12)) -> 429.98449 | Z11: =+Y11+(Z10*EXP(-PARAMETROS!$E$14)) -> 1268.3217 | AA11: =+X11+(Z11*(1-EXP(-PARAMETROS!$E$14))) -> 14.415351 | AB11: =+AA11*0.55*(1.33333333333333) -> 10.571258 | AC11: =+D11*PARAMETROS!$F$6*0.5*0.4*PARAMETROS!$F$10 -> 1099.4145 | AD11: =+AC11*(1-EXP(-PARAMETROS!$F$14*((13-8)/12))) -> 9.1237191 | AE11: =+AC11*EXP(-PARAMETROS!$F$14*((13-8)/12)) -> 1090.2908 | AF11: =+AE11+(AF10*EXP(-PARAMETROS!$F$14)) -> 3184.49 | AG11: =+AD11+(AF11*(1-EXP(-PARAMETROS!$F$14))) -> 72.180846 | AH11: =+AG11*0.55*(1.33333333333333) -> 52.932621 | AI11: =+D11*PARAMETROS!$G$6*0.5*0.4*PARAMETROS!$G$10 -> 712.54872 | AJ11: =+AI11*(1-EXP(-PARAMETROS!$G$14*((13-8)/12))) -> 29.0795 | AK11: =+AI11*EXP(-PARAMETROS!$G$14*((13-8)/12)) -> 683.46922 | AL11: =+AK11+(AL10*EXP(-PARAMETROS!$G$14)) -> 1849.3737 | AM11: =+AJ11+(AL11*(1-EXP(-PARAMETROS!$G$14))) -> 205.07068 | AN11: =+AM11*0.55*(1.33333333333333) -> 150.38516 | AO11: =+AN11+AH11+AB11+V11+P11+J11 -> 1056.8069
B12: 4 | C12: 2028 | D12: 431240.97 | E12: =+D12*PARAMETROS!$B$10*0.5*0.4*PARAMETROS!$B$6 -> 2965.9637 | F12: =+E12*(1-EXP(-PARAMETROS!$B$14*((13-8)/12))) -> 121.04259 | G12: =+E12*EXP(-PARAMETROS!$B$14*((13-8)/12)) -> 2844.9211 | H12: =+G12+(H11*EXP(-PARAMETROS!$B$14)) -> 9764.7953 | I12: =+F12+(H12*(1-EXP(-PARAMETROS!$B$14))) -> 1050.2857 | J12: =+I12*0.55*(1.33333333333333) -> 770.20953 | K12: =+D12*PARAMETROS!$C$10*0.5*0.4*PARAMETROS!$C$6 -> 422.59327 | L12: =+K12*(1-EXP(-PARAMETROS!$C$14*((13-8)/12))) -> 8.7129513 | M12: =+K12*EXP(-PARAMETROS!$C$14*((13-8)/12)) -> 413.88031 | N12: =+M12+(N11*EXP(-PARAMETROS!$C$14)) -> 1523.4273 | O12: =+L12+(N12*(1-EXP(-PARAMETROS!$C$14))) -> 83.011378 | P12: =+O12*0.55*(1.33333333333333) -> 60.87501 | Q12: =+D12*PARAMETROS!$D$6*0.5*0.4*PARAMETROS!$D$10 -> 3616.25 | R12: =+Q12*(1-EXP(-PARAMETROS!$D$14*((13-8)/12))) -> 30.010201 | S12: =+Q12*EXP(-PARAMETROS!$D$14*((13-8)/12)) -> 3586.2398 | T12: =+S12+(T11*EXP(-PARAMETROS!$D$14)) -> 13786.299 | U12: =+R12+(T12*(1-EXP(-PARAMETROS!$D$14))) -> 302.99722 | V12: =+U12*0.55*(1.33333333333333) -> 222.19796 | W12: =+D12*PARAMETROS!$E$6*0.5*0.4*PARAMETROS!$E$10 -> 434.62094 | X12: =+W12*(1-EXP(-PARAMETROS!$E$14*((13-8)/12))) -> 1.8071531 | Y12: =+W12*EXP(-PARAMETROS!$E$14*((13-8)/12)) -> 432.81379 | Z12: =+Y12+(Z11*EXP(-PARAMETROS!$E$14)) -> 1688.5154 | AA12: =+X12+(Z12*(1-EXP(-PARAMETROS!$E$14))) -> 18.608162 | AB12: =+AA12*0.55*(1.33333333333333) -> 13.645986 | AC12: =+D12*PARAMETROS!$F$6*0.5*0.4*PARAMETROS!$F$10 -> 1106.6486 | AD12: =+AC12*(1-EXP(-PARAMETROS!$F$14*((13-8)/12))) -> 9.1837532 | AE12: =+AC12*EXP(-PARAMETROS!$F$14*((13-8)/12)) -> 1097.4649 | AF12: =+AE12+(AF11*EXP(-PARAMETROS!$F$14)) -> 4218.8978 | AG12: =+AD12+(AF12*(1-EXP(-PARAMETROS!$F$14))) -> 92.723526 | AH12: =+AG12*0.55*(1.33333333333333) -> 67.997253 | AI12: =+D12*PARAMETROS!$G$6*0.5*0.4*PARAMETROS!$G$10 -> 717.23729 | AJ12: =+AI12*(1-EXP(-PARAMETROS!$G$14*((13-8)/12))) -> 29.270843 | AK12: =+AI12*EXP(-PARAMETROS!$G$14*((13-8)/12)) -> 687.96645 | AL12: =+AK12+(AL11*EXP(-PARAMETROS!$G$14)) -> 2361.349 | AM12: =+AJ12+(AL12*(1-EXP(-PARAMETROS!$G$14))) -> 253.98291 | AN12: =+AM12*0.55*(1.33333333333333) -> 186.25413 | AO12: =+AN12+AH12+AB12+V12+P12+J12 -> 1321.1799
B13: 5 | C13: 2029 | D13: 433931.91 | E13: =+D13*PARAMETROS!$B$10*0.5*0.4*PARAMETROS!$B$6 -> 2984.4713 | F13: =+E13*(1-EXP(-PARAMETROS!$B$14*((13-8)/12))) -> 121.79789 | G13: =+E13*EXP(-PARAMETROS!$B$14*((13-8)/12)) -> 2862.6734 | H13: =+G13+(H12*EXP(-PARAMETROS!$B$14)) -> 11698.226 | I13: =+F13+(H13*(1-EXP(-PARAMETROS!$B$14))) -> 1235.0312 | J13: =+I13*0.55*(1.33333333333333) -> 905.68958 | K13: =+D13*PARAMETROS!$C$10*0.5*0.4*PARAMETROS!$C$6 -> 425.23025 | L13: =+K13*(1-EXP(-PARAMETROS!$C$14*((13-8)/12))) -> 8.7673201 | M13: =+K13*EXP(-PARAMETROS!$C$14*((13-8)/12)) -> 416.46293 | N13: =+M13+(N12*EXP(-PARAMETROS!$C$14)) -> 1865.5918 | O13: =+L13+(N13*(1-EXP(-PARAMETROS!$C$14))) -> 99.753306 | P13: =+O13*0.55*(1.33333333333333) -> 73.152425 | Q13: =+D13*PARAMETROS!$D$6*0.5*0.4*PARAMETROS!$D$10 -> 3638.8154 | R13: =+Q13*(1-EXP(-PARAMETROS!$D$14*((13-8)/12))) -> 30.197465 | S13: =+Q13*EXP(-PARAMETROS!$D$14*((13-8)/12)) -> 3608.618 | T13: =+S13+(T12*EXP(-PARAMETROS!$D$14)) -> 17121.93 | U13: =+R13+(T13*(1-EXP(-PARAMETROS!$D$14))) -> 369.2344 | V13: =+U13*0.55*(1.33333333333333) -> 270.77189 | W13: =+D13*PARAMETROS!$E$6*0.5*0.4*PARAMETROS!$E$10 -> 437.33297 | X13: =+W13*(1-EXP(-PARAMETROS!$E$14*((13-8)/12))) -> 1.8184297 | Y13: =+W13*EXP(-PARAMETROS!$E$14*((13-8)/12)) -> 435.51454 | Z13: =+Y13+(Z12*EXP(-PARAMETROS!$E$14)) -> 2107.229 | AA13: =+X13+(Z13*(1-EXP(-PARAMETROS!$E$14))) -> 22.785708 | AB13: =+AA13*0.55*(1.33333333333333) -> 16.709519 | AC13: =+D13*PARAMETROS!$F$6*0.5*0.4*PARAMETROS!$F$10 -> 1113.5541 | AD13: =+AC13*(1-EXP(-PARAMETROS!$F$14*((13-8)/12))) -> 9.2410598 | AE13: =+AC13*EXP(-PARAMETROS!$F$14*((13-8)/12)) -> 1104.3131 | AF13: =+AE13+(AF12*EXP(-PARAMETROS!$F$14)) -> 5239.6711 | AG13: =+AD13+(AF13*(1-EXP(-PARAMETROS!$F$14))) -> 112.9935 | AH13: =+AG13*0.55*(1.33333333333333) -> 82.861899 | AI13: =+D13*PARAMETROS!$G$6*0.5*0.4*PARAMETROS!$G$10 -> 721.71285 | AJ13: =+AI13*(1-EXP(-PARAMETROS!$G$14*((13-8)/12))) -> 29.453493 | AK13: =+AI13*EXP(-PARAMETROS!$G$14*((13-8)/12)) -> 692.25936 | AL13: =+AK13+(AL12*EXP(-PARAMETROS!$G$14)) -> 2828.8963 | AM13: =+AJ13+(AL13*(1-EXP(-PARAMETROS!$G$14))) -> 298.65857 | AN13: =+AM13*0.55*(1.33333333333333) -> 219.01628 | AO13: =+AN13+AH13+AB13+V13+P13+J13 -> 1568.2016
B14: 6 | C14: 2030 | D14: 436492.11 | E14: =+D14*PARAMETROS!$B$10*0.5*0.4*PARAMETROS!$B$6 -> 3002.0797 | F14: =+E14*(1-EXP(-PARAMETROS!$B$14*((13-8)/12))) -> 122.5165 | G14: =+E14*EXP(-PARAMETROS!$B$14*((13-8)/12)) -> 2879.5632 | H14: =+G14+(H13*EXP(-PARAMETROS!$B$14)) -> 13464.555 | I14: =+F14+(H14*(1-EXP(-PARAMETROS!$B$14))) -> 1403.8384 | J14: =+I14*0.55*(1.33333333333333) -> 1029.4815 | K14: =+D14*PARAMETROS!$C$10*0.5*0.4*PARAMETROS!$C$6 -> 427.73911 | L14: =+K14*(1-EXP(-PARAMETROS!$C$14*((13-8)/12))) -> 8.8190473 | M14: =+K14*EXP(-PARAMETROS!$C$14*((13-8)/12)) -> 418.92006 | N14: =+M14+(N13*EXP(-PARAMETROS!$C$14)) -> 2193.5259 | O14: =+L14+(N14*(1-EXP(-PARAMETROS!$C$14))) -> 115.79857 | P14: =+O14*0.55*(1.33333333333333) -> 84.918949 | Q14: =+D14*PARAMETROS!$D$6*0.5*0.4*PARAMETROS!$D$10 -> 3660.2845 | R14: =+Q14*(1-EXP(-PARAMETROS!$D$14*((13-8)/12))) -> 30.37563 | S14: =+Q14*EXP(-PARAMETROS!$D$14*((13-8)/12)) -> 3629.9088 | T14: =+S14+(T13*EXP(-PARAMETROS!$D$14)) -> 20412.802 | U14: =+R14+(T14*(1-EXP(-PARAMETROS!$D$14))) -> 434.57619 | V14: =+U14*0.55*(1.33333333333333) -> 318.68921 | W14: =+D14*PARAMETROS!$E$6*0.5*0.4*PARAMETROS!$E$10 -> 439.91324 | X14: =+W14*(1-EXP(-PARAMETROS!$E$14*((13-8)/12))) -> 1.8291584 | Y14: =+W14*EXP(-PARAMETROS!$E$14*((13-8)/12)) -> 438.08408 | Z14: =+Y14+(Z13*EXP(-PARAMETROS!$E$14)) -> 2524.3458 | AA14: =+X14+(Z14*(1-EXP(-PARAMETROS!$E$14))) -> 26.946819 | AB14: =+AA14*0.55*(1.33333333333333) -> 19.761 | AC14: =+D14*PARAMETROS!$F$6*0.5*0.4*PARAMETROS!$F$10 -> 1120.1241 | AD14: =+AC14*(1-EXP(-PARAMETROS!$F$14*((13-8)/12))) -> 9.2955821 | AE14: =+AC14*EXP(-PARAMETROS!$F$14*((13-8)/12)) -> 1110.8285 | AF14: =+AE14+(AF13*EXP(-PARAMETROS!$F$14)) -> 6246.7471 | AG14: =+AD14+(AF14*(1-EXP(-PARAMETROS!$F$14))) -> 132.98946 | AH14: =+AG14*0.55*(1.33333333333333) -> 97.525606 | AI14: =+D14*PARAMETROS!$G$6*0.5*0.4*PARAMETROS!$G$10 -> 725.97096 | AJ14: =+AI14*(1-EXP(-PARAMETROS!$G$14*((13-8)/12))) -> 29.627269 | AK14: =+AI14*EXP(-PARAMETROS!$G$14*((13-8)/12)) -> 696.34369 | AL14: =+AK14+(AL13*EXP(-PARAMETROS!$G$14)) -> 3256.0349 | AM14: =+AJ14+(AL14*(1-EXP(-PARAMETROS!$G$14))) -> 339.47995 | AN14: =+AM14*0.55*(1.33333333333333) -> 248.95197 | AO14: =+AN14+AH14+AB14+V14+P14+J14 -> 1799.3282
B15: 7 | C15: 2031 | D15: 438927.74 | E15: =+D15*PARAMETROS!$B$10*0.5*0.4*PARAMETROS!$B$6 -> 3018.8313 | F15: =+E15*(1-EXP(-PARAMETROS!$B$14*((13-8)/12))) -> 123.20014 | G15: =+E15*EXP(-PARAMETROS!$B$14*((13-8)/12)) -> 2895.6311 | H15: =+G15+(H14*EXP(-PARAMETROS!$B$14)) -> 15078.865 | I15: =+F15+(H15*(1-EXP(-PARAMETROS!$B$14))) -> 1558.1438 | J15: =+I15*0.55*(1.33333333333333) -> 1142.6388 | K15: =+D15*PARAMETROS!$C$10*0.5*0.4*PARAMETROS!$C$6 -> 430.12589 | L15: =+K15*(1-EXP(-PARAMETROS!$C$14*((13-8)/12))) -> 8.8682576 | M15: =+K15*EXP(-PARAMETROS!$C$14*((13-8)/12)) -> 421.25763 | N15: =+M15+(N14*EXP(-PARAMETROS!$C$14)) -> 2507.804 | O15: =+L15+(N15*(1-EXP(-PARAMETROS!$C$14))) -> 131.1753 | P15: =+O15*0.55*(1.33333333333333) -> 96.195221 | Q15: =+D15*PARAMETROS!$D$6*0.5*0.4*PARAMETROS!$D$10 -> 3680.7088 | R15: =+Q15*(1-EXP(-PARAMETROS!$D$14*((13-8)/12))) -> 30.545126 | S15: =+Q15*EXP(-PARAMETROS!$D$14*((13-8)/12)) -> 3650.1637 | T15: =+S15+(T14*EXP(-PARAMETROS!$D$14)) -> 23658.765 | U15: =+R15+(T15*(1-EXP(-PARAMETROS!$D$14))) -> 499.02007 | V15: =+U15*0.55*(1.33333333333333) -> 365.94805 | W15: =+D15*PARAMETROS!$E$6*0.5*0.4*PARAMETROS!$E$10 -> 442.36795 | X15: =+W15*(1-EXP(-PARAMETROS!$E$14*((13-8)/12))) -> 1.8393651 | Y15: =+W15*EXP(-PARAMETROS!$E$14*((13-8)/12)) -> 440.52859 | Z15: =+Y15+(Z14*EXP(-PARAMETROS!$E$14)) -> 2939.7567 | AA15: =+X15+(Z15*(1-EXP(-PARAMETROS!$E$14))) -> 31.090433 | AB15: =+AA15*0.55*(1.33333333333333) -> 22.799651 | AC15: =+D15*PARAMETROS!$F$6*0.5*0.4*PARAMETROS!$F$10 -> 1126.3744 | AD15: =+AC15*(1-EXP(-PARAMETROS!$F$14*((13-8)/12))) -> 9.3474514 | AE15: =+AC15*EXP(-PARAMETROS!$F$14*((13-8)/12)) -> 1117.0269 | AF15: =+AE15+(AF14*EXP(-PARAMETROS!$F$14)) -> 7240.0802 | AG15: =+AD15+(AF15*(1-EXP(-PARAMETROS!$F$14))) -> 152.71064 | AH15: =+AG15*0.55*(1.33333333333333) -> 111.98781 | AI15: =+D15*PARAMETROS!$G$6*0.5*0.4*PARAMETROS!$G$10 -> 730.02187 | AJ15: =+AI15*(1-EXP(-PARAMETROS!$G$14*((13-8)/12))) -> 29.792589 | AK15: =+AI15*EXP(-PARAMETROS!$G$14*((13-8)/12)) -> 700.22928 | AL15: =+AK15+(AL14*EXP(-PARAMETROS!$G$14)) -> 3646.4115 | AM15: =+AJ15+(AL15*(1-EXP(-PARAMETROS!$G$14))) -> 376.79452 | AN15: =+AM15*0.55*(1.33333333333333) -> 276.31598 | AO15: =+AN15+AH15+AB15+V15+P15+J15 -> 2015.8855
B16: 8 | C16: 2032 | D16: 441236.5 | E16: =+D16*PARAMETROS!$B$10*0.5*0.4*PARAMETROS!$B$6 -> 3034.7103 | F16: =+E16*(1-EXP(-PARAMETROS!$B$14*((13-8)/12))) -> 123.84818 | G16: =+E16*EXP(-PARAMETROS!$B$14*((13-8)/12)) -> 2910.8622 | H16: =+G16+(H15*EXP(-PARAMETROS!$B$14)) -> 16554.783 | I16: =+F16+(H16*(1-EXP(-PARAMETROS!$B$14))) -> 1699.2441 | J16: =+I16*0.55*(1.33333333333333) -> 1246.1123 | K16: =+D16*PARAMETROS!$C$10*0.5*0.4*PARAMETROS!$C$6 -> 432.38835 | L16: =+K16*(1-EXP(-PARAMETROS!$C$14*((13-8)/12))) -> 8.9149046 | M16: =+K16*EXP(-PARAMETROS!$C$14*((13-8)/12)) -> 423.47345 | N16: =+M16+(N15*EXP(-PARAMETROS!$C$14)) -> 2808.9704 | O16: =+L16+(N16*(1-EXP(-PARAMETROS!$C$14))) -> 145.91001 | P16: =+O16*0.55*(1.33333333333333) -> 107.00067 | Q16: =+D16*PARAMETROS!$D$6*0.5*0.4*PARAMETROS!$D$10 -> 3700.0694 | R16: =+Q16*(1-EXP(-PARAMETROS!$D$14*((13-8)/12))) -> 30.705793 | S16: =+Q16*EXP(-PARAMETROS!$D$14*((13-8)/12)) -> 3669.3636 | T16: =+S16+(T15*EXP(-PARAMETROS!$D$14)) -> 26859.654 | U16: =+R16+(T16*(1-EXP(-PARAMETROS!$D$14))) -> 562.56257 | V16: =+U16*0.55*(1.33333333333333) -> 412.54589 | W16: =+D16*PARAMETROS!$E$6*0.5*0.4*PARAMETROS!$E$10 -> 444.69481 | X16: =+W16*(1-EXP(-PARAMETROS!$E$14*((13-8)/12))) -> 1.8490402 | Y16: =+W16*EXP(-PARAMETROS!$E$14*((13-8)/12)) -> 442.84577 | Z16: =+Y16+(Z15*EXP(-PARAMETROS!$E$14)) -> 3353.3514 | AA16: =+X16+(Z16*(1-EXP(-PARAMETROS!$E$14))) -> 35.215444 | AB16: =+AA16*0.55*(1.33333333333333) -> 25.824659 | AC16: =+D16*PARAMETROS!$F$6*0.5*0.4*PARAMETROS!$F$10 -> 1132.2991 | AD16: =+AC16*(1-EXP(-PARAMETROS!$F$14*((13-8)/12))) -> 9.396619 | AE16: =+AC16*EXP(-PARAMETROS!$F$14*((13-8)/12)) -> 1122.9025 | AF16: =+AE16+(AF15*EXP(-PARAMETROS!$F$14)) -> 8219.6195 | AG16: =+AD16+(AF16*(1-EXP(-PARAMETROS!$F$14))) -> 172.15599 | AH16: =+AG16*0.55*(1.33333333333333) -> 126.24773 | AI16: =+D16*PARAMETROS!$G$6*0.5*0.4*PARAMETROS!$G$10 -> 733.86179 | AJ16: =+AI16*(1-EXP(-PARAMETROS!$G$14*((13-8)/12))) -> 29.949298 | AK16: =+AI16*EXP(-PARAMETROS!$G$14*((13-8)/12)) -> 703.91249 | AL16: =+AK16+(AL15*EXP(-PARAMETROS!$G$14)) -> 4003.322 | AM16: =+AJ16+(AL16*(1-EXP(-PARAMETROS!$G$14))) -> 410.91576 | AN16: =+AM16*0.55*(1.33333333333333) -> 301.33822 | AO16: =+AN16+AH16+AB16+V16+P16+J16 -> 2219.0695
B17: 9 | C17: 2033 | D17: 443416.21 | E17: =+D17*PARAMETROS!$B$10*0.5*0.4*PARAMETROS!$B$6 -> 3049.7018 | F17: =+E17*(1-EXP(-PARAMETROS!$B$14*((13-8)/12))) -> 124.45999 | G17: =+E17*EXP(-PARAMETROS!$B$14*((13-8)/12)) -> 2925.2418 | H17: =+G17+(H16*EXP(-PARAMETROS!$B$14)) -> 17904.629 | I17: =+F17+(H17*(1-EXP(-PARAMETROS!$B$14))) -> 1828.3107 | J17: =+I17*0.55*(1.33333333333333) -> 1340.7612 | K17: =+D17*PARAMETROS!$C$10*0.5*0.4*PARAMETROS!$C$6 -> 434.52435 | L17: =+K17*(1-EXP(-PARAMETROS!$C$14*((13-8)/12))) -> 8.9589443 | M17: =+K17*EXP(-PARAMETROS!$C$14*((13-8)/12)) -> 425.56541 | N17: =+M17+(N16*EXP(-PARAMETROS!$C$14)) -> 3097.5407 | O17: =+L17+(N17*(1-EXP(-PARAMETROS!$C$14))) -> 160.02779 | P17: =+O17*0.55*(1.33333333333333) -> 117.35371 | Q17: =+D17*PARAMETROS!$D$6*0.5*0.4*PARAMETROS!$D$10 -> 3718.3477 | R17: =+Q17*(1-EXP(-PARAMETROS!$D$14*((13-8)/12))) -> 30.85748 | S17: =+Q17*EXP(-PARAMETROS!$D$14*((13-8)/12)) -> 3687.4902 | T17: =+S17+(T16*EXP(-PARAMETROS!$D$14)) -> 30015.287 | U17: =+R17+(T17*(1-EXP(-PARAMETROS!$D$14))) -> 625.19999 | V17: =+U17*0.55*(1.33333333333333) -> 458.47999 | W17: =+D17*PARAMETROS!$E$6*0.5*0.4*PARAMETROS!$E$10 -> 446.8916 | X17: =+W17*(1-EXP(-PARAMETROS!$E$14*((13-8)/12))) -> 1.8581745 | Y17: =+W17*EXP(-PARAMETROS!$E$14*((13-8)/12)) -> 445.03343 | Z17: =+Y17+(Z16*EXP(-PARAMETROS!$E$14)) -> 3765.0184 | AA17: =+X17+(Z17*(1-EXP(-PARAMETROS!$E$14))) -> 39.320734 | AB17: =+AA17*0.55*(1.33333333333333) -> 28.835205 | AC17: =+D17*PARAMETROS!$F$6*0.5*0.4*PARAMETROS!$F$10 -> 1137.8927 | AD17: =+AC17*(1-EXP(-PARAMETROS!$F$14*((13-8)/12))) -> 9.4430383 | AE17: =+AC17*EXP(-PARAMETROS!$F$14*((13-8)/12)) -> 1128.4496 | AF17: =+AE17+(AF16*EXP(-PARAMETROS!$F$14)) -> 9185.3098 | AG17: =+AD17+(AF17*(1-EXP(-PARAMETROS!$F$14))) -> 191.32436 | AH17: =+AG17*0.55*(1.33333333333333) -> 140.30453 | AI17: =+D17*PARAMETROS!$G$6*0.5*0.4*PARAMETROS!$G$10 -> 737.48707 | AJ17: =+AI17*(1-EXP(-PARAMETROS!$G$14*((13-8)/12))) -> 30.097248 | AK17: =+AI17*EXP(-PARAMETROS!$G$14*((13-8)/12)) -> 707.38982 | AL17: =+AK17+(AL16*EXP(-PARAMETROS!$G$14)) -> 4329.7454 | AM17: =+AJ17+(AL17*(1-EXP(-PARAMETROS!$G$14))) -> 442.127 | AN17: =+AM17*0.55*(1.33333333333333) -> 324.22647 | AO17: =+AN17+AH17+AB17+V17+P17+J17 -> 2409.9611
B18: 10 | C18: 2034 | D18: 445464.79 | E18: =+D18*PARAMETROS!$B$10*0.5*0.4*PARAMETROS!$B$6 -> 3063.7914 | F18: =+E18*(1-EXP(-PARAMETROS!$B$14*((13-8)/12))) -> 125.03499 | G18: =+E18*EXP(-PARAMETROS!$B$14*((13-8)/12)) -> 2938.7564 | H18: =+G18+(H17*EXP(-PARAMETROS!$B$14)) -> 19139.535 | I18: =+F18+(H18*(1-EXP(-PARAMETROS!$B$14))) -> 1946.4025 | J18: =+I18*0.55*(1.33333333333333) -> 1427.3619 | K18: =+D18*PARAMETROS!$C$10*0.5*0.4*PARAMETROS!$C$6 -> 436.53185 | L18: =+K18*(1-EXP(-PARAMETROS!$C$14*((13-8)/12))) -> 9.0003346 | M18: =+K18*EXP(-PARAMETROS!$C$14*((13-8)/12)) -> 427.53152 | N18: =+M18+(N17*EXP(-PARAMETROS!$C$14)) -> 3374.0034 | O18: =+L18+(N18*(1-EXP(-PARAMETROS!$C$14))) -> 173.55242 | P18: =+O18*0.55*(1.33333333333333) -> 127.27178 | Q18: =+D18*PARAMETROS!$D$6*0.5*0.4*PARAMETROS!$D$10 -> 3735.5265 | R18: =+Q18*(1-EXP(-PARAMETROS!$D$14*((13-8)/12))) -> 31.000041 | S18: =+Q18*EXP(-PARAMETROS!$D$14*((13-8)/12)) -> 3704.5264 | T18: =+S18+(T17*EXP(-PARAMETROS!$D$14)) -> 33125.471 | U18: =+R18+(T18*(1-EXP(-PARAMETROS!$D$14))) -> 686.92832 | V18: =+U18*0.55*(1.33333333333333) -> 503.74743 | W18: =+D18*PARAMETROS!$E$6*0.5*0.4*PARAMETROS!$E$10 -> 448.95624 | X18: =+W18*(1-EXP(-PARAMETROS!$E$14*((13-8)/12))) -> 1.8667592 | Y18: =+W18*EXP(-PARAMETROS!$E$14*((13-8)/12)) -> 447.08948 | Z18: =+Y18+(Z17*EXP(-PARAMETROS!$E$14)) -> 4174.6454 | AA18: =+X18+(Z18*(1-EXP(-PARAMETROS!$E$14))) -> 43.405175 | AB18: =+AA18*0.55*(1.33333333333333) -> 31.830461 | AC18: =+D18*PARAMETROS!$F$6*0.5*0.4*PARAMETROS!$F$10 -> 1143.1497 | AD18: =+AC18*(1-EXP(-PARAMETROS!$F$14*((13-8)/12))) -> 9.4866651 | AE18: =+AC18*EXP(-PARAMETROS!$F$14*((13-8)/12)) -> 1133.6631 | AF18: =+AE18+(AF17*EXP(-PARAMETROS!$F$14)) -> 10137.092 | AG18: =+AD18+(AF18*(1-EXP(-PARAMETROS!$F$14))) -> 210.21453 | AH18: =+AG18*0.55*(1.33333333333333) -> 154.15732 | AI18: =+D18*PARAMETROS!$G$6*0.5*0.4*PARAMETROS!$G$10 -> 740.89426 | AJ18: =+AI18*(1-EXP(-PARAMETROS!$G$14*((13-8)/12))) -> 30.236297 | AK18: =+AI18*EXP(-PARAMETROS!$G$14*((13-8)/12)) -> 710.65796 | AL18: =+AK18+(AL17*EXP(-PARAMETROS!$G$14)) -> 4628.3736 | AM18: =+AJ18+(AL18*(1-EXP(-PARAMETROS!$G$14))) -> 470.68428 | AN18: =+AM18*0.55*(1.33333333333333) -> 345.16847 | AO18: =+AN18+AH18+AB18+V18+P18+J18 -> 2589.5373
B19: 11 | C19: 2035 | D19: 447380.29 | E19: =+D19*PARAMETROS!$B$10*0.5*0.4*PARAMETROS!$B$6 -> 3076.9657 | F19: =+E19*(1-EXP(-PARAMETROS!$B$14*((13-8)/12))) -> 125.57264 | G19: =+E19*EXP(-PARAMETROS!$B$14*((13-8)/12)) -> 2951.3931 | H19: =+G19+(H18*EXP(-PARAMETROS!$B$14)) -> 20269.56 | I19: =+F19+(H19*(1-EXP(-PARAMETROS!$B$14))) -> 2054.4763 | J19: =+I19*0.55*(1.33333333333333) -> 1506.616 | K19: =+D19*PARAMETROS!$C$10*0.5*0.4*PARAMETROS!$C$6 -> 438.40894 | L19: =+K19*(1-EXP(-PARAMETROS!$C$14*((13-8)/12))) -> 9.039036 | M19: =+K19*EXP(-PARAMETROS!$C$14*((13-8)/12)) -> 429.3699 | N19: =+M19+(N18*EXP(-PARAMETROS!$C$14)) -> 3638.8212 | O19: =+L19+(N19*(1-EXP(-PARAMETROS!$C$14))) -> 186.50644 | P19: =+O19*0.55*(1.33333333333333) -> 136.77139 | Q19: =+D19*PARAMETROS!$D$6*0.5*0.4*PARAMETROS!$D$10 -> 3751.5892 | R19: =+Q19*(1-EXP(-PARAMETROS!$D$14*((13-8)/12))) -> 31.133341 | S19: =+Q19*EXP(-PARAMETROS!$D$14*((13-8)/12)) -> 3720.4559 | T19: =+S19+(T18*EXP(-PARAMETROS!$D$14)) -> 36189.999 | U19: =+R19+(T19*(1-EXP(-PARAMETROS!$D$14))) -> 747.74333 | V19: =+U19*0.55*(1.33333333333333) -> 548.34511 | W19: =+D19*PARAMETROS!$E$6*0.5*0.4*PARAMETROS!$E$10 -> 450.88675 | X19: =+W19*(1-EXP(-PARAMETROS!$E$14*((13-8)/12))) -> 1.8747863 | Y19: =+W19*EXP(-PARAMETROS!$E$14*((13-8)/12)) -> 449.01197 | Z19: =+Y19+(Z18*EXP(-PARAMETROS!$E$14)) -> 4582.1189 | AA19: =+X19+(Z19*(1-EXP(-PARAMETROS!$E$14))) -> 47.467631 | AB19: =+AA19*0.55*(1.33333333333333) -> 34.809596 | AC19: =+D19*PARAMETROS!$F$6*0.5*0.4*PARAMETROS!$F$10 -> 1148.0653 | AD19: =+AC19*(1-EXP(-PARAMETROS!$F$14*((13-8)/12))) -> 9.5274578 | AE19: =+AC19*EXP(-PARAMETROS!$F$14*((13-8)/12)) -> 1138.5378 | AF19: =+AE19+(AF18*EXP(-PARAMETROS!$F$14)) -> 11074.901 | AG19: =+AD19+(AF19*(1-EXP(-PARAMETROS!$F$14))) -> 228.8252 | AH19: =+AG19*0.55*(1.33333333333333) -> 167.80515 | AI19: =+D19*PARAMETROS!$G$6*0.5*0.4*PARAMETROS!$G$10 -> 744.0801 | AJ19: =+AI19*(1-EXP(-PARAMETROS!$G$14*((13-8)/12))) -> 30.366313 | AK19: =+AI19*EXP(-PARAMETROS!$G$14*((13-8)/12)) -> 713.71379 | AL19: =+AK19+(AL18*EXP(-PARAMETROS!$G$14)) -> 4901.6394 | AM19: =+AJ19+(AL19*(1-EXP(-PARAMETROS!$G$14))) -> 496.81897 | AN19: =+AM19*0.55*(1.33333333333333) -> 364.33391 | AO19: =+AN19+AH19+AB19+V19+P19+J19 -> 2758.6811
B20: 12 | C20: 2036 | D20: 449160.86 | E20: =+D20*PARAMETROS!$B$10*0.5*0.4*PARAMETROS!$B$6 -> 3089.2121 | F20: =+E20*(1-EXP(-PARAMETROS!$B$14*((13-8)/12))) -> 126.07242 | G20: =+E20*EXP(-PARAMETROS!$B$14*((13-8)/12)) -> 2963.1396 | H20: =+G20+(H19*EXP(-PARAMETROS!$B$14)) -> 21303.796 | I20: =+F20+(H20*(1-EXP(-PARAMETROS!$B$14))) -> 2153.3967 | J20: =+I20*0.55*(1.33333333333333) -> 1579.1576 | K20: =+D20*PARAMETROS!$C$10*0.5*0.4*PARAMETROS!$C$6 -> 440.15381 | L20: =+K20*(1-EXP(-PARAMETROS!$C$14*((13-8)/12))) -> 9.0750114 | M20: =+K20*EXP(-PARAMETROS!$C$14*((13-8)/12)) -> 431.0788 | N20: =+M20+(N19*EXP(-PARAMETROS!$C$14)) -> 3892.4326 | O20: =+L20+(N20*(1-EXP(-PARAMETROS!$C$14))) -> 198.91119 | P20: =+O20*0.55*(1.33333333333333) -> 145.86821 | Q20: =+D20*PARAMETROS!$D$6*0.5*0.4*PARAMETROS!$D$10 -> 3766.5206 | R20: =+Q20*(1-EXP(-PARAMETROS!$D$14*((13-8)/12))) -> 31.257252 | S20: =+Q20*EXP(-PARAMETROS!$D$14*((13-8)/12)) -> 3735.2633 | T20: =+S20+(T19*EXP(-PARAMETROS!$D$14)) -> 39208.652 | U20: =+R20+(T20*(1-EXP(-PARAMETROS!$D$14))) -> 807.64058 | V20: =+U20*0.55*(1.33333333333333) -> 592.26976 | W20: =+D20*PARAMETROS!$E$6*0.5*0.4*PARAMETROS!$E$10 -> 452.68128 | X20: =+W20*(1-EXP(-PARAMETROS!$E$14*((13-8)/12))) -> 1.8822479 | Y20: =+W20*EXP(-PARAMETROS!$E$14*((13-8)/12)) -> 450.79903 | Z20: =+Y20+(Z19*EXP(-PARAMETROS!$E$14)) -> 4987.3251 | AA20: =+X20+(Z20*(1-EXP(-PARAMETROS!$E$14))) -> 51.506962 | AB20: =+AA20*0.55*(1.33333333333333) -> 37.771772 | AC20: =+D20*PARAMETROS!$F$6*0.5*0.4*PARAMETROS!$F$10 -> 1152.6346 | AD20: =+AC20*(1-EXP(-PARAMETROS!$F$14*((13-8)/12))) -> 9.5653771 | AE20: =+AC20*EXP(-PARAMETROS!$F$14*((13-8)/12)) -> 1143.0692 | AF20: =+AE20+(AF19*EXP(-PARAMETROS!$F$14)) -> 11998.673 | AG20: =+AD20+(AF20*(1-EXP(-PARAMETROS!$F$14))) -> 247.15502 | AH20: =+AG20*0.55*(1.33333333333333) -> 181.24701 | AI20: =+D20*PARAMETROS!$G$6*0.5*0.4*PARAMETROS!$G$10 -> 747.04154 | AJ20: =+AI20*(1-EXP(-PARAMETROS!$G$14*((13-8)/12))) -> 30.487171 | AK20: =+AI20*EXP(-PARAMETROS!$G$14*((13-8)/12)) -> 716.55437 | AL20: =+AK20+(AL19*EXP(-PARAMETROS!$G$14)) -> 5151.7411 | AM20: =+AJ20+(AL20*(1-EXP(-PARAMETROS!$G$14))) -> 520.74016 | AN20: =+AM20*0.55*(1.33333333333333) -> 381.87611 | AO20: =+AN20+AH20+AB20+V20+P20+J20 -> 2918.1904
... B47: 39 | C47: 2063 | D47: 470011.15 | E47: =+D47*PARAMETROS!$B$10*0.5*0.4*PARAMETROS!$B$6 -> 3232.615 | F47: =+E47*(1-EXP(-PARAMETROS!$B$14*((13-8)/12))) -> 131.92477 | G47: =+E47*EXP(-PARAMETROS!$B$14*((13-8)/12)) -> 3100.6902 | H47: =+G47+(H46*EXP(-PARAMETROS!$B$14)) -> 31522.807 | I47: =+F47+(H47*(1-EXP(-PARAMETROS!$B$14))) -> 3131.7165 | J47: =+I47*0.55*(1.33333333333333) -> 2296.5921 | K47: =+D47*PARAMETROS!$C$10*0.5*0.4*PARAMETROS!$C$6 -> 460.58599 | L47: =+K47*(1-EXP(-PARAMETROS!$C$14*((13-8)/12))) -> 9.4962784 | M47: =+K47*EXP(-PARAMETROS!$C$14*((13-8)/12)) -> 451.08971 | N47: =+M47+(N46*EXP(-PARAMETROS!$C$14)) -> 7768.8869 | O47: =+L47+(N47*(1-EXP(-PARAMETROS!$C$14))) -> 388.38937 | P47: =+O47*0.55*(1.33333333333333) -> 284.81887 | Q47: =+D47*PARAMETROS!$D$6*0.5*0.4*PARAMETROS!$D$10 -> 3941.3645 | R47: =+Q47*(1-EXP(-PARAMETROS!$D$14*((13-8)/12))) -> 32.708231 | S47: =+Q47*EXP(-PARAMETROS!$D$14*((13-8)/12)) -> 3908.6563 | T47: =+S47+(T46*EXP(-PARAMETROS!$D$14)) -> 103908.8 | U47: =+R47+(T47*(1-EXP(-PARAMETROS!$D$14))) -> 2090.2404 | V47: =+U47*0.55*(1.33333333333333) -> 1532.843 | W47: =+D47*PARAMETROS!$E$6*0.5*0.4*PARAMETROS!$E$10 -> 473.69499 | X47: =+W47*(1-EXP(-PARAMETROS!$E$14*((13-8)/12))) -> 1.9696229 | Y47: =+W47*EXP(-PARAMETROS!$E$14*((13-8)/12)) -> 471.72537 | Z47: =+Y47+(Z46*EXP(-PARAMETROS!$E$14)) -> 14838.064 | AA47: =+X47+(Z47*(1-EXP(-PARAMETROS!$E$14))) -> 149.61082 | AB47: =+AA47*0.55*(1.33333333333333) -> 109.7146 | AC47: =+D47*PARAMETROS!$F$6*0.5*0.4*PARAMETROS!$F$10 -> 1206.1405 | AD47: =+AC47*(1-EXP(-PARAMETROS!$F$14*((13-8)/12))) -> 10.009407 | AE47: =+AC47*EXP(-PARAMETROS!$F$14*((13-8)/12)) -> 1196.1311 | AF47: =+AE47+(AF46*EXP(-PARAMETROS!$F$14)) -> 31798.282 | AG47: =+AD47+(AF47*(1-EXP(-PARAMETROS!$F$14))) -> 639.65757 | AH47: =+AG47*0.55*(1.33333333333333) -> 469.08222 | AI47: =+D47*PARAMETROS!$G$6*0.5*0.4*PARAMETROS!$G$10 -> 781.71962 | AJ47: =+AI47*(1-EXP(-PARAMETROS!$G$14*((13-8)/12))) -> 31.902402 | AK47: =+AI47*EXP(-PARAMETROS!$G$14*((13-8)/12)) -> 749.81722 | AL47: =+AK47+(AL46*EXP(-PARAMETROS!$G$14)) -> 7622.9297 | AM47: =+AJ47+(AL47*(1-EXP(-PARAMETROS!$G$14))) -> 757.32008 | AN47: =+AM47*0.55*(1.33333333333333) -> 555.36806 | AO47: =+AN47+AH47+AB47+V47+P47+J47 -> 5248.4188

Sheet RS
B1: Ecuación 3 | C1: Emisiones de CH4T (RS) | E1: =AN4*(1-0.1) -> 30971.125
B2: Ecuación 11 | C2: Emisiones de metano en CO2 equivalente (RS) | E2: =+E1*28 -> 867191.5
B3: Fuente: INECC, 2020, METODOLOGÍA PARA EL CÁLCULO DE EMISIONES DE GASES DE EFECTO INVERNADERO GENERADO POR RESIDUOS SÓLIDOS URBANOS EN SITIOS DE DISPOSICIÓN FINAL
AN4: =+SUBTOTAL(9,AN8:AN55) -> 34412.361
B5: Categoría de residuos j | D5: Comida | J5: Jardín | P5: Papel | V5: Madera y paja | AB5: Textiles | AH5: Pañales | AN5: Total de CH generado
C6: RS Total (Relleno Sanitario) | D6: CODDmdj,T | E6: CODDm dec j,T | F6: CODDm rem j,T | G6: CODDma j,T | H6: CODDm descomp j,T | I6: CH4 generado j,T | J6: CODDmdj,T | K6: CODDm dec j,T | L6: CODDm rem j,T | M6: CODDma j,T | N6: CODDm descomp j,T | O6: CH4 generado j,T | P6: CODDmdj,T | Q6: CODDm dec j,T | R6: CODDm rem j,T | S6: CODDma j,T | T6: CODDm descomp j,T | U6: CH4 generado j,T | V6: CODDmdj,T | W6: CODDm dec j,T | X6: CODDm rem j,T | Y6: CODDma j,T | Z6: CODDm descomp j,T | AA6: CH4 generado j,T | AB6: CODDmdj,T | AC6: CODDm dec j,T | AD6: CODDm rem j,T | AE6: CODDma j,T | AF6: CODDm descomp j,T | AG6: CH4 generado j,T | AH6: CODDmdj,T | AI6: CODDm dec j,T | AJ6: CODDm rem j,T | AK6: CODDma j,T | AL6: CODDm descomp j,T | AM6: CH4 generado j,T | AN6: Total de CH generado
A7: t | B7: Año | C7: Toneladas | D7: Ecuación 10 | E7: Ecuación 8 | F7: Ecuación 7 | G7: Ecuación 9 | H7: Ecuación 6 | I7: Ecuación 5 | J7: Ecuación 10 | K7: Ecuación 8 | L7: Ecuación 7 | M7: Ecuación 9 | N7: Ecuación 6 | O7: Ecuación 5 | P7: Ecuación 10 | Q7: Ecuación 8 | R7: Ecuación 7 | S7: Ecuación 9 | T7: Ecuación 6 | U7: Ecuación 5 | V7: Ecuación 10 | W7: Ecuación 8 | X7: Ecuación 7 | Y7: Ecuación 9 | Z7: Ecuación 6 | AA7: Ecuación 5 | AB7: Ecuación 10 | AC7: Ecuación 8 | AD7: Ecuación 7 | AE7: Ecuación 9 | AF7: Ecuación 6 | AG7: Ecuación 5 | AH7: Ecuación 10 | AI7: Ecuación 8 | AJ7: Ecuación 7 | AK7: Ecuación 9 | AL7: Ecuación 6 | AM7: Ecuación 5
A8: 0 | B8: 2024 | C8: 407966.4 | AN8: =+AM8+AG8+AA8+U8+O8+I8 -> 0
A9: 1 | B9: 2025 | C9: 412874.6 | AN9: =+AM9+AG9+AA9+U9+O9+I9 -> 0
A10: 2 | B10: 2026 | C10: 84108.405 | D10: =+C10*PARAMETROS!$B$6*0.5*0.5*PARAMETROS!$B$10 -> 723.09478 | E10: =+D10*(1-EXP(-PARAMETROS!$B$14*((13-8)/12))) -> 29.50989 | F10: =+D10*EXP(-PARAMETROS!$B$14*((13-8)/12)) -> 693.58489 | G10: =+F10+(G9*EXP(-PARAMETROS!$B$14)) -> 693.58489 | H10: =+E10+(G10*(1-EXP(-PARAMETROS!$B$14))) -> 95.513219 | I10: =+H10*0.55*(1.33333333333333) -> 70.043027 | J10: =+C10*PARAMETROS!$C$6*0.5*0.5*PARAMETROS!$C$10 -> 103.02722 | K10: =+J10*(1-EXP(-PARAMETROS!$C$14*((13-8)/12))) -> 2.1241965 | L10: =+J10*EXP(-PARAMETROS!$C$14*((13-8)/12)) -> 100.90302 | M10: =+L10+(M9*EXP(-PARAMETROS!$C$14)) -> 100.90302 | N10: =+K10+(M10*(1-EXP(-PARAMETROS!$C$14))) -> 7.0452948 | O10: =+N10*0.55*(1.33333333333333) -> 5.1665495 | P10: =+C10*PARAMETROS!$D$6*0.5*0.5*PARAMETROS!$D$10 -> 881.63302 | Q10: =+P10*(1-EXP(-PARAMETROS!$D$14*((13-8)/12))) -> 7.3164144 | R10: =+P10*EXP(-PARAMETROS!$D$14*((13-8)/12)) -> 874.3166 | S10: =+R10+(S9*EXP(-PARAMETROS!$D$14)) -> 874.3166 | T10: =+Q10+(S10*(1-EXP(-PARAMETROS!$D$14))) -> 24.629043 | U10: =+T10*0.55*(1.33333333333333) -> 18.061298 | V10: =+C10*PARAMETROS!$E$6*0.5*0.5*PARAMETROS!$E$10 -> 105.95953 | W10: =+V10*(1-EXP(-PARAMETROS!$E$14*((13-8)/12))) -> 0.44057955 | X10: =+V10*EXP(-PARAMETROS!$E$14*((13-8)/12)) -> 105.51895 | Y10: =+X10+(Y9*EXP(-PARAMETROS!$E$14)) -> 105.51895 | Z10: =+W10+(Y10*(1-EXP(-PARAMETROS!$E$14))) -> 1.4905107 | AA10: =+Z10*0.55*(1.33333333333333) -> 1.0930412 | AB10: =+C10*PARAMETROS!$F$6*0.5*0.5*PARAMETROS!$F$10 -> 269.79826 | AC10: =+AB10*(1-EXP(-PARAMETROS!$F$14*((13-8)/12))) -> 2.2389768 | AD10: =+AB10*EXP(-PARAMETROS!$F$14*((13-8)/12)) -> 267.55929 | AE10: =+AD10+(AE9*EXP(-PARAMETROS!$F$14)) -> 267.55929 | AF10: =+AC10+(AE10*(1-EXP(-PARAMETROS!$F$14))) -> 7.5370056 | AG10: =+AF10*0.55*(1.33333333333333) -> 5.5271375 | AH10: =+C10*PARAMETROS!$G$6*0.5*0.5*PARAMETROS!$G$10 -> 174.86072 | AI10: =+AH10*(1-EXP(-PARAMETROS!$G$14*((13-8)/12))) -> 7.1361608 | AJ10: =+AH10*EXP(-PARAMETROS!$G$14*((13-8)/12)) -> 167.72456 | AK10: =+AJ10+(AK9*EXP(-PARAMETROS!$G$14)) -> 167.72456 | AL10: =+AI10+(AK10*(1-EXP(-PARAMETROS!$G$14))) -> 23.097263 | AM10: =+AL10*0.55*(1.33333333333333) -> 16.937993 | AN10: =+AM10+AG10+AA10+U10+O10+I10 -> 116.82905
A11: 3 | B11: 2027 | C11: 84995.211 | D11: =+C11*PARAMETROS!$B$6*0.5*0.5*PARAMETROS!$B$10 -> 730.71881 | E11: =+D11*(1-EXP(-PARAMETROS!$B$14*((13-8)/12))) -> 29.821031 | F11: =+D11*EXP(-PARAMETROS!$B$14*((13-8)/12)) -> 700.89777 | G11: =+F11+(G10*EXP(-PARAMETROS!$B$14)) -> 1328.4793 | H11: =+E11+(G11*(1-EXP(-PARAMETROS!$B$14))) -> 156.24255 | I11: =+H11*0.55*(1.33333333333333) -> 114.57787 | J11: =+C11*PARAMETROS!$C$6*0.5*0.5*PARAMETROS!$C$10 -> 104.1135 | K11: =+J11*(1-EXP(-PARAMETROS!$C$14*((13-8)/12))) -> 2.1465932 | L11: =+J11*EXP(-PARAMETROS!$C$14*((13-8)/12)) -> 101.9669 | M11: =+L11+(M10*EXP(-PARAMETROS!$C$14)) -> 197.94882 | N11: =+K11+(M11*(1-EXP(-PARAMETROS!$C$14))) -> 11.800671 | O11: =+N11*0.55*(1.33333333333333) -> 8.6538256 | P11: =+C11*PARAMETROS!$D$6*0.5*0.5*PARAMETROS!$D$10 -> 890.92861 | Q11: =+P11*(1-EXP(-PARAMETROS!$D$14*((13-8)/12))) -> 7.3935558 | R11: =+P11*EXP(-PARAMETROS!$D$14*((13-8)/12)) -> 883.53506 | S11: =+R11+(S10*EXP(-PARAMETROS!$D$14)) -> 1740.539 | T11: =+Q11+(S11*(1-EXP(-PARAMETROS!$D$14))) -> 41.858538 | U11: =+T11*0.55*(1.33333333333333) -> 30.696261 | V11: =+C11*PARAMETROS!$E$6*0.5*0.5*PARAMETROS!$E$10 -> 107.07673 | W11: =+V11*(1-EXP(-PARAMETROS!$E$14*((13-8)/12))) -> 0.44522485 | X11: =+V11*EXP(-PARAMETROS!$E$14*((13-8)/12)) -> 106.63151 | Y11: =+X11+(Y10*EXP(-PARAMETROS!$E$14)) -> 211.10053 | Z11: =+W11+(Y11*(1-EXP(-PARAMETROS!$E$14))) -> 2.5457102 | AA11: =+Z11*0.55*(1.33333333333333) -> 1.8668541 | AB11: =+C11*PARAMETROS!$F$6*0.5*0.5*PARAMETROS!$F$10 -> 272.64291 | AC11: =+AB11*(1-EXP(-PARAMETROS!$F$14*((13-8)/12))) -> 2.2625837 | AD11: =+AB11*EXP(-PARAMETROS!$F$14*((13-8)/12)) -> 270.38033 | AE11: =+AD11+(AE10*EXP(-PARAMETROS!$F$14)) -> 532.64158 | AF11: =+AC11+(AE11*(1-EXP(-PARAMETROS!$F$14))) -> 12.809594 | AG11: =+AF11*0.55*(1.33333333333333) -> 9.3937021 | AH11: =+C11*PARAMETROS!$G$6*0.5*0.5*PARAMETROS!$G$10 -> 176.70438 | AI11: =+AH11*(1-EXP(-PARAMETROS!$G$14*((13-8)/12))) -> 7.2114017 | AJ11: =+AH11*EXP(-PARAMETROS!$G$14*((13-8)/12)) -> 169.49298 | AK11: =+AJ11+(AK10*EXP(-PARAMETROS!$G$14)) -> 321.25643 | AL11: =+AI11+(AK11*(1-EXP(-PARAMETROS!$G$14))) -> 37.782993 | AM11: =+AL11*0.55*(1.33333333333333) -> 27.707528 | AN11: =+AM11+AG11+AA11+U11+O11+I11 -> 192.89604
A12: 4 | B12: 2028 | C12: 85827.612 | D12: =+C12*PARAMETROS!$B$6*0.5*0.5*PARAMETROS!$B$10 -> 737.8751 | E12: =+D12*(1-EXP(-PARAMETROS!$B$14*((13-8)/12))) -> 30.113084 | F12: =+D12*EXP(-PARAMETROS!$B$14*((13-8)/12)) -> 707.76202 | G12: =+F12+(G11*EXP(-PARAMETROS!$B$14)) -> 1909.8198 | H12: =+E12+(G12*(1-EXP(-PARAMETROS!$B$14))) -> 211.85647 | I12: =+H12*0.55*(1.33333333333333) -> 155.36141 | J12: =+C12*PARAMETROS!$C$6*0.5*0.5*PARAMETROS!$C$10 -> 105.13313 | K12: =+J12*(1-EXP(-PARAMETROS!$C$14*((13-8)/12))) -> 2.1676158 | L12: =+J12*EXP(-PARAMETROS!$C$14*((13-8)/12)) -> 102.96552 | M12: =+L12+(M11*EXP(-PARAMETROS!$C$14)) -> 291.26026 | N12: =+K12+(M12*(1-EXP(-PARAMETROS!$C$14))) -> 16.372546 | O12: =+N12*0.55*(1.33333333333333) -> 12.006534 | P12: =+C12*PARAMETROS!$D$6*0.5*0.5*PARAMETROS!$D$10 -> 899.65393 | Q12: =+P12*(1-EXP(-PARAMETROS!$D$14*((13-8)/12))) -> 7.4659647 | R12: =+P12*EXP(-PARAMETROS!$D$14*((13-8)/12)) -> 892.18796 | S12: =+R12+(S11*EXP(-PARAMETROS!$D$14)) -> 2598.262 | T12: =+Q12+(S12*(1-EXP(-PARAMETROS!$D$14))) -> 58.915 | U12: =+T12*0.55*(1.33333333333333) -> 43.204333 | V12: =+C12*PARAMETROS!$E$6*0.5*0.5*PARAMETROS!$E$10 -> 108.12539 | W12: =+V12*(1-EXP(-PARAMETROS!$E$14*((13-8)/12))) -> 0.44958516 | X12: =+V12*EXP(-PARAMETROS!$E$14*((13-8)/12)) -> 107.6758 | Y12: =+X12+(Y11*EXP(-PARAMETROS!$E$14)) -> 316.67584 | Z12: =+W12+(Y12*(1-EXP(-PARAMETROS!$E$14))) -> 3.6005625 | AA12: =+Z12*0.55*(1.33333333333333) -> 2.6404125 | AB12: =+C12*PARAMETROS!$F$6*0.5*0.5*PARAMETROS!$F$10 -> 275.31304 | AC12: =+AB12*(1-EXP(-PARAMETROS!$F$14*((13-8)/12))) -> 2.2847423 | AD12: =+AB12*EXP(-PARAMETROS!$F$14*((13-8)/12)) -> 273.0283 | AE12: =+AD12+(AE11*EXP(-PARAMETROS!$F$14)) -> 795.12287 | AF12: =+AC12+(AE12*(1-EXP(-PARAMETROS!$F$14))) -> 18.02923 | AG12: =+AF12*0.55*(1.33333333333333) -> 13.221435 | AH12: =+C12*PARAMETROS!$G$6*0.5*0.5*PARAMETROS!$G$10 -> 178.43494 | AI12: =+AH12*(1-EXP(-PARAMETROS!$G$14*((13-8)/12))) -> 7.2820266 | AJ12: =+AH12*EXP(-PARAMETROS!$G$14*((13-8)/12)) -> 171.15291 | AK12: =+AJ12+(AK11*EXP(-PARAMETROS!$G$14)) -> 461.83775 | AL12: =+AI12+(AK12*(1-EXP(-PARAMETROS!$G$14))) -> 51.231699 | AM12: =+AL12*0.55*(1.33333333333333) -> 37.569913 | AN12: =+AM12+AG12+AA12+U12+O12+I12 -> 264.00404
A13: 5 | B13: 2029 | C13: 86609.972 | D13: =+C13*PARAMETROS!$B$6*0.5*0.5*PARAMETROS!$B$10 -> 744.60119 | E13: =+D13*(1-EXP(-PARAMETROS!$B$14*((13-8)/12))) -> 30.387579 | F13: =+D13*EXP(-PARAMETROS!$B$14*((13-8)/12)) -> 714.21362 | G13: =+F13+(G12*EXP(-PARAMETROS!$B$14)) -> 2442.2901 | H13: =+E13+(G13*(1-EXP(-PARAMETROS!$B$14))) -> 262.80221 | I13: =+H13*0.55*(1.33333333333333) -> 192.72162 | J13: =+C13*PARAMETROS!$C$6*0.5*0.5*PARAMETROS!$C$10 -> 106.09147 | K13: =+J13*(1-EXP(-PARAMETROS!$C$14*((13-8)/12))) -> 2.1873747 | L13: =+J13*EXP(-PARAMETROS!$C$14*((13-8)/12)) -> 103.9041 | M13: =+L13+(M12*EXP(-PARAMETROS!$C$14)) -> 380.95943 | N13: =+K13+(M13*(1-EXP(-PARAMETROS!$C$14))) -> 20.766985 | O13: =+N13*0.55*(1.33333333333333) -> 15.229122 | P13: =+C13*PARAMETROS!$D$6*0.5*0.5*PARAMETROS!$D$10 -> 907.85471 | Q13: =+P13*(1-EXP(-PARAMETROS!$D$14*((13-8)/12))) -> 7.5340206 | R13: =+P13*EXP(-PARAMETROS!$D$14*((13-8)/12)) -> 900.32069 | S13: =+R13+(S12*EXP(-PARAMETROS!$D$14)) -> 3447.1337 | T13: =+Q13+(S13*(1-EXP(-PARAMETROS!$D$14))) -> 75.79184 | U13: =+T13*0.55*(1.33333333333333) -> 55.580683 | V13: =+C13*PARAMETROS!$E$6*0.5*0.5*PARAMETROS!$E$10 -> 109.111 | W13: =+V13*(1-EXP(-PARAMETROS!$E$14*((13-8)/12))) -> 0.45368335 | X13: =+V13*EXP(-PARAMETROS!$E$14*((13-8)/12)) -> 108.65732 | Y13: =+X13+(Y12*EXP(-PARAMETROS!$E$14)) -> 422.18219 | Z13: =+W13+(Y13*(1-EXP(-PARAMETROS!$E$14))) -> 4.6544663 | AA13: =+Z13*0.55*(1.33333333333333) -> 3.4132753 | AB13: =+C13*PARAMETROS!$F$6*0.5*0.5*PARAMETROS!$F$10 -> 277.82265 | AC13: =+AB13*(1-EXP(-PARAMETROS!$F$14*((13-8)/12))) -> 2.3055689 | AD13: =+AB13*EXP(-PARAMETROS!$F$14*((13-8)/12)) -> 275.51708 | AE13: =+AD13+(AE12*EXP(-PARAMETROS!$F$14)) -> 1054.8955 | AF13: =+AC13+(AE13*(1-EXP(-PARAMETROS!$F$14))) -> 23.193899 | AG13: =+AF13*0.55*(1.33333333333333) -> 17.008859 | AH13: =+C13*PARAMETROS!$G$6*0.5*0.5*PARAMETROS!$G$10 -> 180.06146 | AI13: =+AH13*(1-EXP(-PARAMETROS!$G$14*((13-8)/12))) -> 7.3484058 | AJ13: =+AH13*EXP(-PARAMETROS!$G$14*((13-8)/12)) -> 172.71305 | AK13: =+AJ13+(AK12*EXP(-PARAMETROS!$G$14)) -> 590.60113 | AL13: =+AI13+(AK13*(1-EXP(-PARAMETROS!$G$14))) -> 63.551534 | AM13: =+AL13*0.55*(1.33333333333333) -> 46.604458 | AN13: =+AM13+AG13+AA13+U13+O13+I13 -> 330.55802
A14: 6 | B14: 2030 | C14: 87350.091 | D14: =+C14*PARAMETROS!$B$6*0.5*0.5*PARAMETROS!$B$10 -> 750.96413 | E14: =+D14*(1-EXP(-PARAMETROS!$B$14*((13-8)/12))) -> 30.647254 | F14: =+D14*EXP(-PARAMETROS!$B$14*((13-8)/12)) -> 720.31687 | G14: =+F14+(G13*EXP(-PARAMETROS!$B$14)) -> 2930.1923 | H14: =+E14+(G14*(1-EXP(-PARAMETROS!$B$14))) -> 309.49192 | I14: =+H14*0.55*(1.33333333333333) -> 226.96074 | J14: =+C14*PARAMETROS!$C$6*0.5*0.5*PARAMETROS!$C$10 -> 106.99807 | K14: =+J14*(1-EXP(-PARAMETROS!$C$14*((13-8)/12))) -> 2.2060668 | L14: =+J14*EXP(-PARAMETROS!$C$14*((13-8)/12)) -> 104.792 | M14: =+L14+(M13*EXP(-PARAMETROS!$C$14)) -> 467.17182 | N14: =+K14+(M14*(1-EXP(-PARAMETROS!$C$14))) -> 24.990305 | O14: =+N14*0.55*(1.33333333333333) -> 18.326224 | P14: =+C14*PARAMETROS!$D$6*0.5*0.5*PARAMETROS!$D$10 -> 915.61271 | Q14: =+P14*(1-EXP(-PARAMETROS!$D$14*((13-8)/12))) -> 7.5984019 | R14: =+P14*EXP(-PARAMETROS!$D$14*((13-8)/12)) -> 908.01431 | S14: =+R14+(S13*EXP(-PARAMETROS!$D$14)) -> 4286.8902 | T14: =+Q14+(S14*(1-EXP(-PARAMETROS!$D$14))) -> 92.484514 | U14: =+T14*0.55*(1.33333333333333) -> 67.821977 | V14: =+C14*PARAMETROS!$E$6*0.5*0.5*PARAMETROS!$E$10 -> 110.0434 | W14: =+V14*(1-EXP(-PARAMETROS!$E$14*((13-8)/12))) -> 0.45756026 | X14: =+V14*EXP(-PARAMETROS!$E$14*((13-8)/12)) -> 109.58584 | Y14: =+X14+(Y13*EXP(-PARAMETROS!$E$14)) -> 527.56724 | Z14: =+W14+(Y14*(1-EXP(-PARAMETROS!$E$14))) -> 5.7069421 | AA14: =+Z14*0.55*(1.33333333333333) -> 4.1850908 | AB14: =+C14*PARAMETROS!$F$6*0.5*0.5*PARAMETROS!$F$10 -> 280.19676 | AC14: =+AB14*(1-EXP(-PARAMETROS!$F$14*((13-8)/12))) -> 2.3252709 | AD14: =+AB14*EXP(-PARAMETROS!$F$14*((13-8)/12)) -> 277.87149 | AE14: =+AD14+(AE13*EXP(-PARAMETROS!$F$14)) -> 1311.8786 | AF14: =+AC14+(AE14*(1-EXP(-PARAMETROS!$F$14))) -> 28.302208 | AG14: =+AF14*0.55*(1.33333333333333) -> 20.754953 | AH14: =+C14*PARAMETROS!$G$6*0.5*0.5*PARAMETROS!$G$10 -> 181.60016 | AI14: =+AH14*(1-EXP(-PARAMETROS!$G$14*((13-8)/12))) -> 7.411201 | AJ14: =+AH14*EXP(-PARAMETROS!$G$14*((13-8)/12)) -> 174.18896 | AK14: =+AJ14+(AK13*EXP(-PARAMETROS!$G$14)) -> 708.58696 | AL14: =+AI14+(AK14*(1-EXP(-PARAMETROS!$G$14))) -> 74.842165 | AM14: =+AL14*0.55*(1.33333333333333) -> 54.884255 | AN14: =+AM14+AG14+AA14+U14+O14+I14 -> 392.93324
A15: 7 | B15: 2031 | C15: 88056.16 | D15: =+C15*PARAMETROS!$B$6*0.5*0.5*PARAMETROS!$B$10 -> 757.03433 | E15: =+D15*(1-EXP(-PARAMETROS!$B$14*((13-8)/12))) -> 30.894982 | F15: =+D15*EXP(-PARAMETROS!$B$14*((13-8)/12)) -> 726.13934 | G15: =+F15+(G14*EXP(-PARAMETROS!$B$14)) -> 3377.487 | H15: =+E15+(G15*(1-EXP(-PARAMETROS!$B$14))) -> 352.30536 | I15: =+H15*0.55*(1.33333333333333) -> 258.35727 | J15: =+C15*PARAMETROS!$C$6*0.5*0.5*PARAMETROS!$C$10 -> 107.86296 | K15: =+J15*(1-EXP(-PARAMETROS!$C$14*((13-8)/12))) -> 2.2238988 | L15: =+J15*EXP(-PARAMETROS!$C$14*((13-8)/12)) -> 105.63906 | M15: =+L15+(M14*EXP(-PARAMETROS!$C$14)) -> 550.02663 | N15: =+K15+(M15*(1-EXP(-PARAMETROS!$C$14))) -> 29.049014 | O15: =+N15*0.55*(1.33333333333333) -> 21.302611 | P15: =+C15*PARAMETROS!$D$6*0.5*0.5*PARAMETROS!$D$10 -> 923.0138 | Q15: =+P15*(1-EXP(-PARAMETROS!$D$14*((13-8)/12))) -> 7.6598214 | R15: =+P15*EXP(-PARAMETROS!$D$14*((13-8)/12)) -> 915.35398 | S15: =+R15+(S14*EXP(-PARAMETROS!$D$14)) -> 5117.358 | T15: =+Q15+(S15*(1-EXP(-PARAMETROS!$D$14))) -> 108.9903 | U15: =+T15*0.55*(1.33333333333333) -> 79.92622 | V15: =+C15*PARAMETROS!$E$6*0.5*0.5*PARAMETROS!$E$10 -> 110.93291 | W15: =+V15*(1-EXP(-PARAMETROS!$E$14*((13-8)/12))) -> 0.46125882 | X15: =+V15*EXP(-PARAMETROS!$E$14*((13-8)/12)) -> 110.47165 | Y15: =+X15+(Y14*EXP(-PARAMETROS!$E$14)) -> 632.78951 | Z15: =+W15+(Y15*(1-EXP(-PARAMETROS!$E$14))) -> 6.7576196 | AA15: =+Z15*0.55*(1.33333333333333) -> 4.9555877 | AB15: =+C15*PARAMETROS!$F$6*0.5*0.5*PARAMETROS!$F$10 -> 282.46165 | AC15: =+AB15*(1-EXP(-PARAMETROS!$F$14*((13-8)/12))) -> 2.3440666 | AD15: =+AB15*EXP(-PARAMETROS!$F$14*((13-8)/12)) -> 280.11759 | AE15: =+AD15+(AE14*EXP(-PARAMETROS!$F$14)) -> 1566.0193 | AF15: =+AC15+(AE15*(1-EXP(-PARAMETROS!$F$14))) -> 33.353326 | AG15: =+AF15*0.55*(1.33333333333333) -> 24.459106 | AH15: =+C15*PARAMETROS!$G$6*0.5*0.5*PARAMETROS!$G$10 -> 183.06807 | AI15: =+AH15*(1-EXP(-PARAMETROS!$G$14*((13-8)/12))) -> 7.4711073 | AJ15: =+AH15*EXP(-PARAMETROS!$G$14*((13-8)/12)) -> 175.59696 | AK15: =+AJ15+(AK14*EXP(-PARAMETROS!$G$14)) -> 816.75295 | AL15: =+AI15+(AK15*(1-EXP(-PARAMETROS!$G$14))) -> 85.195427 | AM15: =+AL15*0.55*(1.33333333333333) -> 62.476647 | AN15: =+AM15+AG15+AA15+U15+O15+I15 -> 451.47744
A16: 8 | B16: 2032 | C16: 88735.544 | D16: =+C16*PARAMETROS!$B$6*0.5*0.5*PARAMETROS!$B$10 -> 762.8751 | E16: =+D16*(1-EXP(-PARAMETROS!$B$14*((13-8)/12))) -> 31.133347 | F16: =+D16*EXP(-PARAMETROS!$B$14*((13-8)/12)) -> 731.74176 | G16: =+F16+(G15*EXP(-PARAMETROS!$B$14)) -> 3787.8184 | H16: =+E16+(G16*(1-EXP(-PARAMETROS!$B$14))) -> 391.59192 | I16: =+H16*0.55*(1.33333333333333) -> 287.16741 | J16: =+C16*PARAMETROS!$C$6*0.5*0.5*PARAMETROS!$C$10 -> 108.69515 | K16: =+J16*(1-EXP(-PARAMETROS!$C$14*((13-8)/12))) -> 2.241057 | L16: =+J16*EXP(-PARAMETROS!$C$14*((13-8)/12)) -> 106.4541 | M16: =+L16+(M15*EXP(-PARAMETROS!$C$14)) -> 629.65562 | N16: =+K16+(M16*(1-EXP(-PARAMETROS!$C$14))) -> 32.949724 | O16: =+N16*0.55*(1.33333333333333) -> 24.163131 | P16: =+C16*PARAMETROS!$D$6*0.5*0.5*PARAMETROS!$D$10 -> 930.13517 | Q16: =+P16*(1-EXP(-PARAMETROS!$D$14*((13-8)/12))) -> 7.7189196 | R16: =+P16*EXP(-PARAMETROS!$D$14*((13-8)/12)) -> 922.41625 | S16: =+R16+(S15*EXP(-PARAMETROS!$D$14)) -> 5938.4438 | T16: =+Q16+(S16*(1-EXP(-PARAMETROS!$D$14))) -> 125.30799 | U16: =+T16*0.55*(1.33333333333333) -> 91.892522 | V16: =+C16*PARAMETROS!$E$6*0.5*0.5*PARAMETROS!$E$10 -> 111.78879 | W16: =+V16*(1-EXP(-PARAMETROS!$E$14*((13-8)/12))) -> 0.46481759 | X16: =+V16*EXP(-PARAMETROS!$E$14*((13-8)/12)) -> 111.32397 | Y16: =+X16+(Y15*EXP(-PARAMETROS!$E$14)) -> 737.81712 | Z16: =+W16+(Y16*(1-EXP(-PARAMETROS!$E$14))) -> 7.8062206 | AA16: =+Z16*0.55*(1.33333333333333) -> 5.7245618 | AB16: =+C16*PARAMETROS!$F$6*0.5*0.5*PARAMETROS!$F$10 -> 284.64094 | AC16: =+AB16*(1-EXP(-PARAMETROS!$F$14*((13-8)/12))) -> 2.3621519 | AD16: =+AB16*EXP(-PARAMETROS!$F$14*((13-8)/12)) -> 282.27879 | AE16: =+AD16+(AE15*EXP(-PARAMETROS!$F$14)) -> 1817.2888 | AF16: =+AC16+(AE16*(1-EXP(-PARAMETROS!$F$14))) -> 38.346881 | AG16: =+AF16*0.55*(1.33333333333333) -> 28.121046 | AH16: =+C16*PARAMETROS!$G$6*0.5*0.5*PARAMETROS!$G$10 -> 184.4805 | AI16: =+AH16*(1-EXP(-PARAMETROS!$G$14*((13-8)/12))) -> 7.5287495 | AJ16: =+AH16*EXP(-PARAMETROS!$G$14*((13-8)/12)) -> 176.95175 | AK16: =+AJ16+(AK15*EXP(-PARAMETROS!$G$14)) -> 915.98039 | AL16: =+AI16+(AK16*(1-EXP(-PARAMETROS!$G$14))) -> 94.695808 | AM16: =+AL16*0.55*(1.33333333333333) -> 69.443593 | AN16: =+AM16+AG16+AA16+U16+O16+I16 -> 506.51226
A17: 9 | B17: 2033 | C17: 89394.965 | D17: =+C17*PARAMETROS!$B$6*0.5*0.5*PARAMETROS!$B$10 -> 768.54426 | E17: =+D17*(1-EXP(-PARAMETROS!$B$14*((13-8)/12))) -> 31.364709 | F17: =+D17*EXP(-PARAMETROS!$B$14*((13-8)/12)) -> 737.17955 | G17: =+F17+(G16*EXP(-PARAMETROS!$B$14)) -> 4164.5393 | H17: =+E17+(G17*(1-EXP(-PARAMETROS!$B$14))) -> 427.67302 | I17: =+H17*0.55*(1.33333333333333) -> 313.62688 | J17: =+C17*PARAMETROS!$C$6*0.5*0.5*PARAMETROS!$C$10 -> 109.5029 | K17: =+J17*(1-EXP(-PARAMETROS!$C$14*((13-8)/12))) -> 2.257711 | L17: =+J17*EXP(-PARAMETROS!$C$14*((13-8)/12)) -> 107.24519 | M17: =+L17+(M16*EXP(-PARAMETROS!$C$14)) -> 706.19214 | N17: =+K17+(M17*(1-EXP(-PARAMETROS!$C$14))) -> 36.699108 | O17: =+N17*0.55*(1.33333333333333) -> 26.912679 | P17: =+C17*PARAMETROS!$D$6*0.5*0.5*PARAMETROS!$D$10 -> 937.04729 | Q17: =+P17*(1-EXP(-PARAMETROS!$D$14*((13-8)/12))) -> 7.7762812 | R17: =+P17*EXP(-PARAMETROS!$D$14*((13-8)/12)) -> 929.27101 | S17: =+R17+(S16*EXP(-PARAMETROS!$D$14)) -> 6750.1257 | T17: =+Q17+(S17*(1-EXP(-PARAMETROS!$D$14))) -> 141.43773 | U17: =+T17*0.55*(1.33333333333333) -> 103.721 | V17: =+C17*PARAMETROS!$E$6*0.5*0.5*PARAMETROS!$E$10 -> 112.61953 | W17: =+V17*(1-EXP(-PARAMETROS!$E$14*((13-8)/12))) -> 0.46827179 | X17: =+V17*EXP(-PARAMETROS!$E$14*((13-8)/12)) -> 112.15126 | Y17: =+X17+(Y16*EXP(-PARAMETROS!$E$14)) -> 842.62697 | Z17: =+W17+(Y17*(1-EXP(-PARAMETROS!$E$14))) -> 8.8525503 | AA17: =+Z17*0.55*(1.33333333333333) -> 6.4918702 | AB17: =+C17*PARAMETROS!$F$6*0.5*0.5*PARAMETROS!$F$10 -> 286.7562 | AC17: =+AB17*(1-EXP(-PARAMETROS!$F$14*((13-8)/12))) -> 2.3797057 | AD17: =+AB17*EXP(-PARAMETROS!$F$14*((13-8)/12)) -> 284.37649 | AE17: =+AD17+(AE16*EXP(-PARAMETROS!$F$14)) -> 2065.6806 | AF17: =+AC17+(AE17*(1-EXP(-PARAMETROS!$F$14))) -> 43.282921 | AG17: =+AF17*0.55*(1.33333333333333) -> 31.740809 | AH17: =+C17*PARAMETROS!$G$6*0.5*0.5*PARAMETROS!$G$10 -> 185.85143 | AI17: =+AH17*(1-EXP(-PARAMETROS!$G$14*((13-8)/12))) -> 7.5846979 | AJ17: =+AH17*EXP(-PARAMETROS!$G$14*((13-8)/12)) -> 178.26674 | AK17: =+AJ17+(AK16*EXP(-PARAMETROS!$G$14)) -> 1007.0801 | AL17: =+AI17+(AK17*(1-EXP(-PARAMETROS!$G$14))) -> 103.42104 | AM17: =+AL17*0.55*(1.33333333333333) -> 75.842094 | AN17: =+AM17+AG17+AA17+U17+O17+I17 -> 558.33534
A18: 10 | B18: 2034 | C18: 90040.671 | D18: =+C18*PARAMETROS!$B$6*0.5*0.5*PARAMETROS!$B$10 -> 774.09551 | E18: =+D18*(1-EXP(-PARAMETROS!$B$14*((13-8)/12))) -> 31.591258 | F18: =+D18*EXP(-PARAMETROS!$B$14*((13-8)/12)) -> 742.50425 | G18: =+F18+(G17*EXP(-PARAMETROS!$B$14)) -> 4510.7353 | H18: =+E18+(G18*(1-EXP(-PARAMETROS!$B$14))) -> 460.84447 | I18: =+H18*0.55*(1.33333333333333) -> 337.95261 | J18: =+C18*PARAMETROS!$C$6*0.5*0.5*PARAMETROS!$C$10 -> 110.29385 | K18: =+J18*(1-EXP(-PARAMETROS!$C$14*((13-8)/12))) -> 2.2740186 | L18: =+J18*EXP(-PARAMETROS!$C$14*((13-8)/12)) -> 108.01983 | M18: =+L18+(M17*EXP(-PARAMETROS!$C$14)) -> 779.77057 | N18: =+K18+(M18*(1-EXP(-PARAMETROS!$C$14))) -> 40.303878 | O18: =+N18*0.55*(1.33333333333333) -> 29.556177 | P18: =+C18*PARAMETROS!$D$6*0.5*0.5*PARAMETROS!$D$10 -> 943.81564 | Q18: =+P18*(1-EXP(-PARAMETROS!$D$14*((13-8)/12))) -> 7.8324498 | R18: =+P18*EXP(-PARAMETROS!$D$14*((13-8)/12)) -> 935.98319 | S18: =+R18+(S17*EXP(-PARAMETROS!$D$14)) -> 7552.4475 | T18: =+Q18+(S18*(1-EXP(-PARAMETROS!$D$14))) -> 157.38093 | U18: =+T18*0.55*(1.33333333333333) -> 115.41268 | V18: =+C18*PARAMETROS!$E$6*0.5*0.5*PARAMETROS!$E$10 -> 113.43299 | W18: =+V18*(1-EXP(-PARAMETROS!$E$14*((13-8)/12))) -> 0.47165415 | X18: =+V18*EXP(-PARAMETROS!$E$14*((13-8)/12)) -> 112.96133 | Y18: =+X18+(Y17*EXP(-PARAMETROS!$E$14)) -> 947.20403 | Z18: =+W18+(Y18*(1-EXP(-PARAMETROS!$E$14))) -> 9.8964917 | AA18: =+Z18*0.55*(1.33333333333333) -> 7.2574272 | AB18: =+C18*PARAMETROS!$F$6*0.5*0.5*PARAMETROS!$F$10 -> 288.82745 | AC18: =+AB18*(1-EXP(-PARAMETROS!$F$14*((13-8)/12))) -> 2.3968945 | AD18: =+AB18*EXP(-PARAMETROS!$F$14*((13-8)/12)) -> 286.43056 | AE18: =+AD18+(AE17*EXP(-PARAMETROS!$F$14)) -> 2311.2079 | AF18: =+AC18+(AE18*(1-EXP(-PARAMETROS!$F$14))) -> 48.161877 | AG18: =+AF18*0.55*(1.33333333333333) -> 35.31871 | AH18: =+C18*PARAMETROS!$G$6*0.5*0.5*PARAMETROS!$G$10 -> 187.19385 | AI18: =+AH18*(1-EXP(-PARAMETROS!$G$14*((13-8)/12))) -> 7.6394827 | AJ18: =+AH18*EXP(-PARAMETROS!$G$14*((13-8)/12)) -> 179.55437 | AK18: =+AJ18+(AK17*EXP(-PARAMETROS!$G$14)) -> 1090.7981 | AL18: =+AI18+(AK18*(1-EXP(-PARAMETROS!$G$14))) -> 111.44265 | AM18: =+AL18*0.55*(1.33333333333333) -> 81.724607 | AN18: =+AM18+AG18+AA18+U18+O18+I18 -> 607.22222
