Workbook
Name AsistenciaSocial: 'NORMAS SUSTANTIVAS'!$C$4
Name OSC: 'NORMAS TRANSVERSALES'!$F$15

Sheet NORMAS TRANSVERSALES
A1: Nombre del Sujeto Obligado: | B1: DIF Chihuahua
A2: Normativa: | B2: Ley de Transparencia y Acceso a la Información Pública del Estado de Chihuahua
A3: Formato: | B3: Normatividad aplicable
A4: Periodos: | B4: 1er trimestre
A6: ID | B6: Ejercicio | C6: Fecha de Inicio Del Periodo Que Se Informa | D6: Fecha de Término Del Periodo Que Se Informa | E6: Tipo de Normatividad (catálogo) | F6: DENOMINACIÓN DE LA NORMA QUE SE REPORTA | G6: ARTICULOS | H6: Fecha de Publicación en Dof U Otro Medio Oficial O Institucional | I6: Fecha de Última Modificación, en su Caso | J6: Hipervínculo Al Documento de La Norma | K6: Área(s) Responsable(s) Que Genera(n), Posee(n), Publica(n) Y Actualizan La Información | L6: Fecha de Validación | M6: Fecha de Actualización
A7: 23969153 | B7: 2019 | C7: 43466 | D7: 43555 | E7: CONSTITUCIÓN POLÍTICA DE LOS ESTADOS UNIDOS MEXICANOS | F7: CONSTITUCIÓN POLÍTICA DE LOS ESTADOS UNIDOS MEXICANOS | G7: ARTICULO 6,73,79 | H7: 43339 | I7: 43567 | J7: http://www.diputados.gob.mx/LeyesBiblio/pdf/1_120419.pdf | K7: JURIDICO | L7: 43581 | M7: 43555
A8: 23969154 | B8: 2019 | C8: 43466 | D8: 43555 | E8: CONSTITUCIÓN POLÍTICA DE LA ENTIDAD FEDERATIVA | F8: CONSTITUCIÓN POLÍTICA DEL ESTADO LIBRE Y SOBERANO DE CHIHUAHUA | G8: ARTICULO 4,83,132,165 | H8: 43428 | I8: 43540 | J8: http://www.congresochihuahua2.gob.mx/biblioteca/constitucion/archivosConstitucion/actual.pdf | K8: JURIDICO | L8: 43581 | M8: 43555
A9: 23969155 | B9: 2019 | C9: 43466 | D9: 43555 | E9: TRATADO INTERNACIONAL | F9: CONVENCIÓN AMERICANA SOBRE DERECHOS HUMANOS | H9: 25529 | I9: 25529 | J9: https://www.gob.mx/cms/uploads/attachment/file/119351/Americana_sobre_Derechos_Humanos.pdf | K9: JURIDICO | L9: 43581 | M9: 43555
A10: 23969156 | B10: 2019 | C10: 43466 | D10: 43555 | E10: CODIGO | F10: CÓDIGO ADMINISTRATIVO DEL ESTADO DE CHIHUAHUA | G10: ARTICULO 689,1284,1286,1634,1637, 1655(VI), 1649,1666,1696,1706,1707 | H10: 27262 | I10: 43239 | J10: http://www.congresochihuahua2.gob.mx/biblioteca/codigos/archivosCodigos/9.pdf | K10: JURIDICO | L10: 43581 | M10: 43555
A11: 23969157 | B11: 2019 | C11: 43466 | D11: 43555 | E11: CODIGO | F11: CÓDIGO CIVIL DEL ESTADO DE CHIHUAHUA | G11: ARTICULO 39,42,78,240,1475 | H11: 27111 | I11: 43250 | J11: http://www.congresochihuahua2.gob.mx/biblioteca/codigos/archivosCodigos/13.pdf | K11: JURIDICO | L11: 43581 | M11: 43555
A12: 23969158 | B12: 2019 | C12: 43466 | D12: 43555 | E12: CODIGO | F12: CÓDIGO DE PROCEDIMIENTOS CIVILES DEL ESTADO CHIHUAHUA. | G12: ARTICULO 97,244,296,299,302,304,306 | H12: 41843 | I12: 42788 | J12: http://www.congresochihuahua2.gob.mx/biblioteca/codigos/archivosCodigos/62.pdf | K12: JURIDICO | L12: 43581 | M12: 43555
A13: 23969159 | B13: 2019 | C13: 43466 | D13: 43555 | E13: CODIGO | F13: CÓDIGO FISCAL DE LA FEDERACIÓN | G13: ARTICULO 6,15,17,18,28,30,41A,45,46,48,53,59,61,63,67,69B,70,103,105,111,130,134,143,156,182, | J13: http://www.ordenjuridico.gob.mx/Documentos/Federal/pdf/wo56.pdf | K13: JURIDICO | L13: 43581 | M13: 43555
A14: 23969160 | B14: 2019 | C14: 43466 | D14: 43555 | E14: CODIGO | F14: CÓDIGO MUNICIPAL PARA EL ESTADO DE CHIHUAHUA | G14: ARTICULO 25,28,36,50,60,63,64,110,168 | H14: 35021 | I14: 43540 | J14: http://www.congresochihuahua2.gob.mx/biblioteca/codigos/archivosCodigos/19.pdf | K14: JURIDICO | L14: 43581 | M14: 43555
A15: 23969162 | B15: 2019 | C15: 43466 | D15: 43555 | E15: LEY FEDERAL | F15: LEY FEDERAL DE FOMENTO A LAS ACTIVIDADES REALIZADAS POR ORGANIZACIONES DE LA SOCIEDAD CIVIL | G15: ARTICULO 7,14,16,19,20,23,30, | H15: 38026 | I15: 43214 | J15: http://www.ordenjuridico.gob.mx/Documentos/Federal/pdf/wo5435.pdf | K15: JURIDICO | L15: 43581 | M15: 43555
A16: 23969163 | B16: 2019 | C16: 43466 | D16: 43555 | E16: LEY FEDERAL | F16: LEY DE INGRESOS DE LA FEDERACIÓN PARA EL EJERCICIO FISCAL DE 2019 | G16: ARTICULO 25,31, | H16: 43462 | I16: 43462 | J16: http://www.ordenjuridico.gob.mx/Documentos/Federal/pdf/wo120924.pdf | K16: JURIDICO | L16: 43581 | M16: 43555
A17: 23969164 | B17: 2019 | C17: 43466 | D17: 43555 | E17: LEY FEDERAL | F17: LEY ORGÁNICA DE LA ADMINISTRACIÓN PÚBLICA FEDERAL | G17: ARTICULO 19,20,27 | H17: 28123 | I17: 43696 | J17: http://www.ordenjuridico.gob.mx/Documentos/Federal/pdf/wo13235.pdf | K17: JURIDICO | L17: 43581 | M17: 43555
A18: 23969165 | B18: 2019 | C18: 43466 | D18: 43555 | E18: LEY FEDERAL | F18: LEY DEL IMPUESTO SOBRE LA RENTA | G18: ARTICULO 7,17,27,28,36,29,82,91,93,126,147,151,154,161,174, | H18: 41619 | I18: 42704 | J18: http://www.ordenjuridico.gob.mx/Documentos/Federal/pdf/wo25.pdf | K18: JURIDICO | L18: 43581 | M18: 43555
A19: 23969166 | B19: 2019 | C19: 43466 | D19: 43555 | E19: LEY FEDERAL | F19: LEY FEDERAL DEL TRABAJO | G19: ARTICULO 365,373,377,385,391,415,684,701,720 | H19: 25659 | I19: 43648 | J19: http://www.ordenjuridico.gob.mx/Documentos/Federal/pdf/wo9059.pdf | K19: JURIDICO | L19: 43581 | M19: 43555
A20: 23969167 | B20: 2019 | C20: 43466 | D20: 43555 | E20: LEY FEDERAL | F20: LEY FEDERAL DE RESPONSABILIDADES DE LOS SERVIDORES PÚBLICOS | G20: ARTICULO 15,37 (23 ESTATAL) | H20: 30316 | I20: 42569 | J20: http://www.ordenjuridico.gob.mx/Documentos/Federal/pdf/wo9058.pdf | K20: JURIDICO | L20: 43581 | M20: 43555
A21: 23969168 | B21: 2019 | C21: 43466 | D21: 43555 | E21: LEY FEDERAL | F21: LEY DEL IMPUESTO AL VALOR AGREGADO | G21: ARTICULO 1B,1C,5,7,9,15 | H21: 28853 | I21: 42704 | J21: http://www.ordenjuridico.gob.mx/Documentos/Federal/pdf/wo22.pdf | K21: JURIDICO | L21: 43581 | M21: 43555
A22: 23969169 | B22: 2019 | C22: 43466 | D22: 43555 | E22: LEY FEDERAL | F22: LEY DEL SEGURO SOCIAL | G22: ARTICULO 8,15,18,22,74,165,251,286L,254,304,113 | H22: 35054 | I22: 43648 | J22: http://www.ordenjuridico.gob.mx/Documentos/Federal/pdf/wo9056.pdf | K22: JURIDICO | L22: 43581 | M22: 43555
A23: 23969170 | B23: 2019 | C23: 43466 | D23: 43555 | E23: LEY FEDERAL | F23: LEY DE FISCALIZACIÓN Y RENDICIÓN DE CUENTAS DE LA FEDERACIÓN | G23: ARTICULO 2,9,10,17,20,22,23,30,42,60,75,84,107 | H23: 42569 | I23: 42539 | J23: http://www.diputados.gob.mx/LeyesBiblio/pdf/LFRCF.pdf | K23: JURIDICO | L23: 43581 | M23: 43555
A24: 23969171 | B24: 2019 | C24: 43466 | D24: 43555 | E24: LEY GENERAL | F24: LEY GENERAL DE COMUNICACION SOCIAL | G24: ARTICULO 25,5,33 | H24: 43231 | I24: 43231 | J24: http://www.ordenjuridico.gob.mx/Documentos/Federal/pdf/wo120890.pdf | K24: JURIDICO | L24: 43581 | M24: 43555
A25: 23969172 | B25: 2019 | C25: 43466 | D25: 43555 | E25: LEY GENERAL | F25: LEY GENERAL DE ARCHIVOS | G25: COMPLETO | H25: 06/15/2018 | I25: 06/15/2018 | J25: http://www.ordenjuridico.gob.mx/Documentos/Federal/pdf/wo120902.pdf | K25: JURIDICO | L25: 43581 | M25: 43555 | Y25: ='NORMAS TRANSVERSALES'!F537 -> 0
A26: 23969173 | B26: 2019 | C26: 43466 | D26: 43555 | E26: LEY GENERAL | F26: LEY GENERAL DE CONTABILIDAD GUBERNAMENTAL | G26: ARTUCULO 11,42,43,58,60,61,62,63,64,67,70,85 | H26: 43130 | I26: 43130 | J26: http://www.diputados.gob.mx/LeyesBiblio/pdf/LGCG_300118.pdf | K26: JURIDICO | L26: 43581 | M26: 43555
A27: 23969174 | B27: 2019 | C27: 43466 | D27: 43555 | E27: LEY GENERAL | F27: LEY GENERAL DE PROTECCIÓN DE DATOS PERSONALES EN POSESIÓN DE SUJETOS OBLIGADOS | G27: COMPLETO | H27: 42761 | I27: 42761 | J27: http://www.ordenjuridico.gob.mx/Documentos/Federal/pdf/wo119547.pdf | K27: JURIDICO | L27: 43581 | M27: 43555
A28: 23969175 | B28: 2019 | C28: 43466 | D28: 43555 | E28: LEY LOCAL | F28: LEY ESTATAL DE EDUCACIÓN | G28: ARTICULO 170,193,231 | H28: 35791 | I28: 43708 | J28: http://www.congresochihuahua2.gob.mx/biblioteca/leyes/archivosLeyes/1259.pdf | K28: JURIDICO | L28: 43581 | M28: 43555
A29: 23969176 | B29: 2019 | C29: 43466 | D29: 43555 | E29: LEY LOCAL | F29: LEY DE PROTECCIÓN CIVIL DEL ESTADO DE CHIHUAHUA | G29: ARTICULO 12,22,28,73,81,114 | H29: 42242 | I29: 43099 | J29: http://www.congresochihuahua2.gob.mx/biblioteca/leyes/archivosLeyes/1174.pdf | K29: JURIDICO | L29: 43581 | M29: 43555
A30: 23969177 | B30: 2019 | C30: 43466 | D30: 43555 | E30: LEY LOCAL | F30: LEY DE PLANEACION DEL ESTADO DE CHIHUAHUA | G30: ARTICULO 11, 25, | H30: 32512 | I30: 43229 | J30: http://www.congresochihuahua2.gob.mx/biblioteca/leyes/archivosLeyes/106.pdf | K30: JURIDICO | L30: 43581 | M30: 43555
A31: 23969179 | B31: 2019 | C31: 43466 | D31: 43555 | E31: LEY LOCAL | F31: LEY DE PRESUPUESTO DE EGRESOS, CONTABILIDAD GUBERNAMENTAL Y GASTO PÚBLICO DEL ESTADO DE CHIHUAHUA | G31: ARTICULO 165, 166,168,169,170,36,110,127,170 | H31: 41636 | I31: 43540 | J31: http://www.congresochihuahua2.gob.mx/biblioteca/leyes/archivosLeyes/1011.pdf | K31: JURIDICO | L31: 43581 | M31: 43555
A32: 23969180 | B32: 2019 | C32: 43466 | D32: 43555 | E32: LEY LOCAL | F32: LEY DE TRANSPARENCIA Y ACCESO A LA INFORMACIÓN PÚBLICA DEL ESTADO DE CHIHUAHUA | G32: COMPLETO | H32: 42245 | I32: 43537 | J32: http://www.congresochihuahua2.gob.mx/biblioteca/leyes/archivosLeyes/1175.pdf | K32: JURIDICO | L32: 43581 | M32: 43555
A33: 23969181 | B33: 2019 | C33: 43466 | D33: 43555 | E33: LEY LOCAL | F33: LEY DE PROTECCIÓN DE DATOS PERSONALES DEL ESTADO DE CHIHUAHUA | G33: COMPLETO | H33: 41451 | I33: 43050 | J33: http://www.congresochihuahua2.gob.mx/biblioteca/leyes/archivosLeyes/1342.pdf | K33: JURIDICO | L33: 43581 | M33: 43555 | Z33: ='NORMAS TRANSVERSALES'!F354 -> 0
A34: 23969182 | B34: 2019 | C34: 43466 | D34: 43555 | E34: LEY LOCAL | F34: LEY DE ENTREGA RECEPCION PARA EL ESTADO DE CHIHUAHUA | G34: ARTICULO 12,13,18,19,29 | H34: 42312 | I34: 42646 | J34: http://www.congresochihuahua2.gob.mx/biblioteca/leyes/archivosLeyes/1161.pdf | K34: JURIDICO | L34: 43581 | M34: 43555
A35: 23969183 | B35: 2019 | C35: 43466 | D35: 43555 | E35: LEY LOCAL | F35: LEY ESTATAL DE SALUD | G35: ARTICULO 10 | H35: 32036 | I35: 42646 | J35: http://www.congresochihuahua2.gob.mx/biblioteca/leyes/archivosLeyes/132.pdf | K35: JURIDICO | L35: 43581 | M35: 43555
A36: 23969184 | B36: 2019 | C36: 43466 | D36: 43555 | E36: LEY LOCAL | F36: LEY DE VIALIDAD Y TRANSITO DEL ESTADO DE CHIHUAHUA | H36: 38980 | I36: 43763 | J36: http://www.congresochihuahua2.gob.mx/biblioteca/leyes/archivosLeyes/117.pdf | K36: JURIDICO | L36: 43581 | M36: 43555
A37: 23969184 | B37: 2019 | C37: 43466 | D37: 43555 | E37: LEY LOCAL | F37: LEY DE AUDITORIA SUPERIOR DEL ESTADO DE CHIHUAHUA | G37: ARTICULO 7,11,17,19,36 | H37: 39425 | I37: 6/13/2018 | J37: http://www.congresochihuahua2.gob.mx/biblioteca/leyes/archivosLeyes/334.pdf | K37: JURIDICO | L37: 43581 | M37: 43555
A38: 23969185 | B38: 2019 | C38: 43466 | D38: 43555 | E38: LEY LOCAL | F38: LEY DE FISCALIZACION SUPERIOR DEL ESTADO DE CHIHUAHUA | H38: 43715 | I38: 43715 | J38: http://www.congresochihuahua2.gob.mx/biblioteca/leyes/archivosLeyes/1519.pdf | K38: JURIDICO | L38: 43581 | M38: 43555
A39: 23969186 | B39: 2019 | C39: 43466 | D39: 43555 | E39: LEY LOCAL | F39: LEY DEL INSTITUTO MUNICIPAL DE PENSIONES | G39: ARTICULO 6,14,19,57,72,79 | H39: 42364 | I39: 43763 | J39: http://www.congresochihuahua2.gob.mx/biblioteca/leyes/archivosLeyes/1242.pdf | K39: JURIDICO | L39: 43581 | M39: 43555
A40: 23969187 | B40: 2019 | C40: 43466 | D40: 43555 | E40: LEY LOCAL | F40: LEY DE ADQUISICIONES, ARRENDAMIENTOS Y CONTRATACIÓN DE SERVICIOS DEL ESTADO DE CHIHUAHUA | G40: ARTICULO 12,24,15,49,61,69,94 | H40: 35686 | I40: 43148 | J40: http://www.congresochihuahua2.gob.mx/biblioteca/leyes/archivosLeyes/1420.pdf | K40: JURIDICO | L40: 43581 | M40: 43555
A41: 23969188 | B41: 2019 | C41: 43466 | D41: 43555 | E41: LEY LOCAL | F41: LEY DE HACIENDA DEL ESTADO DE CHIHUAHUA | G41: ARTICULO 29,53,57,58,62,90 | H41: 43465 | I41: 43533 | J41: http://www.congresochihuahua2.gob.mx/biblioteca/leyes/archivosLeyes/1442.pdf | K41: JURIDICO | L41: 43581 | M41: 43555
...

Sheet NORMAS SUSTANTIVAS
A1: Fecha de Término Del Periodo Que Se Informa | B1: Tipo de Normatividad (catálogo) | C1: Denominación de La Norma Que Se Reporta | D1: ARTICULOS (MATERIA DE INFORMACION) | E1: Fecha de Publicación en Dof U Otro Medio Oficial O Institucional | F1: Fecha de Última Modificación, en su Caso | G1: Hipervínculo Al Documento de La Norma | H1: Área(s) Responsable(s) Que Genera(n), Posee(n), Publica(n) Y Actualizan La Información | I1: Fecha de Validación | J1: Fecha de Actualización
A2: 43555 | B2: TRATADO INTERNACIONAL | C2: CONVENCION SOBRE LOS DERECHOS DEL NIÑO | E2: 33263 | F2: 33263 | G2: http://www.cndh.org.mx/sites/all/doc/Programas/Provictima/1LEGISLACI%C3%93N/3InstrumentosInternacionales/F/convencion_derechos_nino.pdf | H2: JURIDICO | I2: 43581 | J2: 43555
A3: 43555 | B3: CODIGO | C3: CÓDIGO DE PROCEDIMIENTOS FAMILIARES PARA EL ESTADO DE CHIHUAHUA | D3: ARTICULO 39,52,70,104,115 138,203,299,301,302 | E3: 41843 | F3: 43474 | G3: http://www.congresochihuahua2.gob.mx/biblioteca/codigos/archivosCodigos/63.pdf | H3: JURIDICO | I3: 43581 | J3: 43555
A4: 43555 | B4: LEY FEDERAL | C4: LEY DE ASISTENCIA SOCIAL | D4: ARTICULO 9,14,28,51,61,62 | E4: 38232 | F4: 41992 | G4: http://www.ordenjuridico.gob.mx/Documentos/Federal/pdf/wo11034.pdf | H4: JURIDICO | I4: 43581 | J4: 43555
A5: 43555 | B5: LEY FEDERAL | C5: LEY DE ASISTENCIA Y PREVENCIÓN DE LA VIOLENCIA FAMILIAR | G5: WORD | H5: JURIDICO | I5: 43581 | J5: 43555
A6: 43555 | B6: LEY GENERAL | C6: LEY GENERAL DEL DESARROLLO SOCIAL | D6: ARTICULO 10, 36,70,74 | E6: 01/20/2004 | F6: 6/25/2018 | G6: http://www.ordenjuridico.gob.mx/Documentos/Federal/pdf/wo83185.pdf | H6: JURIDICO | I6: 43581 | J6: 43555
A7: 43555 | B7: LEY GENERAL | C7: LEY GENERAL DE LOS DERECHOS DE NIÑAS, NIÑOS Y ADOLESCENTES | D7: ARTICULO 13,26,30,32,37,41,50,64,65,76,101 | E7: 41977 | F7: 43620 | G7: http://www.ordenjuridico.gob.mx/Documentos/Federal/pdf/wo99957.pdf | H7: JURIDICO | I7: 43581 | J7: 43555
A8: 43555 | B8: LEY LOCAL | C8: LEY DE DESARROLLO SOCIAL Y HUMANO DEL ESTADO DE CHIHUAHUA | D8: ARTICULO 9,31,59, | E8: 39246 | F8: 43187 | G8: http://www.congresochihuahua2.gob.mx/biblioteca/leyes/archivosLeyes/89.pdf | H8: JURIDICO | I8: 43581 | J8: 43555
A9: 43555 | B9: LEY LOCAL | C9: LEY DE ASISTENCIA SOCIAL PÚBLICA Y PRIVADA PARA EL ESTADO DE CHIHUAHUA | D9: ARTICULO 5,14,18,25,38,43,61,65,84, | E9: 40114 | F9: 43204 | G9: http://www.congresochihuahua2.gob.mx/biblioteca/leyes/archivosLeyes/522.pdf | H9: JURIDICO | I9: 43581 | J9: 43555
A10: 43555 | B10: LEY LOCAL | C10: LEY DE LOS DERECHOS DE LA NIÑAS, NIÑOS Y ADOLESCENTES DEL ESTADO DE CHIHUAHUA | D10: ARTICULO 26,27,44,56,176,114 | E10: 42158 | F10: 43204 | G10: http://www.congresochihuahua2.gob.mx/biblioteca/leyes/archivosLeyes/1171.pdf | H10: JURIDICO | I10: 43581 | J10: 43555
A11: 43555 | B11: LEY LOCAL | C11: LEY DE LOS DERECHOS DE LAS PERSONAS MAYORES DEL ESTADO DE CHIHUAHUA | D11: ARTICULO 21,107,114 | E11: 40212 | F11: 43306 | G11: http://www.congresochihuahua2.gob.mx/biblioteca/leyes/archivosLeyes/1432.pdf | H11: JURIDICO | I11: 43581 | J11: 43555
A12: 43555 | B12: LEY LOCAL | C12: LEY DE IGUALDAD ENTRE MUJERES Y HOMBRES DEL ESTADO DE CHIHUAHUA | D12: ARTICULO 21,37,41,43 | E12: 40327 | F12: 42784 | G12: http://www.congresochihuahua2.gob.mx/biblioteca/leyes/archivosLeyes/604.pdf | H12: JURIDICO | I12: 43581 | J12: 43555
A13: 43555 | B13: LEY LOCAL | C13: LEY PARA LA INCLUSIÓN Y DESARROLLO DE LAS PERSONAS CON DISCAPACIDAD EN EL ESTADO DE CHIHUAHUA | D13: ARTICULO 1,38,55,56,57,65 | E13: 43124 | F13: 43540 | G13: http://www.congresochihuahua2.gob.mx/biblioteca/leyes/archivosLeyes/1417.pdf | H13: JURIDICO | I13: 43581 | J13: 43555
A14: 43555 | B14: LEY LOCAL | C14: LEY PARA PREVENIR Y ELIMINAR LA DISCRIMINACIÓN EN EL ESTADO DE CHIHUAHUA | D14: ARTICULO 9,10,11 | E14: 39270 | F14: 42646 | G14: http://www.congresochihuahua2.gob.mx/biblioteca/leyes/archivosLeyes/165.pdf | H14: JURIDICO | I14: 43581 | J14: 43555
A15: 43555 | B15: LEY LOCAL | C15: LEY ESTATAL DEL DERECHO DE LAS MUJERES A UNA VIDA LIBRE DE VIOLENCIA | D15: ARTICULO 6,25,27,28,34,37,39,41,49 | E15: 39106 | F15: 43414 | G15: http://www.congresochihuahua2.gob.mx/biblioteca/leyes/archivosLeyes/153.pdf | H15: JURIDICO | I15: 43581 | J15: 43555
A16: 43555 | B16: LEY LOCAL | C16: LEY GENERAL PARA LA DONACION ALTRUISTA DE ALIMENTOS EN EL ESTADO DE CHIHUAHUA | D16: ARTICULO 8, 15 | E16: 7/30/2008 | F16: 2/22/2017 | G16: http://www.congresochihuahua2.gob.mx/biblioteca/leyes/archivosLeyes/924.pdf | H16: JURIDICO | I16: 43581 | J16: 43555
A17: 43555 | B17: DECRETO | C17: DECRETO 230/08 ATRIBUCIONES DEL PRESIDENTE DEL CONSEJO | E17: 39555 | F17: 43281 | G17: http://www.municipiochihuahua.gob.mx/Transparencia/AD/81?file=DECRETO%20MODIFICACION%20AL%20DECRETO%20DE%20CREACION%20DEL%20DIF%20MUNICIPAL.pdf | H17: JURIDICO | I17: 43581 | J17: 43555
A18: 43555 | B18: DECRETO | C18: DECRETO DE CREACION 261/84 DESARROLLO INTEGRAL DE LA FAMILIA | G18: http://www.ordenjuridico.gob.mx/Estatal/CHIHUAHUA/Municipios/Chihuahua/ChihuahuaDec02.pdf | H18: JURIDICO | I18: 43581 | J18: 43555
A19: 43555 | B19: DECRETO | C19: DECRETO POR EL QUE SE APRUEBA EL PROGRAMA NACIONAL DE PRESTACIÓN DE SERVICIOS PARA LA ATENCIÓN, CUIDADO Y DESARROLLO INTEGRAL INFANTIL 2014-2018 | E19: 41759 | F19: 43281 | G19: http://www.dof.gob.mx/nota_to_doc.php?codnota=5343088 | H19: JURIDICO | I19: 43581 | J19: 43555
A20: 43555 | B20: REGLAMENTO | C20: REGLAMENTO DE LA LEY PARA PREVENIR Y ELIMINAR LA DISCRIMINACIÓN EN EL ESTADO DE CHIHUAHUA | D20: NA | E20: 2/20/2010 | F20: 43101 | G20: http://www.congresochihuahua2.gob.mx/biblioteca/reglamentos/archivosReglamentos/123.pdf | H20: JURIDICO | I20: 43581 | J20: 43555
A21: 43555 | B21: REGLAMENTO | C21: REGLAMENTO DE LA LEY DE LOS DERECHOS DE LAS NIÑAS, NIÑOS Y ADOLESCENTES DEL ESTADO DE CHIHUAHUA | D21: ARTICULO 19,62,72,80,84,93,95,99 | E21: 42047 | F21: 43101 | G21: http://www.diputados.gob.mx/LeyesBiblio/regley/Reg_LGDNNA.pdf | H21: JURIDICO | I21: 43581 | J21: 43555
A22: 43555 | B22: REGLAMENTO | C22: REGLAMENTO DE LA LEY ESTATAL DEL DERECHO DE LAS MUJERES A UNA VIDA LIBRE DE VIOLENCIA | D22: NA | E22: 40332 | F22: 43101 | G22: http://www.congresochihuahua2.gob.mx/biblioteca/reglamentos/archivosReglamentos/135.pdf | H22: JURIDICO | I22: 43581 | J22: 43555
A23: 43555 | B23: REGLAMENTO | C23: REGLAMENTO DE LA LEY DE JUSTICIA ESPECIAL PARA ADOLESCENTES DE CHIHUAHUA EN MATERIA DE CENTRO DE REINSERCIÓN SOCIAL PARA ADOLESCENTES INFRACTORES | D23: ARTICULO 28,33,39,58,59,61,90,92,105,106,148,175,198 | E23: 41703 | F23: 43101 | G23: http://www.congresochihuahua2.gob.mx/biblioteca/reglamentos/archivosReglamentos/174.pdf | H23: JURIDICO | I23: 43581 | J23: 43555
A24: 43555 | B24: REGLAMENTO | C24: REGLAMENTO A LA LEY PARA LAS PERSONAS CON DISCAPACIDAD DEL ESTADO DE CHIHUAHUA | D24: NA | E24: 38528 | F24: 43281 | G24: http://www.congresochihuahua2.gob.mx/biblioteca/reglamentos/archivosReglamentos/51.pdf | H24: JURIDICO | I24: 43581 | J24: 43555
A25: 43555 | B25: REGLAMENTO | C25: REGLAS DE OPERACIÓN DEL PROGRAMA DE DESARROLLO COMUNITARIO | E25: 42732 | G25: http://www.dof.gob.mx/nota_detalle.php?codigo=5467884&fecha=28/12/2016 | H25: JURIDICO | I25: 43581 | J25: 43555
A26: 43555 | B26: REGLAMENTO | C26: REGLAS DE OPERACION DEL PROGRAMA DE ASISTENCIA SOCIAL ALIMENTARIA 2017 | G26: https://adjuntos.chihuahua.gob.mx/DIFE/77/1/2017/Reglas%20de%20Operacion%20PASA%202017.pdf | H26: JURIDICO | I26: 43581 | J26: 43555
A27: 43555 | B27: REGLAMENTO | C27: REGLAMENTO DE LA LEY GENERAL DE SALUD EN MATERIA DE PRESTACIÓN DE SERVICIOS DE ATENCIÓN MÉDICA. | D27: ARTICULO 17,18,23,24,25,37,44,79,82,83,144,222,223 | E27: 31531 | G27: http://www.salud.gob.mx/unidades/cdi/nom/compi/rlgsmpsam.html | H27: JURIDICO | I27: 43581 | J27: 43555
A28: 43555 | B28: LINEAMIENTO | C28: LINEAMIENTOS PARA LA OPERACIÓN Y VIGILANCIA DE LOS ESTABLECIMIENTOS QUE PRESTEN SERVICIO DE ASISTENCIA SOCIAL EN EL ESTADO DE CHIHUAHUA | E28: 6/30/2012 | F28: 43101 | G28: https://adjuntos.chihuahua.gob.mx/DIFE/77/1/2017/I%209%20E%20PROCU.pdf | H28: JURIDICO | I28: 43581 | J28: 43555
A29: 43555 | B29: LINEAMIENTO | C29: LINEAMIENTOS OPERATIVOS DEL PROGRAMA E003 "SERVICIOS A GRUPOS CON NECESIDADES ESPECIALES" | D29: NA | G29: http://www.inapam.gob.mx/work/models/INAPAM/Resource/1247/1/images/LineamientosOperativosProgramaE003.pdf | H29: JURIDICO | I29: 43581 | J29: 43555
A30: 43555 | B30: ACUERDO | C30: ACUERDO POR EL QUE SE EMITEN LAS REGLAS DE OPERACIÓN DEL PROGRAMA DE ATENCIÓN A PERSONAS CON DISCAPACIDAD, PARA EL EJERCICIO FISCAL | D30: NA | E30: 42733 | F30: 42736 | G30: http://www.dof.gob.mx/nota_detalle.php?codigo=5468078&fecha=29/12/2016 | H30: JURIDICO | I30: 43581 | J30: 43555
A31: 43555 | B31: MANUAL | C31: MANUAL PARA LA SUPERVISIÓN DEL PROGRAMA DE ASISTENCIA SOCIAL ALIMENTARIA 2017 | D31: NA | E31: 4/29/2017 | F31: 43101 | G31: https://adjuntos.chihuahua.gob.mx/DIFE/77/1/2017/MANUAL%20DE%20SUPERVISION%202017.pdf | H31: JURIDICO | I31: 43581 | J31: 43555
A32: 43555 | B32: MANUAL | C32: MANUAL PARA LA DOTACIÓN DE ALIMENTOS A INTITUCIONES | D32: NA | E32: 4/29/2017 | F32: 43101 | G32: https://adjuntos.chihuahua.gob.mx/DIFE/77/1/2017/Manual%20para%20la%20Dotación%20de%20Alimentos%20a%20Intituciones%202017.pdf | H32: JURIDICO | I32: 43581 | J32: 43555
A33: 43555 | B33: MANUAL | C33: MANUAL DE PROGRAMA APOYO ALIMENTICIO A PERSONAS EN SITUACIÓN DE VULNERABILIDAD | D33: NA | E33: 4/29/2017 | F33: 43101 | G33: https://adjuntos.chihuahua.gob.mx/DIFE/77/1/2017/MANUAL%20AP%20ALIM%20A%20PERS%20EN%20SIT%20DE%20VULN.pdf | H33: JURIDICO | I33: 43581 | J33: 43555
A34: 43555 | B34: MANUAL | C34: MANUAL DE ORGANIZACIÓN Y OPERACIÓN DEL SISTEMA NACIONAL DE PROTECCIÓN INTEGRAL DE NIÑAS, NIÑOS Y ADOLESCENTES. | D34: NA | G34: dof.gob.mx/nota_detalle.php?codigo=5428443&fecha=03/03/2016 | H34: JURIDICO | I34: 43581 | J34: 43555
A35: 43555 | B35: NORMA | C35: NORMA OFICIAL MEXICANA NOM-043-SSA2-2012, SERVICIOS BÁSICOS DE SALUD, PROMOCIÓN Y EDUCACIÓN PARA LA SALUD EN MATERIA ALIMENTARIA | D35: NA | E35: 41296 | F35: 43281 | G35: http://dof.gob.mx/nota_detalle.php?codigo=5285372&fecha=22/01/2013 | H35: JURIDICO | I35: 43581 | J35: 43555
A36: 43555 | B36: NORMA | C36: NORMA OFICIAL MEXICANA NOM-015-SSA3-2012, PARA LA ATENCIÓN INTEGRAL A PERSONAS CON DISCAPACIDAD | D36: NA | E36: 41166 | F36: 43281 | G36: http://dof.gob.mx/nota_detalle.php?codigo=5268226&fecha=14/09/2012 | H36: JURIDICO | I36: 43581 | J36: 43555
A37: 43555 | B37: NORMA | C37: NORMA OFICIAL MEXICANA NOM-031-SSA3-2012, ASISTENCIA SOCIAL | D37: NA | E37: 41165 | F37: 43281 | G37: http://dof.gob.mx/nota_detalle.php?codigo=5267965&fecha=13/09/2012 | H37: JURIDICO | I37: 43581 | J37: 43555
A38: 43555 | B38: NORMA | C38: NORMA OFICIAL MEXICANA NOM-004-SSA3-2012, DEL EXPEDIENTE CLÍNICO. | D38: NA | E38: 40456 | F38: 41197 | G38: https://www.sinec.gob.mx/SINEC/Vista/Normalizacion/DetalleNorma.xhtml?pidn=bjl6dmtla2xua0VtcnRiL1MzUk85UT09 | H38: JURIDICO | I38: 43581 | J38: 43555
A39: 43555 | B39: NORMA | C39: NORMA OFICIAL MEXICANA NOM-245-SSA1-2010, REQUISITOS SANITARIOS Y CALIDAD DEL AGUA QUE DEBEN CUMPLIR LAS ALBERCAS | D39: NA | E39: 6/25/2012 | F39: 43101 | G39: https://www.sinec.gob.mx/SINEC/Vista/Normalizacion/DetalleNorma.xhtml?pidn=WkRTWXJ1VXQzd2IwZUVhdVdTYkNuQT09 | H39: JURIDICO | I39: 43581 | J39: 43555
A40: 43555 | B40: NORMA | C40: NORMA OFICIAL MEXICANA NOM-032-SSA3-2010, PRESTACIÓN DE SERVICIOS DE ASISTENCIA SOCIAL PARA NIÑOS, NIÑAS Y ADOLESCENTES EN SITUACIÓN DE RIESGO Y VULNERABILIDAD. | D40: NA | E40: 2/25/2011 | F40: 43101 | G40: https://www.sinec.gob.mx/SINEC/Vista/Normalizacion/DetalleNorma.xhtml?pidn=eUlodWNBNUplNy81M2drZUMxV0VSZz09 | H40: JURIDICO | I40: 43581 | J40: 43555
...

Sheet CATALOGO DE DISPOSICION DOC.
A1: "CATALOGO DE DISPOSICION DOCUMENTAL CDD 001/2020"
F2: VALOR DOCUMENTAL | I2: PLAZOS DE CONSERVACIÓN | L2: DESTINO FINAL | O2: TI | Q2: OBSERVACIÓN
F3: A | G3: F | H3: L | I3: AT | J3: AC | K3: TOTAL | L3: E | M3: C | N3: M | O3: R | P3: C
A4: NOMBRE DE LA SECCION: DIRECCION
A5: SUB SECCIÓN | D5: =ENTREVISTA!F54 -> 01 | E5: =ENTREVISTA!G54 -> FORTALECIMIENTO FAMILIAR Y RESPONSABILIDAD SOCIAL
A6: CLAVE SERIE | E6: NOMBRE DE LA SERIE
A7: =ENTREVISTA!D54 -> DI | B7: =ENTREVISTA!F54 -> 01 | C7: =ENTREVISTA!H54 -> S | D7: =ENTREVISTA!I54 -> 01 | E7: =ENTREVISTA!J54 -> VOLUNTARIADO | F7: =ENTREVISTA!BI54 -> X | H7: =ENTREVISTA!BK54 -> X | I7: =ENTREVISTA!BA54 -> 1 | J7: =ENTREVISTA!BB54 -> 2 | K7: =I7+J7 -> 3 | L7: X | P7: X
A8: =ENTREVISTA!D55 -> DI | B8: =ENTREVISTA!F55 -> 01 | C8: =ENTREVISTA!H55 -> S | D8: =ENTREVISTA!I55 -> 02 | E8: =ENTREVISTA!J55 -> ATENCIÓN EVENTUALIDADES | F8: =ENTREVISTA!BI55 -> X | H8: =ENTREVISTA!BK55 -> X | I8: =ENTREVISTA!BA55 -> 1 | J8: =ENTREVISTA!BB55 -> 3 | K8: =I8+J8 -> 4 | M8: =ENTREVISTA!BD55 -> X | P8: =ENTREVISTA!AC55 -> X
A9: =ENTREVISTA!D56 -> DI | B9: =ENTREVISTA!F56 -> 01 | C9: =ENTREVISTA!H56 -> S | D9: =ENTREVISTA!I56 -> 03 | E9: =ENTREVISTA!J56 -> PROGRAMAS DE FORTALECIMIENTO FAMILIAR | F9: =ENTREVISTA!BI56 -> X | H9: =ENTREVISTA!BK56 -> X | I9: =ENTREVISTA!BA56 -> 1 | J9: =ENTREVISTA!BB56 -> 2 | K9: =I9+J9 -> 3 | L9: X
A10: =ENTREVISTA!D57 -> DI | B10: =ENTREVISTA!F57 -> 01 | C10: =ENTREVISTA!H57 -> S | D10: =ENTREVISTA!I57 -> 04 | E10: =ENTREVISTA!J57 -> TALLERES DE FORTALECIMIENTO FAMILIAR | F10: =ENTREVISTA!BI57 -> X | H10: =ENTREVISTA!BK57 -> X | I10: =ENTREVISTA!BA57 -> 1 | J10: =ENTREVISTA!BB57 -> 3 | K10: =I10+J10 -> 4 | M10: X | P10: =ENTREVISTA!AC57 -> X
A11: =ENTREVISTA!D58 -> DI | B11: =ENTREVISTA!F58 -> 01 | C11: =ENTREVISTA!H58 -> S | D11: =ENTREVISTA!I58 -> 05 | E11: =ENTREVISTA!J58 -> RELACIONES INTERINSTITUCIONALES | F11: =ENTREVISTA!BI58 -> X | H11: =ENTREVISTA!BK58 -> X | I11: =ENTREVISTA!BA58 -> 1 | J11: =ENTREVISTA!BB58 -> 2 | K11: =I11+J11 -> 3 | M11: =ENTREVISTA!BD58 -> X | P11: X
A12: =ENTREVISTA!D59 -> DI | B12: =ENTREVISTA!F59 -> 01 | C12: =ENTREVISTA!H59 -> S | D12: =ENTREVISTA!I59 -> 06 | E12: =ENTREVISTA!J59 -> CANALIZACIÓN EXTERNA | F12: =ENTREVISTA!BI59 -> X | H12: =ENTREVISTA!BK59 -> X | I12: =ENTREVISTA!BA59 -> 1 | J12: =ENTREVISTA!BB59 -> 2 | K12: =I12+J12 -> 3 | M12: =ENTREVISTA!BD59 -> X | P12: =ENTREVISTA!AC59 -> X
A13: =ENTREVISTA!D60 -> DI | B13: =ENTREVISTA!F60 -> 01 | C13: =ENTREVISTA!H60 -> S | D13: =ENTREVISTA!I60 -> 07 | E13: =ENTREVISTA!J60 -> INFORMES DEL ÁREA DE FORTALECIMIENTO FAMILIAR Y RESPONSABLIDAD SOCIAL | F13: =ENTREVISTA!BI60 -> X | H13: =ENTREVISTA!BK60 -> X | I13: =ENTREVISTA!BA60 -> 1 | J13: =ENTREVISTA!BB60 -> 2 | K13: =I13+J13 -> 3 | M13: =ENTREVISTA!BD60 -> X
A14: =ENTREVISTA!D61 -> DI | B14: =ENTREVISTA!F61 -> 01 | C14: =ENTREVISTA!H61 -> S | D14: =ENTREVISTA!I61 -> 08 | E14: =ENTREVISTA!J61 -> PLANEACIÓN DEL ÁREA | H14: =ENTREVISTA!BK61 -> X | I14: =ENTREVISTA!BA61 -> 1 | J14: =ENTREVISTA!BB61 -> 2 | K14: =I14+J14 -> 3 | L14: X
A15: SUB SECCIÓN | D15: =ENTREVISTA!F62 -> 02 | E15: =ENTREVISTA!G62 -> SIPINNA
A16: CLAVE SERIE | E16: NOMBRE DE LA SERIE
A17: =ENTREVISTA!D62 -> DI | B17: =ENTREVISTA!F62 -> 02 | C17: =ENTREVISTA!H62 -> S | D17: =ENTREVISTA!I62 -> 01 | E17: =ENTREVISTA!J62 -> SIPINNA ESTATAL | F17: =ENTREVISTA!BI62 -> X | H17: =ENTREVISTA!BK62 -> X | I17: =ENTREVISTA!BA62 -> 1 | J17: =ENTREVISTA!BB62 -> 2 | K17: =I17+J17 -> 3 | M17: =ENTREVISTA!BD62 -> X | P17: =ENTREVISTA!AC62 -> X
A18: =ENTREVISTA!D63 -> DI | B18: =ENTREVISTA!F63 -> 02 | C18: =ENTREVISTA!H63 -> S | D18: =ENTREVISTA!I63 -> 02 | E18: =ENTREVISTA!J63 -> SIPINNA MUNICIPAL | F18: =ENTREVISTA!BI63 -> X | H18: =ENTREVISTA!BK63 -> X | I18: =ENTREVISTA!BA63 -> 1 | J18: =ENTREVISTA!BB63 -> 2 | K18: =I18+J18 -> 3 | M18: =ENTREVISTA!BD63 -> X | P18: =ENTREVISTA!AC63 -> X
A19: =ENTREVISTA!D64 -> DI | B19: =ENTREVISTA!F64 -> 02 | C19: =ENTREVISTA!H64 -> S | D19: =ENTREVISTA!I64 -> 03 | E19: =ENTREVISTA!J64 -> MESAS DE TRABAJO SIPINNA | F19: =ENTREVISTA!BI64 -> X | H19: =ENTREVISTA!BK64 -> X | I19: =ENTREVISTA!BA64 -> 1 | J19: =ENTREVISTA!BB64 -> 2 | K19: =ENTREVISTA!BC64 -> 3 | M19: =ENTREVISTA!BD64 -> X | P19: X
A20: SUB SECCIÓN | D20: =ENTREVISTA!F113 -> 03 | E20: =ENTREVISTA!G113 -> COORDINACIÓN DE ARCHIVOS
A21: CLAVE SERIE | E21: NOMBRE DE LA SERIE
A22: =ENTREVISTA!D113 -> DI | B22: =ENTREVISTA!F113 -> 03 | C22: =ENTREVISTA!H113 -> C | D22: =ENTREVISTA!I113 -> 01 | E22: =ENTREVISTA!J113 -> COMITÉ DE ARCHIVOS | F22: X | H22: X | I22: =ENTREVISTA!BA113 -> 1 | J22: =ENTREVISTA!BB113 -> 2 | K22: =I22+J22 -> 3 | M22: X
A23: =ENTREVISTA!D114 -> DI | B23: =ENTREVISTA!F114 -> 03 | C23: =ENTREVISTA!H114 -> C | D23: =ENTREVISTA!I114 -> 02 | E23: =ENTREVISTA!J114 -> PROGRAMA ANUAL DE DESARROLLO ARCHIVÍSTICO | F23: X | H23: X | I23: =ENTREVISTA!BA114 -> 1 | J23: =ENTREVISTA!BB114 -> 2 | K23: =I23+J23 -> 3 | L23: X
A24: =ENTREVISTA!D115 -> DI | B24: =ENTREVISTA!F115 -> 03 | C24: =ENTREVISTA!H115 -> C | D24: =ENTREVISTA!I115 -> 03 | E24: =ENTREVISTA!J115 -> INSTRUMENTOS DE CONSULTA Y CONTROL | F24: X | H24: X | I24: =ENTREVISTA!BA115 -> 3 | J24: =ENTREVISTA!BB115 -> 4 | K24: =I24+J24 -> 7 | L24: X
A25: =ENTREVISTA!D116 -> DI | B25: =ENTREVISTA!F116 -> 03 | C25: =ENTREVISTA!H116 -> C | D25: =ENTREVISTA!I116 -> 04 | E25: =ENTREVISTA!J116 -> MANUALES DE PROCEDIMIENTOS | F25: X | H25: X | I25: =ENTREVISTA!BA116 -> 3 | J25: =ENTREVISTA!BB116 -> 4 | K25: =I25+J25 -> 7 | L25: X
A26: SUB SECCIÓN | D26: =ENTREVISTA!F118 -> 04 | E26: =ENTREVISTA!G118 -> UNIDAD DE TRANSPARENCIA
A27: CLAVE SERIE | E27: NOMBRE DE LA SERIE
A28: =ENTREVISTA!D118 -> DI | B28: =ENTREVISTA!F118 -> 04 | C28: =ENTREVISTA!H118 -> C | D28: =ENTREVISTA!I118 -> 01 | E28: =ENTREVISTA!J118 -> COMITÉ DE TRANSPARENCIA | F28: X | H28: X | I28: =ENTREVISTA!BA118 -> 1 | J28: =ENTREVISTA!BB118 -> 2 | K28: =I28+J28 -> 3 | M28: X
A29: =ENTREVISTA!D119 -> DI | B29: =ENTREVISTA!F119 -> 04 | C29: =ENTREVISTA!H119 -> C | D29: =ENTREVISTA!I119 -> 02 | E29: =ENTREVISTA!J119 -> OBLIGACIONES DE TRANSPARENCIA | F29: X | H29: X | I29: =ENTREVISTA!BA119 -> 1 | J29: =ENTREVISTA!BB119 -> 2 | K29: =I29+J29 -> 3 | L29: X
A30: =ENTREVISTA!D120 -> DI | B30: =ENTREVISTA!F120 -> 04 | C30: =ENTREVISTA!H120 -> C | D30: =ENTREVISTA!I120 -> 03 | E30: =ENTREVISTA!J120 -> RECURSOS DE REVISIÓN | F30: X | H30: X | I30: * | J30: * | K30: * | L30: X | Q30: =ENTREVISTA!BC120 -> DEPENDE DE LA DURACIÓN DEL PROCEDIMIENTO
A31: =ENTREVISTA!D121 -> DI | B31: =ENTREVISTA!F121 -> 04 | C31: =ENTREVISTA!H121 -> C | D31: =ENTREVISTA!I121 -> 04 | E31: =ENTREVISTA!J121 -> SOLICITUDES DE INFORMACION | F31: X | H31: X | I31: =ENTREVISTA!BA121 -> 1 | J31: =ENTREVISTA!BB121 -> 2 | K31: =I31+J31 -> 3 | L31: X
A32: =ENTREVISTA!D122 -> DI | B32: =ENTREVISTA!F122 -> 04 | C32: =ENTREVISTA!H122 -> C | D32: =ENTREVISTA!I122 -> 05 | E32: =ENTREVISTA!J122 -> SOLICITUDES ARCO | F32: X | H32: X | I32: =ENTREVISTA!BA122 -> 1 | J32: =ENTREVISTA!BB122 -> 2 | K32: =I32+J32 -> 3 | L32: X
A33: =ENTREVISTA!D123 -> DI | B33: =ENTREVISTA!F123 -> 04 | C33: =ENTREVISTA!H123 -> C | D33: =ENTREVISTA!I123 -> 06 | E33: =ENTREVISTA!J123 -> SUPERVISIÓN DE ORGANO GARANTE | F33: X | H33: X | I33: =ENTREVISTA!BA123 -> 1 | J33: =ENTREVISTA!BB123 -> 3 | K33: =I33+J33 -> 4 | M33: X
A34: NOMBRE DE LA SECCION: COORDINACION GENERAL
A35: SUB SECCIÓN | D35: =ENTREVISTA!F65 -> 01 | E35: =ENTREVISTA!G65 -> PLANEACIÓN Y PROYECTOS
A36: CLAVE SERIE | E36: NOMBRE DE LA SERIE
A37: =ENTREVISTA!D65 -> CG | B37: =ENTREVISTA!F65 -> 01 | C37: =ENTREVISTA!H65 -> C | D37: =ENTREVISTA!I65 -> 01 | E37: =ENTREVISTA!J65 -> ENTREGA - RECEPCIÓN | F37: =ENTREVISTA!BI65 -> X | H37: =ENTREVISTA!BK65 -> X | I37: =ENTREVISTA!BA65 -> 1 | J37: =ENTREVISTA!BB65 -> 2 | K37: =I37+J37 -> 3 | M37: X | P37: X
A38: =ENTREVISTA!D66 -> CG | B38: =ENTREVISTA!F66 -> 01 | C38: =ENTREVISTA!H66 -> S | D38: =ENTREVISTA!I66 -> 02 | E38: =ENTREVISTA!J66 -> PROYECTO O.S.C. | H38: =ENTREVISTA!BK66 -> X | I38: =ENTREVISTA!BA66 -> 1 | J38: =ENTREVISTA!BB66 -> 2 | K38: =I38+J38 -> 3 | M38: X
A39: =ENTREVISTA!D67 -> CG | B39: =ENTREVISTA!F67 -> 01 | C39: =ENTREVISTA!H67 -> C | D39: =ENTREVISTA!I67 -> 03 | E39: =ENTREVISTA!J67 -> PRESUPUESTO BASADO EN RESULTADOS (PBR) | F39: =ENTREVISTA!BI67 -> X | H39: =ENTREVISTA!BK67 -> X | I39: =ENTREVISTA!BA67 -> 1 | J39: =ENTREVISTA!BB67 -> 2 | K39: =I39+J39 -> 3 | L39: X
A40: =ENTREVISTA!D68 -> CG | B40: =ENTREVISTA!F68 -> 01 | C40: =ENTREVISTA!H68 -> S | D40: =ENTREVISTA!I68 -> 04 | E40: =ENTREVISTA!J68 -> VINCULACIÓN | H40: =ENTREVISTA!BK68 -> X | I40: =ENTREVISTA!BA68 -> 1 | J40: =ENTREVISTA!BB68 -> 2 | K40: =I40+J40 -> 3 | L40: X
...

Sheet C.G.C.A
E1: "CUADRO GENERAL DE CLASIFICACION ARCHIVISTICA CGCA 001/2019"
A2: CLAVE SECCIÓN | D2: =ENTREVISTA!D54 -> DI | E2: SECCIÓN
E3: =ENTREVISTA!E54 -> DIRECCIÓN
A4: SUB SECCIÓN | D4: =ENTREVISTA!F54 -> 01 | E4: =ENTREVISTA!G54 -> FORTALECIMIENTO FAMILIAR Y RESPONSABILIDAD SOCIAL
A5: CLAVE SERIE | E5: NOMBRE DE LA SERIE
A6: ='CATALOGO DE DISPOSICION DOC.'!A7 -> DI | B6: ='CATALOGO DE DISPOSICION DOC.'!B7 -> 01 | C6: ='CATALOGO DE DISPOSICION DOC.'!C7 -> S | D6: ='CATALOGO DE DISPOSICION DOC.'!D7 -> 01 | E6: ='CATALOGO DE DISPOSICION DOC.'!E7 -> VOLUNTARIADO
A7: ='CATALOGO DE DISPOSICION DOC.'!A8 -> DI | B7: ='CATALOGO DE DISPOSICION DOC.'!B8 -> 01 | C7: ='CATALOGO DE DISPOSICION DOC.'!C8 -> S | D7: ='CATALOGO DE DISPOSICION DOC.'!D8 -> 02 | E7: ='CATALOGO DE DISPOSICION DOC.'!E8 -> ATENCIÓN EVENTUALIDADES
A8: ='CATALOGO DE DISPOSICION DOC.'!A9 -> DI | B8: ='CATALOGO DE DISPOSICION DOC.'!B9 -> 01 | C8: ='CATALOGO DE DISPOSICION DOC.'!C9 -> S | D8: ='CATALOGO DE DISPOSICION DOC.'!D9 -> 03 | E8: ='CATALOGO DE DISPOSICION DOC.'!E9 -> PROGRAMAS DE FORTALECIMIENTO FAMILIAR
A9: ='CATALOGO DE DISPOSICION DOC.'!A10 -> DI | B9: ='CATALOGO DE DISPOSICION DOC.'!B10 -> 01 | C9: ='CATALOGO DE DISPOSICION DOC.'!C10 -> S | D9: ='CATALOGO DE DISPOSICION DOC.'!D10 -> 04 | E9: ='CATALOGO DE DISPOSICION DOC.'!E10 -> TALLERES DE FORTALECIMIENTO FAMILIAR
A10: ='CATALOGO DE DISPOSICION DOC.'!A11 -> DI | B10: ='CATALOGO DE DISPOSICION DOC.'!B11 -> 01 | C10: ='CATALOGO DE DISPOSICION DOC.'!C11 -> S | D10: ='CATALOGO DE DISPOSICION DOC.'!D11 -> 05 | E10: ='CATALOGO DE DISPOSICION DOC.'!E11 -> RELACIONES INTERINSTITUCIONALES
A11: ='CATALOGO DE DISPOSICION DOC.'!A12 -> DI | B11: ='CATALOGO DE DISPOSICION DOC.'!B12 -> 01 | C11: ='CATALOGO DE DISPOSICION DOC.'!C12 -> S | D11: ='CATALOGO DE DISPOSICION DOC.'!D12 -> 06 | E11: ='CATALOGO DE DISPOSICION DOC.'!E12 -> CANALIZACIÓN EXTERNA
A12: ='CATALOGO DE DISPOSICION DOC.'!A13 -> DI | B12: ='CATALOGO DE DISPOSICION DOC.'!B13 -> 01 | C12: ='CATALOGO DE DISPOSICION DOC.'!C13 -> S | D12: ='CATALOGO DE DISPOSICION DOC.'!D13 -> 07 | E12: ='CATALOGO DE DISPOSICION DOC.'!E13 -> INFORMES DEL ÁREA DE FORTALECIMIENTO FAMILIAR Y RESPONSABLIDAD SOCIAL
A13: ='CATALOGO DE DISPOSICION DOC.'!A14 -> DI | B13: ='CATALOGO DE DISPOSICION DOC.'!B14 -> 01 | C13: ='CATALOGO DE DISPOSICION DOC.'!C14 -> S | D13: ='CATALOGO DE DISPOSICION DOC.'!D14 -> 08 | E13: ='CATALOGO DE DISPOSICION DOC.'!E14 -> PLANEACIÓN DEL ÁREA
A14: SUB SECCIÓN | D14: =ENTREVISTA!F62 -> 02 | E14: =ENTREVISTA!G62 -> SIPINNA
A15: CLAVE SERIE | E15: NOMBRE DE LA SERIE
A16: ='CATALOGO DE DISPOSICION DOC.'!A17 -> DI | B16: ='CATALOGO DE DISPOSICION DOC.'!B17 -> 02 | C16: ='CATALOGO DE DISPOSICION DOC.'!C17 -> S | D16: ='CATALOGO DE DISPOSICION DOC.'!D17 -> 01 | E16: ='CATALOGO DE DISPOSICION DOC.'!E17 -> SIPINNA ESTATAL
A17: ='CATALOGO DE DISPOSICION DOC.'!A18 -> DI | B17: ='CATALOGO DE DISPOSICION DOC.'!B18 -> 02 | C17: ='CATALOGO DE DISPOSICION DOC.'!C18 -> S | D17: ='CATALOGO DE DISPOSICION DOC.'!D18 -> 02 | E17: ='CATALOGO DE DISPOSICION DOC.'!E18 -> SIPINNA MUNICIPAL
A18: =ENTREVISTA!D64 -> DI | B18: ='CATALOGO DE DISPOSICION DOC.'!B19 -> 02 | C18: ='CATALOGO DE DISPOSICION DOC.'!C19 -> S | D18: ='CATALOGO DE DISPOSICION DOC.'!D19 -> 03 | E18: ='CATALOGO DE DISPOSICION DOC.'!E19 -> MESAS DE TRABAJO SIPINNA
A19: SUB SECCIÓN | D19: =ENTREVISTA!F113 -> 03 | E19: =ENTREVISTA!G113 -> COORDINACIÓN DE ARCHIVOS
A20: CLAVE SERIE | E20: NOMBRE DE LA SERIE
A21: =ENTREVISTA!D113 -> DI | B21: ='CATALOGO DE DISPOSICION DOC.'!B22 -> 03 | C21: ='CATALOGO DE DISPOSICION DOC.'!C22 -> C | D21: =ENTREVISTA!I113 -> 01 | E21: =ENTREVISTA!J113 -> COMITÉ DE ARCHIVOS
A22: =ENTREVISTA!D114 -> DI | B22: ='CATALOGO DE DISPOSICION DOC.'!B23 -> 03 | C22: ='CATALOGO DE DISPOSICION DOC.'!C23 -> C | D22: =ENTREVISTA!I114 -> 02 | E22: =ENTREVISTA!J114 -> PROGRAMA ANUAL DE DESARROLLO ARCHIVÍSTICO
A23: =ENTREVISTA!D115 -> DI | B23: ='CATALOGO DE DISPOSICION DOC.'!B24 -> 03 | C23: ='CATALOGO DE DISPOSICION DOC.'!C24 -> C | D23: =ENTREVISTA!I115 -> 03 | E23: =ENTREVISTA!J115 -> INSTRUMENTOS DE CONSULTA Y CONTROL
A24: =ENTREVISTA!D116 -> DI | B24: ='CATALOGO DE DISPOSICION DOC.'!B25 -> 03 | C24: ='CATALOGO DE DISPOSICION DOC.'!C25 -> C | D24: =ENTREVISTA!I116 -> 04 | E24: =ENTREVISTA!J116 -> MANUALES DE PROCEDIMIENTOS
A25: SUB SECCIÓN | D25: =ENTREVISTA!F118 -> 04 | E25: =ENTREVISTA!G118 -> UNIDAD DE TRANSPARENCIA
A26: CLAVE SERIE | E26: NOMBRE DE LA SERIE
A27: =ENTREVISTA!D118 -> DI | B27: ='CATALOGO DE DISPOSICION DOC.'!B28 -> 04 | C27: ='CATALOGO DE DISPOSICION DOC.'!C28 -> C | D27: =ENTREVISTA!I118 -> 01 | E27: =ENTREVISTA!J118 -> COMITÉ DE TRANSPARENCIA
A28: =ENTREVISTA!D119 -> DI | B28: ='CATALOGO DE DISPOSICION DOC.'!B29 -> 04 | C28: ='CATALOGO DE DISPOSICION DOC.'!C29 -> C | D28: =ENTREVISTA!I119 -> 02 | E28: =ENTREVISTA!J119 -> OBLIGACIONES DE TRANSPARENCIA
A29: =ENTREVISTA!D120 -> DI | B29: ='CATALOGO DE DISPOSICION DOC.'!B30 -> 04 | C29: ='CATALOGO DE DISPOSICION DOC.'!C30 -> C | D29: =ENTREVISTA!I120 -> 03 | E29: =ENTREVISTA!J120 -> RECURSOS DE REVISIÓN
A30: =ENTREVISTA!D121 -> DI | B30: ='CATALOGO DE DISPOSICION DOC.'!B31 -> 04 | C30: ='CATALOGO DE DISPOSICION DOC.'!C31 -> C | D30: =ENTREVISTA!I121 -> 04 | E30: =ENTREVISTA!J121 -> SOLICITUDES DE INFORMACION
A31: =ENTREVISTA!D122 -> DI | B31: ='CATALOGO DE DISPOSICION DOC.'!B32 -> 04 | C31: ='CATALOGO DE DISPOSICION DOC.'!C32 -> C | D31: =ENTREVISTA!I122 -> 05 | E31: =ENTREVISTA!J122 -> SOLICITUDES ARCO
A32: =ENTREVISTA!D123 -> DI | B32: ='CATALOGO DE DISPOSICION DOC.'!B33 -> 04 | C32: ='CATALOGO DE DISPOSICION DOC.'!C33 -> C | D32: =ENTREVISTA!I123 -> 06 | E32: =ENTREVISTA!J123 -> SUPERVISIÓN DE ORGANO GARANTE
A33: CLAVE SECCIÓN | D33: =ENTREVISTA!D65 -> CG | E33: SECCIÓN
E34: =ENTREVISTA!E65 -> COORDINACIÓN GENERAL
A35: SUB SECCIÓN | D35: =ENTREVISTA!F65 -> 01 | E35: =ENTREVISTA!G65 -> PLANEACIÓN Y PROYECTOS
A36: CLAVE SERIE | E36: NOMBRE DE LA SERIE
A37: ='CATALOGO DE DISPOSICION DOC.'!A37 -> CG | B37: =ENTREVISTA!F65 -> 01 | C37: =ENTREVISTA!H65 -> C | D37: ='CATALOGO DE DISPOSICION DOC.'!D37 -> 01 | E37: ='CATALOGO DE DISPOSICION DOC.'!E37 -> ENTREGA - RECEPCIÓN
A38: ='CATALOGO DE DISPOSICION DOC.'!A38 -> CG | B38: =ENTREVISTA!F66 -> 01 | C38: =ENTREVISTA!H66 -> S | D38: ='CATALOGO DE DISPOSICION DOC.'!D38 -> 02 | E38: ='CATALOGO DE DISPOSICION DOC.'!E38 -> PROYECTO O.S.C.
A39: ='CATALOGO DE DISPOSICION DOC.'!A39 -> CG | B39: =ENTREVISTA!F67 -> 01 | C39: =ENTREVISTA!H67 -> C | D39: ='CATALOGO DE DISPOSICION DOC.'!D39 -> 03 | E39: ='CATALOGO DE DISPOSICION DOC.'!E39 -> PRESUPUESTO BASADO EN RESULTADOS (PBR)
A40: ='CATALOGO DE DISPOSICION DOC.'!A40 -> CG | B40: =ENTREVISTA!F68 -> 01 | C40: =ENTREVISTA!H68 -> S | D40: ='CATALOGO DE DISPOSICION DOC.'!D40 -> 04 | E40: ='CATALOGO DE DISPOSICION DOC.'!E40 -> VINCULACIÓN
...

Sheet REGISTRO DE CORRESPONDENCIA
E1: CONTROL DE CORRESPONDENCIA FR 001/2019 | L1: CONTROL DE CORRESPONDENCIA FR 001/2019
A2: CONTROL DE CORRESPONDENCIA DE ENTRADA | H2: CONTROL DE CORRESPONDENCIA DE SALIDA
A3: REGISTRO DE INGRESO | D3: SEGUIMIENTO
A4: 1. FECHA DE RECEPCIÓN | B4: 2. TIPO DE DOCUMENTO | C4: 3 No. IDENTIFICADOR | D4: 4. RESPONSABLE DE LA ATENCIÓN DEL DOC | E4: 5. FECHA DE EMISIÓN | F4: 6. ESTATUS | G4: 7. BREVE CONTENIDO DE LA RESOLUCIÓN FINAL | H4: 1. ÁREA GENERADORA | I4: 2. TIPO DE DOCUMENTO | J4: 3. No. IDENTIFICADOR | K4: 4. FECHA DE ENVÍO | L4: 5. GUÍA | M4: 6. FECHA DE RECIBIDO/ SELLOS DE ACUSE | N4: 7. BREVE CONTENIDO DE LA RESOLUCIÓN FINAL
A5: 00/00/0000 | B5: OFICIO | C5: 1 | D5: JURÍDICO | E5: 00/00/0000 | F5: PENDIENTE | G5: -----------------

Sheet ENTREVISTA
F1: CLAVE SUB SECCIÓN | R1: FECHAS EXTREMAS | W1: AMBITO | Z1: INFORMACION | AD1: VALORES | BA1: VIGENCIAS | BI1: VALOR | BL1: TIPOLOGIA DOCUMENTAL
A2: FUENTE | B2: FECHA | C2: FONDO | D2: CLAVE SECCION | E2: SECCION | G2: SUB SECCION | I2: CLAVE DE SERIE | J2: SERIE | K2: DESCRIPCION DE LA SERIE | L2: FUNCION | M2: AREAS DE LA UNIDAD ADMINISTRATIVA QUE INTERVIENEN | N2: NATURALEZA DE LA RELACION INTERNA | O2: AREAS DE OTRAS QUE INTERVIENENNIDADES ADMINISTRATIVAS | P2: NATURALEZA DE LA RELACION EXTERNA | Q2: DESCRIPCION DE LA RELACION | R2: INICIO | S2: CIERRE | T2: UBICACION | U2: INTERNACIONAL | V2: NACIONAL | W2: LOCAL | X2: INSTITUCIONAL | Y2: ENCABEZAMIENTO DE MATERIA | AA2: IR | AB2: IC (DATOS PERSONALES) | AC2: IC (DATOS PERSONALES SENSIBLES) | AD2: LEGALES | AE2: CITA | AF2: LEGALES | AG2: CITA | AH2: LEGALES | AI2: CITA | AJ2: LEGALES | AK2: CITA | AL2: LEGALES | AM2: CITA | AN2: LEGALES | AO2: CITA | AP2: FISCALES O CONTABLES | AQ2: CITA | AR2: FISCALES O CONTABLES | AS2: CITA | AT2: FISCALES O CONTABLES | AU2: CITA | AV2: FISCALES O CONTABLES | AW2: CITA | AX2: ADMINISTRATIVOS | AY2: ADMINISTRATIVOS | AZ2: ADMINISTRATIVOS | BA2: ARCHIVO DE TRAMITE | BB2: ARCHIVO DE CONCENTRACIÓN | BC2: TOTAL | BD2: HISTORICO | BE2: SOPORTE | BF2: FORMA | BG2: RESPONSABLE DEL AREA GENERADORA DE LA SERIE | BH2: RESPONSABLE DEL ARCHIVO DE TRAMITE | BI2: A | BJ2: F | BK2: L
A3: ENTREVISTA | B3: =ENTREVISTA!C109 -> DIF MUNICIPAL | C3: DIF MUNICIPAL | D3: CA | E3: COORDINACIÓN ADMINISTRATIVA | F3: 01 | G3: CONTABILIDAD | H3: C | I3: 01 | J3: EJERCICIO PRESUPUESTAL | K3: BASE DEL ANÁLISIS DEL PRESUPUESTO, DOCUMENTO ELECTRÓNICO CARGADO EN INDETEC | L3: CONTRIBUIR CON EL COORDINADOR ADMINISTRATIVO EN EL DISEÑO Y CONTROL PRESUPUESTAL. | M3: OFICINA DE COORDINACIÓN ADMINISTRATIVA, CONTABILIDAD | N3: SUPRAORDINADA | O3: NO APLICA | P3: NO APLICA | Q3: EJERCICIO DEL GASTO | R3: 43466 | S3: 43830 | T3: CALLE GLANDORF NO. 4106 SAN FELIPE V ETAPA, 31203. CHIHUAHUA, CHIHUAHUA, MÉXICO | V3: X | W3: X | Y3: PRESUPUESTO | Z3: PÚBLICA | AD3: NO APLICA | AE3: NO APLICA | AF3: NO APLICA | AG3: NO APLICA | AH3: NO APLICA | AI3: NO APLICA | AJ3: NO APLICA | AK3: NO APLICA | AL3: NO APLICA | AM3: NO APLICA | AP3: ='NORMAS TRANSVERSALES'!F13 -> CÓDIGO FISCAL DE LA FEDERACIÓN | AQ3: ='NORMAS TRANSVERSALES'!G13 -> ARTICULO 6,15,17,18,28,30,41A,45,46,48,53,59,61,63,67,69B,70,103,105,111,130,134,143,156,182, | AR3: ='NORMAS TRANSVERSALES'!F47 -> REGLAMENTO DEL CÓDIGO FISCAL DE LA FEDERACION | AS3: ='NORMAS TRANSVERSALES'!G47 -> ARTICULO 3,7,8,9,10,20,34,35,50,58,61,66,68,85,86,94 | AT3: ='NORMAS TRANSVERSALES'!F31 -> LEY DE PRESUPUESTO DE EGRESOS, CONTABILIDAD GUBERNAMENTAL Y GASTO PÚBLICO DEL ESTADO DE CHIHUAHUA | AU3: ='NORMAS TRANSVERSALES'!G31 -> ARTICULO 165, 166,168,169,170,36,110,127,170 | AV3: ='NORMAS TRANSVERSALES'!F40 -> LEY DE ADQUISICIONES, ARRENDAMIENTOS Y CONTRATACIÓN DE SERVICIOS DEL ESTADO DE CHIHUAHUA | AX3: MANUAL DE ORGANIZACIÓN DIF | AY3: NO APLICA | AZ3: NO APLICA | BA3: 1 | BB3: 5 | BC3: 6 | BD3: X | BE3: FISICO | BF3: ORIGINAL | BG3: C.P. MARÍA BEATRIZ TORRECILLAS FITCH | BH3: LIC. MARIA ELENA SEYFFERT LOPEZ | BJ3: X | BL3: SE CONSERVA
A4: ENTREVISTA | B4: 43640 | C4: DIF MUNICIPAL | D4: CA | E4: COORDINACIÓN ADMINISTRATIVA | F4: 01 | G4: CONTABILIDAD | H4: C | I4: 02 | J4: INGRESOS | K4: REGISTRO Y PÓLIZAS DE INGRESOS CON SUS DOCUMENTOS PROBATORIOS ORGANIZADOS POR MES Y POR NÚMERO CONSECUTIVO (DONATIVOS, OTROS TRÁMITES CMIC, FICOSEC)EN SISTEMA INDETEC | L4: REALIZAR LAS CONCILIACIONES DE INGRESOS. | M4: OFICINA DE COORDINACIÓN ADMINISTRATIVA, ALBERCAS | N4: SUPRAORDINADA | O4: CENTROS COMUNITARIOS, UBR, GRUTAS, ASISTENCIA ALIMENTARIA, COORDINACIÓN ADMINISTRATIVA | P4: COORDINADA | Q4: MINISTRA EL RECURSO | R4: 43466 | S4: 43830 | T4: CALLE GLANDORF NO. 4106 SAN FELIPE V ETAPA, 31203. CHIHUAHUA, CHIHUAHUA, MÉXICO | V4: X | W4: X | Y4: PÓLIZAS, INGRESOS | Z4: PÚBLICA | AD4: ='NORMAS TRANSVERSALES'!F37 -> LEY DE AUDITORIA SUPERIOR DEL ESTADO DE CHIHUAHUA | AF4: NO APLICA | AG4: NO APLICA | AH4: NO APLICA | AI4: NO APLICA | AJ4: NO APLICA | AK4: NO APLICA | AL4: NO APLICA | AM4: NO APLICA | AP4: ='NORMAS TRANSVERSALES'!F13 -> CÓDIGO FISCAL DE LA FEDERACIÓN | AQ4: ='NORMAS TRANSVERSALES'!G14 -> ARTICULO 25,28,36,50,60,63,64,110,168 | AR4: ='NORMAS TRANSVERSALES'!F47 -> REGLAMENTO DEL CÓDIGO FISCAL DE LA FEDERACION | AS4: ='NORMAS TRANSVERSALES'!G48 -> ARTICULO 33,64,114,119,140,177,190 | AT4: ='NORMAS TRANSVERSALES'!F42 -> LEY DE INGRESOS PARA EL EJERCICIO FISCAL 2019 DEL MUNICIPIO DE CHIHUAHUA | AU4: ='NORMAS TRANSVERSALES'!G42 -> ARTICULO 16,17 | AV4: NO APLICA | AW4: NO APLICA | AX4: MANUAL DE ORGANIZACIÓN DIF | AY4: NO APLICA | AZ4: NO APLICA | BA4: 1 | BB4: 5 | BC4: 6 | BD4: NO APLICA | BE4: FISICO, ELECTRONICO | BF4: ORIGINAL | BG4: C.P. GRISEL KARELIA AGUIRRE CÁRDENAS | BH4: MARIA ELENA SEYFFERT LOPEZ | BJ4: X | BK4: X
A5: ENTREVISTA | B5: 43640 | C5: DIF MUNICIPAL | D5: CA | E5: COORDINACIÓN ADMINISTRATIVA | F5: 01 | G5: CONTABILIDAD | H5: C | I5: 03 | J5: EGRESOS | K5: PÓLIZAS DE EGRESOS CON SUS DOCUMENTOS PROBATORIOS ORGANIZADOS POR MES Y POR NÚMERO CONSECUTIVO | L5: REALIZAR LA CONTABILIDAD GENERAL DE LA DEPENDENCIA BAJO LOS LINEAMIENTOS DE CONTABILIDAD GUBERNAMENTAL. | M5: NO APLICA | N5: NO APLICA | O5: DIF MUNICIPAL | P5: COORDINADA | Q5: GENERA ÓRDENES DE COMPRA | R5: MENSUAL | S5: MENSUAL | T5: CALLE GLANDORF NO. 4106 SAN FELIPE V ETAPA, 31203. CHIHUAHUA, CHIHUAHUA, MÉXICO | V5: X | W5: X | Y5: PÓLIZAS, EGRESOS | Z5: PÚBLICA | AD5: ='NORMAS TRANSVERSALES'!F37 -> LEY DE AUDITORIA SUPERIOR DEL ESTADO DE CHIHUAHUA | AE5: ='NORMAS TRANSVERSALES'!G37 -> ARTICULO 7,11,17,19,36 | AF5: NO APLICA | AG5: NO APLICA | AH5: NO APLICA | AI5: NO APLICA | AJ5: NO APLICA | AK5: NO APLICA | AL5: NO APLICA | AM5: NO APLICA | AP5: ='NORMAS TRANSVERSALES'!F13 -> CÓDIGO FISCAL DE LA FEDERACIÓN | AQ5: ='NORMAS TRANSVERSALES'!G13 -> ARTICULO 6,15,17,18,28,30,41A,45,46,48,53,59,61,63,67,69B,70,103,105,111,130,134,143,156,182, | AR5: ='NORMAS TRANSVERSALES'!F47 -> REGLAMENTO DEL CÓDIGO FISCAL DE LA FEDERACION | AS5: ='NORMAS TRANSVERSALES'!G47 -> ARTICULO 3,7,8,9,10,20,34,35,50,58,61,66,68,85,86,94 | AT5: ='NORMAS TRANSVERSALES'!F31 -> LEY DE PRESUPUESTO DE EGRESOS, CONTABILIDAD GUBERNAMENTAL Y GASTO PÚBLICO DEL ESTADO DE CHIHUAHUA | AU5: ='NORMAS TRANSVERSALES'!G31 -> ARTICULO 165, 166,168,169,170,36,110,127,170 | AV5: NO APLICA | AW5: NO APLICA | AX5: MANUAL DE ORGANIZACIÓN DIF | AY5: NO APLICA | AZ5: NO APLICA | BA5: 1 | BB5: 5 | BC5: 6 | BD5: NO APLICA | BE5: FISICO, ELECTRONICO | BF5: ORIGINAL | BG5: C.P. MARÍA BEATRIZ TORRECILLAS FITCH | BH5: MARIA ELENA SEYFFERT LOPEZ | BJ5: X | BK5: X
A6: ENTREVISTA | B6: 43640 | C6: DIF MUNICIPAL | D6: CA | E6: COORDINACIÓN ADMINISTRATIVA | F6: 01 | G6: CONTABILIDAD | H6: C | I6: 04 | J6: DIARIO | K6: PÓLIZAS DE DIARIO CON SUS DOCUMENTOS PROBATORIOS ORGANIZADOS POR MES Y POR NÚMERO CONSECUTIVO | L6: REALIZAR LA CONTABILIDAD GENERAL DE LA DEPENDENCIA BAJO LOS LINEAMIENTOS DE CONTABILIDAD GUBERNAMENTAL. | M6: NO APLICA | N6: NO APLICA | O6: DIF MUNICIPAL | P6: COORDINADA | Q6: POLIZAS | R6: MENSUAL | S6: MENSUAL | T6: CALLE GLANDORF NO. 4106 SAN FELIPE V ETAPA, 31203. CHIHUAHUA, CHIHUAHUA, MÉXICO | V6: X | W6: X | Y6: PÓLIZAS DIARIAS | Z6: PÚBLICA | AD6: ='NORMAS TRANSVERSALES'!F37 -> LEY DE AUDITORIA SUPERIOR DEL ESTADO DE CHIHUAHUA | AE6: ='NORMAS TRANSVERSALES'!G39 -> ARTICULO 6,14,19,57,72,79 | AF6: NO APLICA | AG6: NO APLICA | AH6: NO APLICA | AI6: NO APLICA | AJ6: NO APLICA | AK6: NO APLICA | AL6: NO APLICA | AM6: NO APLICA | AP6: ='NORMAS TRANSVERSALES'!F13 -> CÓDIGO FISCAL DE LA FEDERACIÓN | AQ6: ='NORMAS TRANSVERSALES'!G14 -> ARTICULO 25,28,36,50,60,63,64,110,168 | AR6: ='NORMAS TRANSVERSALES'!F47 -> REGLAMENTO DEL CÓDIGO FISCAL DE LA FEDERACION | AS6: ='NORMAS TRANSVERSALES'!G48 -> ARTICULO 33,64,114,119,140,177,190 | AT6: ='NORMAS TRANSVERSALES'!F31 -> LEY DE PRESUPUESTO DE EGRESOS, CONTABILIDAD GUBERNAMENTAL Y GASTO PÚBLICO DEL ESTADO DE CHIHUAHUA | AU6: ='NORMAS TRANSVERSALES'!G31 -> ARTICULO 165, 166,168,169,170,36,110,127,170 | AV6: NO APLICA | AW6: NO APLICA | AX6: MANUAL DE ORGANIZACIÓN DIF | AY6: NO APLICA | AZ6: NO APLICA | BA6: 1 | BB6: 5 | BC6: 6 | BD6: NO APLICA | BE6: FISICO, ELECTRONICO | BF6: ORIGINAL | BG6: C.P. MARÍA BEATRIZ TORRECILLAS FITCH | BH6: MARIA ELENA SEYFFERT LOPEZ | BJ6: X | BK6: X
A7: ENTREVISTA | B7: 43640 | C7: DIF MUNICIPAL | D7: CA | E7: COORDINACIÓN ADMINISTRATIVA | F7: 01 | G7: CONTABILIDAD | H7: C | I7: 05 | J7: ESTADOS FINANCIEROS | K7: BALANCE GENERAL Y ESTADOS DE RESULTADOS MENSUALES, TRIMESTRALES Y ANUALES | L7: REALIZAR LA CONTABILIDAD GENERAL DE LA DEPENDENCIA BAJO LOS LINEAMIENTOS DE CONTABILIDAD GUBERNAMENTAL. | M7: NO APLICA | N7: NO APLICA | O7: NO APLICA | P7: NO APLICA | Q7: RESULTADOS | R7: 43466 | S7: 43830 | T7: CALLE GLANDORF NO. 4106 SAN FELIPE V ETAPA, 31203. CHIHUAHUA, CHIHUAHUA, MÉXICO | V7: X | W7: X | Y7: ESTADOS FINANCIEROS | Z7: PÚBLICA | AD7: ='NORMAS TRANSVERSALES'!F37 -> LEY DE AUDITORIA SUPERIOR DEL ESTADO DE CHIHUAHUA | AE7: ='NORMAS TRANSVERSALES'!G40 -> ARTICULO 12,24,15,49,61,69,94 | AF7: NO APLICA | AG7: NO APLICA | AH7: NO APLICA | AI7: NO APLICA | AJ7: NO APLICA | AK7: NO APLICA | AL7: NO APLICA | AM7: NO APLICA | AP7: ='NORMAS TRANSVERSALES'!F13 -> CÓDIGO FISCAL DE LA FEDERACIÓN | AQ7: ='NORMAS TRANSVERSALES'!G13 -> ARTICULO 6,15,17,18,28,30,41A,45,46,48,53,59,61,63,67,69B,70,103,105,111,130,134,143,156,182, | AR7: ='NORMAS TRANSVERSALES'!F47 -> REGLAMENTO DEL CÓDIGO FISCAL DE LA FEDERACION | AS7: ='NORMAS TRANSVERSALES'!G47 -> ARTICULO 3,7,8,9,10,20,34,35,50,58,61,66,68,85,86,94 | AT7: ='NORMAS TRANSVERSALES'!F31 -> LEY DE PRESUPUESTO DE EGRESOS, CONTABILIDAD GUBERNAMENTAL Y GASTO PÚBLICO DEL ESTADO DE CHIHUAHUA | AV7: NO APLICA | AW7: NO APLICA | AX7: MANUAL DE ORGANIZACIÓN DIF | AY7: NO APLICA | AZ7: NO APLICA | BA7: 1 | BB7: 5 | BC7: 6 | BD7: X | BE7: FISICO, ELECTRONICO | BF7: ORIGINAL | BG7: C.P. MARÍA BEATRIZ TORRECILLAS FITCH | BH7: MARIA ELENA SEYFFERT LOPEZ | BJ7: X | BK7: X
A8: ENTREVISTA | B8: =ENTREVISTA!K509 -> 0 | C8: DIF MUNICIPAL | D8: CA | E8: COORDINACIÓN ADMINISTRATIVA | F8: 01 | G8: CONTABILIDAD | H8: C | I8: 06 | J8: CUENTA PÚBLICA | K8: FORMATOS E INFORMES DE CUENTA PUBLICA | L8: ELABORAR FORMATOS E INFORMES DE LA CUENTA PÚBLICA | M8: INVENTARIOS, CONTABILIDAD | N8: COORDINADA | O8: NO APLICA | P8: NO APLICA | Q8: GENERA EL RESPALDO DOCUMENTAL | R8: TRIMESTRAL | S8: TRIMESTRAL | T8: CALLE GLANDORF NO. 4106 SAN FELIPE V ETAPA, 31203. CHIHUAHUA, CHIHUAHUA, MÉXICO | V8: X | W8: X | Y8: CUENTA PÚBLICA | Z8: PÚBLICA | AD8: ='NORMAS TRANSVERSALES'!F37 -> LEY DE AUDITORIA SUPERIOR DEL ESTADO DE CHIHUAHUA | AE8: ='NORMAS TRANSVERSALES'!G41 -> ARTICULO 29,53,57,58,62,90 | AF8: ='NORMAS TRANSVERSALES'!F32 -> LEY DE TRANSPARENCIA Y ACCESO A LA INFORMACIÓN PÚBLICA DEL ESTADO DE CHIHUAHUA | AG8: ARTICULO 25,33,52,61,165 | AH8: NO APLICA | AI8: NO APLICA | AJ8: NO APLICA | AK8: NO APLICA | AL8: NO APLICA | AM8: NO APLICA | AP8: ='NORMAS TRANSVERSALES'!F26 -> LEY GENERAL DE CONTABILIDAD GUBERNAMENTAL | AQ8: ='NORMAS TRANSVERSALES'!G26 -> ARTUCULO 11,42,43,58,60,61,62,63,64,67,70,85 | AR8: ='NORMAS TRANSVERSALES'!F23 -> LEY DE FISCALIZACIÓN Y RENDICIÓN DE CUENTAS DE LA FEDERACIÓN | AS8: ='NORMAS TRANSVERSALES'!G23 -> ARTICULO 2,9,10,17,20,22,23,30,42,60,75,84,107 | AT8: NO APLICA | AU8: NO APLICA | AV8: NO APLICA | AW8: NO APLICA | AX8: ='NORMAS TRANSVERSALES'!F65 -> PLAN DE CUENTAS | AY8: MANUAL DE ORGANIZACIÓN DIF | AZ8: NO APLICA | BA8: 3 | BB8: 9 | BC8: 12 | BD8: NO APLICA | BE8: FISICO, ELECTRONICO | BF8: ORIGINAL | BG8: C.P. MARÍA BEATRIZ TORRECILLAS FITCH | BH8: LIC. MARIA ELENA SEYFFERT LOPEZ | BI8: X | BJ8: X | BK8: X
A9: ENTREVISTA | B9: 43640 | C9: DIF MUNICIPAL | D9: CA | E9: COORDINACIÓN ADMINISTRATIVA | F9: 01 | G9: CONTABILIDAD | H9: C | I9: 07 | J9: CONCILIACIONES BANCARIAS | K9: ESTADOS DE CUENTA Y CONCILIACIONES BANCARIAS POR MES DE CADA UNA DE LAS CUENTAS | L9: REALIZAR CONCILIACIONES BANCARIAS Y MANEJO DE CUENTAS. | M9: OFICINA DE COORDINACIÓN ADMINISTRATIVA, CONTABILIDAD | N9: SUPRAORDINADA | O9: NO APLICA | P9: NO APLICA | Q9: GENERA ESTADOS DE CUENTA | R9: MENSUAL | S9: MENSUAL | T9: CALLE GLANDORF NO. 4106 SAN FELIPE V ETAPA, 31203. CHIHUAHUA, CHIHUAHUA, MÉXICO | V9: X | W9: X | Y9: CONCILIACIONES BANCARIAS | Z9: PÚBLICA | AD9: ='NORMAS TRANSVERSALES'!F37 -> LEY DE AUDITORIA SUPERIOR DEL ESTADO DE CHIHUAHUA | AE9: ='NORMAS TRANSVERSALES'!G42 -> ARTICULO 16,17 | AF9: NO APLICA | AG9: NO APLICA | AH9: NO APLICA | AI9: NO APLICA | AJ9: NO APLICA | AK9: NO APLICA | AL9: NO APLICA | AM9: NO APLICA | AP9: ='NORMAS TRANSVERSALES'!F13 -> CÓDIGO FISCAL DE LA FEDERACIÓN | AQ9: ='NORMAS TRANSVERSALES'!G13 -> ARTICULO 6,15,17,18,28,30,41A,45,46,48,53,59,61,63,67,69B,70,103,105,111,130,134,143,156,182, | AR9: ='NORMAS TRANSVERSALES'!F47 -> REGLAMENTO DEL CÓDIGO FISCAL DE LA FEDERACION | AS9: ='NORMAS TRANSVERSALES'!G47 -> ARTICULO 3,7,8,9,10,20,34,35,50,58,61,66,68,85,86,94 | AT9: ='NORMAS TRANSVERSALES'!F31 -> LEY DE PRESUPUESTO DE EGRESOS, CONTABILIDAD GUBERNAMENTAL Y GASTO PÚBLICO DEL ESTADO DE CHIHUAHUA | AU9: ='NORMAS TRANSVERSALES'!G31 -> ARTICULO 165, 166,168,169,170,36,110,127,170 | AV9: NO APLICA | AW9: NO APLICA | AX9: MANUAL DE ORGANIZACIÓN DIF | AY9: NO APLICA | AZ9: NO APLICA | BA9: 1 | BB9: 4 | BC9: 5 | BD9: NO APLICA | BE9: FISICO, ELECTRONICO | BF9: ORIGINAL | BG9: C.P. MARÍA BEATRIZ TORRECILLAS FITCH | BH9: MARIA ELENA SEYFFERT LOPEZ | BJ9: X | BK9: X
A10: ENTREVISTA | B10: 43640 | C10: DIF MUNICIPAL | D10: CA | E10: COORDINACIÓN ADMINISTRATIVA | F10: 01 | G10: CONTABILIDAD | H10: C | I10: 08 | J10: IMPUESTOS, CUOTAS Y DERECHOS | K10: CONTIENE LOS PAGOS POR CONTRIBUCIONES FEDERALES | L10: CÁLCULOS DE IMPUESTOS Y PRESENTACIÓN DE LOS MISMOS. | M10: NO APLICA | N10: NO APLICA | O10: NO APLICA | P10: NO APLICA | Q10: IMPUESTOS | R10: MENSUAL | S10: MENSUAL | T10: CALLE GLANDORF NO. 4106 SAN FELIPE V ETAPA, 31203. CHIHUAHUA, CHIHUAHUA, MÉXICO | V10: X | W10: X | Y10: IMPUESTOS, CONTRIBUCIONES FEDERALES, SAT | Z10: PÚBLICA | AD10: NO APLICA | AE10: NO APLICA | AF10: NO APLICA | AG10: NO APLICA | AH10: NO APLICA | AI10: NO APLICA | AJ10: NO APLICA | AK10: NO APLICA | AL10: NO APLICA | AM10: NO APLICA | AP10: ='NORMAS TRANSVERSALES'!F13 -> CÓDIGO FISCAL DE LA FEDERACIÓN | AR10: ='NORMAS TRANSVERSALES'!F47 -> REGLAMENTO DEL CÓDIGO FISCAL DE LA FEDERACION | AT10: ='NORMAS TRANSVERSALES'!F21 -> LEY DEL IMPUESTO AL VALOR AGREGADO | AV10: ='NORMAS TRANSVERSALES'!F18 -> LEY DEL IMPUESTO SOBRE LA RENTA | AX10: MANUAL DE ORGANIZACIÓN DIF | AY10: NO APLICA | AZ10: NO APLICA | BA10: 3 | BB10: 9 | BC10: 12 | BD10: NO APLICA | BE10: ELECTRONICO | BF10: ORIGINAL | BG10: C.P. MARÍA BEATRIZ TORRECILLAS FITCH | BH10: MARIA ELENA SEYFFERT LOPEZ | BJ10: X | BL10: DECLARACIONES
A11: ENTREVISTA | B11: 43640 | C11: DIF MUNICIPAL | D11: CA | E11: COORDINACIÓN ADMINISTRATIVA | F11: 02 | G11: JURÍDCO ADMINISTRATIVO | H11: C | I11: 01 | J11: CONTRATOS, ADQUISICIONES Y OPERATIVOS | K11: CONTRATOS DE ADQUISISCION DE BIENES Y SERVICIOS DERIVADOS DE PROCESOS DE ADJUDICACION DIRECTA, INVITACIONES O LICITACIONES PUBLICAS, CONVENIOS CON OBRAS PÚBLICAS MUNICIPALES (ELLOS SE ENCARGAN DE LAS CONTRATACIONES) | L11: ELABORACIÓN DE CONTRATOS | M11: NO APLICA | N11: NO APLICA | O11: DIF MUNICIPAL | P11: COORDINADA | Q11: DETERMINANA EL PROCEDIMEINTO DE LA COMPRA | T11: CALLE GLANDORF NO. 4106 SAN FELIPE V ETAPA, 31203. CHIHUAHUA, CHIHUAHUA, MÉXICO | V11: X | W11: X | Y11: CONTRATOS, ADQUISICIONES, OPERATIVOS | Z11: PÚBLICA | AD11: ='NORMAS TRANSVERSALES'!F32 -> LEY DE TRANSPARENCIA Y ACCESO A LA INFORMACIÓN PÚBLICA DEL ESTADO DE CHIHUAHUA | AF11: NO APLICA | AG11: NO APLICA | AH11: NO APLICA | AI11: NO APLICA | AJ11: NO APLICA | AK11: NO APLICA | AL11: NO APLICA | AM11: NO APLICA | AP11: ='NORMAS TRANSVERSALES'!F40 -> LEY DE ADQUISICIONES, ARRENDAMIENTOS Y CONTRATACIÓN DE SERVICIOS DEL ESTADO DE CHIHUAHUA | AR11: ='NORMAS TRANSVERSALES'!F50 -> REGLAMENTO DE LA LEY DE ADQUISICIONES, ARRENDAMIENTOS Y CONTRATACIÓN DE SERVICIOS DEL ESTADO DE CHIHUAHUA. | AT11: NO APLICA | AU11: NO APLICA | AV11: NO APLICA | AW11: NO APLICA | AX11: MANUAL DE ORGANIZACIÓN DIF | AY11: NO APLICA | AZ11: NO APLICA | BA11: * | BB11: 9 | BC11: * | BD11: NO APLICA | BE11: FISICO | BF11: ORIGINAL | BG11: LIC. LILIANA IMELDA ARRAS BUSTAMANTE | BH11: MARIA ELENA SEYFFERT LOPEZ | BJ11: X | BK11: X
A12: ENTREVISTA | B12: 43640 | C12: DIF MUNICIPAL | D12: CA | E12: COORDINACIÓN ADMINISTRATIVA | F12: 02 | G12: JURÍDCO ADMINISTRATIVO | H12: S | I12: 02 | J12: CONVENIOS OSC | K12: CONVENIOS PARA ACUERDOS Y APOYOS DIVERSOS A LAS ORGANIZACIONES DE LA SOCIEDAD CIVIL | L12: ELABORACIÓN DE CONVENIOS. | M12: ADMINISTRACIÓN (COMPROBACIÓN Y APOYO A LAS OSC) | N12: SUBORDINADA | O12: VINCULACIÓN Y TEJIDO SOCIAL | P12: SUBORDINADA | Q12: COMPROBACION DEL USO DEL RECURSO ASIGNADO | R12: 43466 | S12: 43830 | T12: CALLE GLANDORF NO. 4106 SAN FELIPE V ETAPA, 31203. CHIHUAHUA, CHIHUAHUA, MÉXICO | V12: X | Y12: CONVENIOS, OSC | Z12: PÚBLICA | AD12: ='NORMAS TRANSVERSALES'!F15 -> LEY FEDERAL DE FOMENTO A LAS ACTIVIDADES REALIZADAS POR ORGANIZACIONES DE LA SOCIEDAD CIVIL | AE12: ARTICULO 7,14,16,19,20,23,30, | AF12: ='NORMAS TRANSVERSALES'!F46 -> REGLAMENTO DE LA LEY FEDERAL DE FOMENTO A LAS ACTIVIDADES REALIZADAS POR ORGANIZACIONES DE LA SOCIEDAD CIVIL | AH12: NO APLICA | AI12: NO APLICA | AJ12: NO APLICA | AK12: NO APLICA | AL12: NO APLICA | AM12: NO APLICA | AP12: NO APLICA | AQ12: NO APLICA | AR12: NO APLICA | AS12: NO APLICA | AT12: NO APLICA | AU12: NO APLICA | AV12: NO APLICA | AW12: NO APLICA | AX12: MANUAL DE ORGANIZACIÓN DIF | AY12: NO APLICA | AZ12: NO APLICA | BA12: 1 | BB12: 3 | BC12: 4 | BD12: X | BE12: FISICO | BF12: ORIGINAL | BG12: LIC. LILIANA IMELDA ARRAS BUSTAMANTE | BH12: MARIA ELENA SEYFFERT LOPEZ | BK12: X
A13: ENTREVISTA | B13: =ENTREVISTA!G1 -> 0 | C13: DIF MUNICIPAL | D13: CA | E13: COORDINACIÓN ADMINISTRATIVA | F13: 02 | G13: JURÍDCO ADMINISTRATIVO | H13: S | I13: 03 | J13: CONVENIOS DE COLABORACIÓN | K13: CONVENIOS PARA ESTABLECER LAS BASES DE COLABORACIÓN INTERINSTITUCIONAL CON DIVERSAS INSTITUCIONES PÚBLICAS Y PRIVADAS | L13: ELABORACIÓN DE CONVENIOS. | M13: NO APLICA | N13: NO APLICA | O13: NO APLICA | P13: NO APLICA | Q13: CONVENIOS COLABORATIVOS | R13: 43466 | S13: 43830 | T13: CALLE GLANDORF NO. 4106 SAN FELIPE V ETAPA, 31203. CHIHUAHUA, CHIHUAHUA, MÉXICO | V13: X | W13: X | X13: X | Y13: CONVENIOS COLABORATIVOS | Z13: PÚBLICA | AD13: ='NORMAS TRANSVERSALES'!F15 -> LEY FEDERAL DE FOMENTO A LAS ACTIVIDADES REALIZADAS POR ORGANIZACIONES DE LA SOCIEDAD CIVIL | AE13: ARTICULO 7,14,16,19,20,23,30, | AF13: ='NORMAS TRANSVERSALES'!F46 -> REGLAMENTO DE LA LEY FEDERAL DE FOMENTO A LAS ACTIVIDADES REALIZADAS POR ORGANIZACIONES DE LA SOCIEDAD CIVIL | AH13: ='NORMAS SUSTANTIVAS'!C18 -> DECRETO DE CREACION 261/84 DESARROLLO INTEGRAL DE LA FAMILIA | AJ13: NO APLICA | AK13: NO APLICA | AL13: NO APLICA | AM13: NO APLICA | AP13: ='NORMAS TRANSVERSALES'!F42 -> LEY DE INGRESOS PARA EL EJERCICIO FISCAL 2019 DEL MUNICIPIO DE CHIHUAHUA | AR13: NO APLICA | AS13: NO APLICA | AT13: NO APLICA | AU13: NO APLICA | AV13: NO APLICA | AW13: NO APLICA | AX13: MANUAL DE ORGANIZACIÓN DIF | AY13: NO APLICA | AZ13: NO APLICA | BA13: * | BB13: 3 | BC13: * | BD13: NO APLICA | BE13: FISICO | BF13: ORIGINAL | BG13: LIC. LILIANA IMELDA ARRAS BUSTAMANTE | BH13: MARIA ELENA SEYFFERT LOPEZ | BJ13: X | BK13: X
