Workbook
Name A_impresión_IM: #REF!
Name A_impresión_IM: #REF!
Name CURIEL: '[1]DATOS BASICOS'!#REF!
Name CURIEL: '[1]DATOS BASICOS'!#REF!
Name CURIEL: '[1]DATOS BASICOS'!#REF!

Sheet TARJETA INFORMATIVA
A1: PRESIDENCIA MUNICIPAL DE CHIHUAHUA
D7: BANQUETAS Y GUARNICIONES EN CALLES DE LA COLONIA REVOLUCION
B9: DESCRIPCIÓN: | D9: =PRESUPUESTO!B3 -> CONSTRUCCION DE BANQUETAS Y GUARNICIONES EN CALLES DE LA COLONIA REVOLUCION A BASE DE: CONCRETO DE 8.00 CMS DE ESPESOR EN BANQUETAS Y GUARNICIONES CON SECCION DE 20 x 15 x 30 CMS.
A11: CARACTERISTICAS: | D11: CONCRETO HIDRAULICO DE f¨c= 150 Kg./cm2. EN BANQUETAS Y DE f´c= 200 Kg./cm2. EN GUARNICIONES.
C13: ü | D13: =PRESUPUESTO!D32 -> 11684 | E13: M2 DE BANQUETA
C14: ü | D14: =PRESUPUESTO!D27 -> 11684 | E14: ML DE GUARNICION
B19: LATITUD:
B20: LONGITUD:
A22: TIEMPO DE EJECUCIÓN: | D22: 6 | E22: MESES
A24: INVERSIÓN DE LA OBRA: | D24: =PRESUPUESTO!F37 -> 4743704 | F24: (I.V.A. INCLUIDO)
A26: BENEFICIARIOS: | D26: 140000 | E26: HABITANTES
A28: ESTRUCTURA FINANCIERA: | E28: FEDERAL | H28: ESTATAL | K28: MUNICIPAL
K29: =D24 -> 4743704
A32: SUPERVISOR: | D32: Mantenimiento | F32: ENLACE PMD: | H32: 2.2.1.5 | I32: MODALIDAD: | K32: Contrato
A34: ENLACE PMD: | C34: ENLACE PDM: | D34: FORTALECER EL PROGRAMA DE PAVIMENTACION; EN CALLES Y VIALIDADES DE LA CIUDAD DE CHIHUAHUA.

Sheet PROGRAMA
A1: Localidad: | B1: =PRESUPUESTO!B1 -> CHIHUAHUA
A2: Municipio: | B2: =PRESUPUESTO!B2 -> CHIHUAHUA, CHIH.
A3: O b r a: | B3: =PRESUPUESTO!B3 -> CONSTRUCCION DE BANQUETAS Y GUARNICIONES EN CALLES DE LA COLONIA REVOLUCION A BASE DE: CONCRETO DE 8.00 CMS DE ESPESOR EN BANQUETAS Y GUARNICIONES CON SECCION DE 20 x 15 x 30 CMS.
A5: Calendario de Ejecución de la Obra
A6: Concepto | C6: MESES | I6: Importe | J6: % Ponderado
C7: 1 | D7: 2 | E7: 3 | F7: 4 | G7: 5 | H7: 6 | J7: Parcial | K7: Acumulado
A8: =+B3 -> CONSTRUCCION DE BANQUETAS Y GUARNICIONES EN CALLES DE LA COLONIA REVOLUCION A BASE DE: CONCRETO DE 8.00 CMS DE ESPESOR EN BANQUETAS Y GUARNICIONES CON SECCION DE 20 x 15 x 30 CMS. | C8: =I8*30% -> 1423111.2 | D8: =I8*0.14 -> 664118.56 | E8: =I8*0.14 -> 664118.56 | F8: =I8*14% -> 664118.56 | G8: =I8*14% -> 664118.56 | H8: =I8*14% -> 664118.56 | I8: =+I9 -> 4743704 | J8: =I8/I9 -> 1 | K8: =J8 -> 1
B9: % de Avance | C9: 0.3 | D9: 0.14 | E9: 0.14 | F9: 0.14 | G9: 0.14 | H9: 0.14 | I9: =+PRESUPUESTO!F37 -> 4743704 | J9: =+J8 -> 1
B10: Acumulado | C10: =C9 -> 0.3 | D10: =C10+D9 -> 0.44 | E10: =D10+E9 -> 0.58 | F10: =E10+F9 -> 0.72 | G10: =F10+G9 -> 0.86 | H10: =G10+H9 -> 1
B12: Calendario de Administración de los Recursos
B13: Parcial | C13: =SUM(C8:C8) -> 1423111.2 | D13: =SUM(D8:D8) -> 664118.56 | E13: =SUM(E8:E8) -> 664118.56 | F13: =SUM(F8:F8) -> 664118.56 | G13: =SUM(G8:G8) -> 664118.56 | H13: =+H8 -> 664118.56
B14: Acumulado | C14: =C13 -> 1423111.2 | D14: =C14+D13 -> 2087229.8 | E14: =E13+D14 -> 2751348.3 | F14: =F13+E14 -> 3415466.9 | G14: =G13+F14 -> 4079585.4 | H14: =H13+G14 -> 4743704
A17: Chihuahua, Chih. Febrero 2017

Sheet RESUMEN
A1: Localidad: | B1: =PRESUPUESTO!B1 -> CHIHUAHUA
A2: Municipio: | B2: =PRESUPUESTO!B2 -> CHIHUAHUA, CHIH.
A3: Obra: | B3: =PRESUPUESTO!B3 -> CONSTRUCCION DE BANQUETAS Y GUARNICIONES EN CALLES DE LA COLONIA REVOLUCION A BASE DE: CONCRETO DE 8.00 CMS DE ESPESOR EN BANQUETAS Y GUARNICIONES CON SECCION DE 20 x 15 x 30 CMS.
A5: Resumen Presupuestal
B7: Concepto | C7: Importe
B8: =PRESUPUESTO!B3:F3 -> CONSTRUCCION DE BANQUETAS Y GUARNICIONES EN CALLES DE LA COLONIA REVOLUCION A BASE DE: CONCRETO DE 8.00 CMS DE ESPESOR EN BANQUETAS Y GUARNICIONES CON SECCION DE 20 x 15 x 30 CMS.
B10: INCLUYENDO:
B11: SUMINISTRO Y COLADO DEL CONCRETO HIDRAULICO. | C11: =+PRESUPUESTO!F35 -> 4089400
B18: Sub total: | C18: =SUM(C10:C16) -> 4089400
B19: 16% I.V.A: | C19: =C18*16% -> 654304
B20: Total: | C20: =C19+C18 -> 4743704
A28: Chihuahua, Chih., Febrero 2017

Sheet PRESUPUESTO
A1: Localidad: | B1: CHIHUAHUA
A2: Municipio: | B2: CHIHUAHUA, CHIH.
A3: O b r a: | B3: CONSTRUCCION DE BANQUETAS Y GUARNICIONES EN CALLES DE LA COLONIA REVOLUCION A BASE DE: CONCRETO DE 8.00 CMS DE ESPESOR EN BANQUETAS Y GUARNICIONES CON SECCION DE 20 x 15 x 30 CMS.
E4: COORDENADAS
B5: AVENIDA | C5: TRAMO | D5: LONGITUD | E5: INICIO | F5: TERMINO
B6: C. SALVADOR DIAZ CASAS | C6: AV. INDUSTRIAS Y C. AMERICA LATINA | D6: 380 | E6: 28.705128, -106.101961 | F6: 28.703782, -106.105373
B7: C. SALVADOR DIAZ CASAS | C7: C. CAMILO TORRES Y C. CARMEN SERDAN | D7: 140 | E7: 28.703274, -106.106542 | F7: 28.702785, -106.107733
B8: C. CENTAURO DEL NORTE | C8: C. DORADOS DE VILLA Y AV. PASCUAL OROZCO | D8: 520 | E8: 28.702954, -106.103377 | F8: 28.701072, -106.108194
B9: C. REFORMA URBANA | C9: C. CAMILO TORRES Y C. CARMEN SERDAN | D9: 120 | E9: 28.698493, -106.104267 | F9: 28.698013, -106.105458
B10: C. DELICIAS | C10: C. CARMEN SERDAN Y AV. PASCUAL OROZCO | D10: 120 | E10: 28.698446, -106.105673 | F10: 28.698027, -106.106810
B11: C. DELICIAS | C11: C. TIERRA Y LIBERTAD Y C. OTILIO MONTAÑO | D11: 150 | E11: 28.697091, -106.109229 | F11: 28.697557, -106.107968
B12: C. UNIDAD PROLETARIA | C12: C. MA. ELENA HDZ. Y C. CENTAURO DEL NORTE | D12: 450 | E12: 28.699434, -106.100440 | F12: 28.703405, -106.102216
B13: C. REFORMA URBANA | C13: AV. PASCUAL OROZCO Y C. TIERRA Y LIBERTAD | D13: 260 | E13: 28.697552, -106.106620 | F13: 28.696639, -106.109039
B14: C. CUAHUTEMOC | C14: AV. TECNOLOGICO Y C. RAMON CORDOVA | D14: 480 | E14: 28.698738, -106.120513 | F14: 28.700451, -106.116254
B15: C. CUAHUTEMOC | C15: C. HNOS. FLORES Y C. BELIZARIO DOMINGUEZ | D15: 90 | E15: 28.700884, -106.115063 | F15: 28.701317, -106.113936
B16: C. CUAHUTEMOC | C16: C. TIERRA Y LIBERTAD Y AV. PASCUAL OROZCO | D16: 260 | E16: 28.702183, -106.111801 | F16: 28.703171, -106.109258
B17: C. RAMON CORDOVA | C17: C. OJINAGA Y C. CAMARGO | D17: 60 | E17: 28.696574, -106.114376 | F17: 28.696969, -106.114548
... B24: C. GUERRERO | C24: C. 2 DE OCTUBRE Y C. HNOS. FLORES RUIZ | D24: 210 | E24: 28.702637, -106.113287 | F24: 28.701752, -106.115390
D25: =SUM(D6:D24) -> 5842
C26: LONGITUD AMBOS LADOS | D26: =D25*2 -> 11684
C27: M2 BANQUETA (1 MT DE ANCHO) | D27: =D26 -> 11684
C28: ML DE GUARNICION TRAPEZOIDAD | D28: =D27 -> 11684
A30: Presupuesto de Obra
A31: Clave | B31: Concepto | C31: Unidad | D31: Cantidad | E31: P. U. | F31: Importe
A32: 1 | B32: GUARNICION TRAPEZOIDAL DE 20 CMS DE BASE, 30 CMS DE ALTO Y 15 CMS DE CORONA A BASE DE CONCRETO HIDRAULICO DE RESISTENCIA DE 200 KG/CM2. INCLUYE: MATERIAL, MANO DE OBRA, CIMBRA, Y TODO LO NECESARIO PARA SU CORRECTA ELABORACION. | C32: ML | D32: 11684 | E32: 170 | F32: =(D32*E32) -> 1986280
A33: 2 | B33: BANQUETA DE 8.00 CMS DE ESPESOR A BASE DE CONCRETO HIDRAULICO DE RESISTENCIA DE 150 KG/CM2 Y ACABADO LISO. INCLUYE: MATERIAL, MANO DE OBRA, CIMBRA, RELLENO Y COMPACTACION DE MATERIAL ANTES DE COLADO Y TODO LO NECESARIO PARA SU CORRECTA ELABORACION. | C33: m2 | D33: 11684 | E33: 180 | F33: =(D33*E33) -> 2103120
E35: SUBTOTAL | F35: =SUM(F32:F33) -> 4089400
E36: IVA | F36: =+F35*0.16 -> 654304
E37: TOTAL | F37: =+F35+F36 -> 4743704

Sheet LOCALIZACIÓN
A1: Localidad: | B1: =PRESUPUESTO!B1 -> CHIHUAHUA
A2: Municipio: | B2: =PRESUPUESTO!B2 -> CHIHUAHUA, CHIH.
A3: O b r a: | B3: =PRESUPUESTO!B3 -> CONSTRUCCION DE BANQUETAS Y GUARNICIONES EN CALLES DE LA COLONIA REVOLUCION A BASE DE: CONCRETO DE 8.00 CMS DE ESPESOR EN BANQUETAS Y GUARNICIONES CON SECCION DE 20 x 15 x 30 CMS.
A5: CROQUIS DE LOCALIZACIÓN
A33: COLONIA REVOLUCION
A35: Localidad: | B35: =B1 -> CHIHUAHUA
A36: Municipio: | B36: =B2 -> CHIHUAHUA, CHIH.
A37: O b r a: | B37: =B3 -> CONSTRUCCION DE BANQUETAS Y GUARNICIONES EN CALLES DE LA COLONIA REVOLUCION A BASE DE: CONCRETO DE 8.00 CMS DE ESPESOR EN BANQUETAS Y GUARNICIONES CON SECCION DE 20 x 15 x 30 CMS.
A39: CROQUIS DE LOCALIZACIÓN
A67: COLONIA REVOLUCION
A69: Localidad: | B69: =B35 -> CHIHUAHUA
A70: Municipio: | B70: =B36 -> CHIHUAHUA, CHIH.
A71: O b r a: | B71: =B37 -> CONSTRUCCION DE BANQUETAS Y GUARNICIONES EN CALLES DE LA COLONIA REVOLUCION A BASE DE: CONCRETO DE 8.00 CMS DE ESPESOR EN BANQUETAS Y GUARNICIONES CON SECCION DE 20 x 15 x 30 CMS.
A73: CROQUIS DE LOCALIZACIÓN
A91: pfco. Lomb. Toledano entre juan pablo II y parque ind. | G91: 20 nov. Entre c. 64 y c. 70
A103: Localidad: | B103: =PRESUPUESTO!B99 -> 0
A104: Municipio: | B104: =PRESUPUESTO!B100 -> 0
A105: O b r a: | B105: =PRESUPUESTO!B101 -> 0
A107: CROQUIS DE LOCALIZACIÓN
A137: Localidad: | B137: =PRESUPUESTO!B133 -> 0
A138: Municipio: | B138: =PRESUPUESTO!B134 -> 0
A139: O b r a: | B139: =PRESUPUESTO!B135 -> 0
A141: CROQUIS DE LOCALIZACIÓN

Sheet FOTOS
A1: Localidad: | B1: =PRESUPUESTO!B1 -> CHIHUAHUA
A2: Municipio: | B2: =PRESUPUESTO!B2 -> CHIHUAHUA, CHIH.
A3: O b r a: | B3: =PRESUPUESTO!B3 -> CONSTRUCCION DE BANQUETAS Y GUARNICIONES EN CALLES DE LA COLONIA REVOLUCION A BASE DE: CONCRETO DE 8.00 CMS DE ESPESOR EN BANQUETAS Y GUARNICIONES CON SECCION DE 20 x 15 x 30 CMS.
A5: FOTOGRAFIA
A43: COLONIA REVOLUCION

Sheet PRESUPUESTO (2)
B2: AVENIDA | C2: TRAMO | D2: AREA (M2) | E2: LONGITUD (ML)
B3: C. SALVADOR DIAZ CASAS | C3: AV. INDUSTRIAS Y C. AMERICA LATINA | D3: 3800 | E3: 380
B4: C. SALVADOR DIAZ CASAS | C4: C. CAMILO TORRES Y C. CARMEN SERDAN | D4: 1400 | E4: 140
B5: C. CENTAURO DEL NORTE | C5: C. DORADOS DE VILLA Y AV. PASCUAL OROZCO | D5: 5200 | E5: 520
B6: C. REFORMA URBANA | C6: C. CAMILO TORRES Y C. CARMEN SERDAN | D6: 1200 | E6: 120
B7: C. DELICIAS | C7: C. CARMEN SERDAN Y AV. PASCUAL OROZCO | D7: 1200 | E7: 120
B8: C. DELICIAS | C8: C. TIERRA Y LIBERTAD Y C. OTILIO MONTAÑO | D8: 1500 | E8: 150
B9: C. UNIDAD PROLETARIA | C9: C. MA. ELENA HDZ. Y C. CENTAURO DEL NORTE | D9: 4500 | E9: 450
B10: C. REFORMA URBANA | C10: AV. PASCUAL OROZCO Y C. TIERRA Y LIBERTAD | D10: 2600 | E10: 260
B11: C. CUAHUTEMOC | C11: AV. TECNOLOGICO Y C. RAMON CORDOVA | D11: 4800 | E11: 480
B12: C. CUAHUTEMOC | C12: C. HNOS. FLORES Y C. BELIZARIO DOMINGUEZ | D12: 900 | E12: 90
B13: C. CUAHUTEMOC | C13: C. TIERRA Y LIBERTAD Y AV. PASCUAL OROZCO | D13: 2600 | E13: 260
B14: C. RAMON CORDOVA | C14: C. OJINAGA Y C. CAMARGO | D14: 600 | E14: 60
... B21: C. GUERRERO | C21: C. 2 DE OCTUBRE Y C. HNOS. FLORES RUIZ | D21: 2100 | E21: 210
D22: =SUM(D3:D21) -> 58420 | E22: =SUM(E3:E21) -> 5842
C24: LONGITUD AMBOS LADOS | D24: ML | E24: =E22*2 -> 11684
C25: M2 BANQUETA (1 MT DE ANCHO) | D25: M2 | E25: =E24 -> 11684
C26: ML DE GUARNICION TRAPEZOIDAD | D26: ML | E26: =E24 -> 11684

Sheet Hoja1
