Workbook
Name A_impresión_IM: #REF!
Name CURIEL: '[1]DATOS BASICOS'!#REF!
Name CURIEL: '[1]DATOS BASICOS'!#REF!

Sheet TARJETA INFORMATIVA
A1: PRESIDENCIA MUNICIPAL DE CHIHUAHUA
D7: SUMINISTRO Y APLICACIÓN DE MICROCARPETA EN AV. PASCUAL OROZCO, DE LA CIUDAD DE CHIHUAHUA.
B9: DESCRIPCIÓN: | D9: =PRESUPUESTO!B3 -> SUMINISTRO Y APLICACIÓN DE MICROCARPETA DE 1 CM. DE ESPESOR Y RENIVELACION DE ESPESOR VARIABLE, A BASE DE EMULSION ASFALTICA ECR-63 MODIFICADA CON POLIMERO Y UN 3 % DE LATEX Y AGREGADO PETREO DE TAMAÑO MAXIMO DE 1/4'' (6.35 MM) EN: AV. PASCUAL OROZCO ENTRE AV. JUAN ESCUTIA Y AV. HOMERO; DE LA CIUDAD DE CHIHUAHUA
A11: CARACTERISTICAS: | D11: MICROCARPETA ASFALTICA ELABORADA EN FRIO CON EQUIPO AUTOPROPULSADO A BASE DE AGREGADO FINO BIEN GRADUADO Y EMULSION ASFALTICA MODIFICADA CON POLIMERO LATEX AL 3 % Y RESIDUO ASFALTICO DEL 63 %.
C13: ü | D13: =PRESUPUESTO!E8+PRESUPUESTO!F8 -> 275.6 | E13: M3. DE MICROCARPETA ASFALTICA
D15: COORDENADAS INICIO | G15: COORDENADAS TERMINO
D16: 28.683815, -106.100177 | G16: 28.709441, -106.112869
B17: LATITUD:
B18: LONGUITUD:
A20: TIEMPO DE EJECUCIÓN: | D20: 4 | E20: SEMANAS
A22: INVERSIÓN DE LA OBRA: | D22: =PRESUPUESTO!F20 -> 1646434.4 | F22: (I.V.A. INCLUIDO)
A24: BENEFICIARIOS: | D24: 35000 | E24: HABITANTES
A26: ESTRUCTURA FINANCIERA: | E26: FEDERAL | H26: ESTATAL | K26: MUNICIPAL
K27: =D22 -> 1646434.4
A30: SUPERVISOR: | D30: Mantenimiento | F30: ENLACE PMD: | H30: 2.2.1.5 | I30: MODALIDAD: | K30: Contrato
A32: ENLACE PMD: | C32: ENLACE PDM: | D32: FORTALECER EL PROGRAMA DE RECARPETEO , CALAFATEO Y BACHEO EN CALLES Y VIALIDADES.

Sheet PROGRAMA
A1: Localidad: | B1: =PRESUPUESTO!B1 -> CHIHUAHUA
A2: Municipio: | B2: =PRESUPUESTO!B2 -> CHIHUAHUA, CHIH.
A3: O b r a: | B3: =PRESUPUESTO!B3 -> SUMINISTRO Y APLICACIÓN DE MICROCARPETA DE 1 CM. DE ESPESOR Y RENIVELACION DE ESPESOR VARIABLE, A BASE DE EMULSION ASFALTICA ECR-63 MODIFICADA CON POLIMERO Y UN 3 % DE LATEX Y AGREGADO PETREO DE TAMAÑO MAXIMO DE 1/4'' (6.35 MM) EN: AV. PASCUAL OROZCO ENTRE AV. JUAN ESCUTIA Y AV. HOMERO; DE LA CIUDAD DE CHIHUAHUA
A5: Calendario de Ejecución de la Obra
A6: Concepto | C6: SEMANAS | G6: Importe | H6: % Ponderado
C7: 1 | D7: 2 | E7: 3 | F7: 4 | H7: Parcial | I7: Acumulado
A8: =+B3 -> SUMINISTRO Y APLICACIÓN DE MICROCARPETA DE 1 CM. DE ESPESOR Y RENIVELACION DE ESPESOR VARIABLE, A BASE DE EMULSION ASFALTICA ECR-63 MODIFICADA CON POLIMERO Y UN 3 % DE LATEX Y AGREGADO PETREO DE TAMAÑO MAXIMO DE 1/4'' (6.35 MM) EN: AV. PASCUAL OROZCO ENTRE AV. JUAN ESCUTIA Y AV. HOMERO; DE LA CIUDAD DE CHIHUAHUA | C8: =G8*25% -> 411608.6 | D8: =G8*25% -> 411608.6 | E8: =G8*0.25 -> 411608.6 | F8: =G8*0.25 -> 411608.6 | G8: =+G9 -> 1646434.4 | H8: =G8/G9 -> 1 | I8: =H8 -> 1
B9: % de Avance | C9: =C13/G9 -> 0.25 | D9: 0.25 | E9: 0.25 | F9: 0.25 | G9: =+PRESUPUESTO!F20 -> 1646434.4 | H9: =+H8 -> 1
B10: Acumulado | C10: =C9 -> 0.25 | D10: =C10+D9 -> 0.5 | E10: =D10+E9 -> 0.75 | F10: =E10+F9 -> 1
B12: Calendario de Administración de los Recursos
B13: Parcial | C13: =SUM(C8:C8) -> 411608.6 | D13: =SUM(D8:D8) -> 411608.6 | E13: =E8 -> 411608.6 | F13: =F8 -> 411608.6
B14: Acumulado | C14: =C13 -> 411608.6 | D14: =C14+D13 -> 823217.2 | E14: =E13+D14 -> 1234825.8 | F14: =F13+E14 -> 1646434.4
A16: Chihuahua, Chih., Marzo 2017

Sheet RESUMEN
A1: Localidad: | B1: =PRESUPUESTO!B1 -> CHIHUAHUA
A2: Municipio: | B2: =PRESUPUESTO!B2 -> CHIHUAHUA, CHIH.
A3: Obra: | B3: =PRESUPUESTO!B3 -> SUMINISTRO Y APLICACIÓN DE MICROCARPETA DE 1 CM. DE ESPESOR Y RENIVELACION DE ESPESOR VARIABLE, A BASE DE EMULSION ASFALTICA ECR-63 MODIFICADA CON POLIMERO Y UN 3 % DE LATEX Y AGREGADO PETREO DE TAMAÑO MAXIMO DE 1/4'' (6.35 MM) EN: AV. PASCUAL OROZCO ENTRE AV. JUAN ESCUTIA Y AV. HOMERO; DE LA CIUDAD DE CHIHUAHUA
A5: Resumen Presupuestal
B7: Concepto | C7: Importe
B8: =PRESUPUESTO!B3 -> SUMINISTRO Y APLICACIÓN DE MICROCARPETA DE 1 CM. DE ESPESOR Y RENIVELACION DE ESPESOR VARIABLE, A BASE DE EMULSION ASFALTICA ECR-63 MODIFICADA CON POLIMERO Y UN 3 % DE LATEX Y AGREGADO PETREO DE TAMAÑO MAXIMO DE 1/4'' (6.35 MM) EN: AV. PASCUAL OROZCO ENTRE AV. JUAN ESCUTIA Y AV. HOMERO; DE LA CIUDAD DE CHIHUAHUA
B10: INCLUYENDO:
B11: BACHEO, RENIVELACION Y CAPA DE MICROCARPETA | C11: =+PRESUPUESTO!F18 -> 1419340
B15: Sub total: | C15: =SUM(C10:C12) -> 1419340
B16: 16% I.V.A: | C16: =C15*16% -> 227094.4
B17: Total: | C17: =C16+C15 -> 1646434.4
A23: Chihuahua, Chih., Marzo 2017

Sheet PRESUPUESTO
A1: Localidad: | B1: CHIHUAHUA
A2: Municipio: | B2: CHIHUAHUA, CHIH.
A3: O b r a: | B3: SUMINISTRO Y APLICACIÓN DE MICROCARPETA DE 1 CM. DE ESPESOR Y RENIVELACION DE ESPESOR VARIABLE, A BASE DE EMULSION ASFALTICA ECR-63 MODIFICADA CON POLIMERO Y UN 3 % DE LATEX Y AGREGADO PETREO DE TAMAÑO MAXIMO DE 1/4'' (6.35 MM) EN: AV. PASCUAL OROZCO ENTRE AV. JUAN ESCUTIA Y AV. HOMERO; DE LA CIUDAD DE CHIHUAHUA
A4: CPO. | B4: UBICACIÓN | D4: AREA (M2) | E4: VOL. CAPA (M3) | F4: VOL. RENIV. (M3.)
B5: AV. PASCUAL OROZCO
B6: AV. JUAN ESCUTIA Y AV. HOMERO | D6: 21200 | E6: =D6*0.01 -> 212 | F6: =D6*0.003 -> 63.6
B8: TOTAL: | D8: =SUM(D6:D7) -> 21200 | E8: =SUM(E6:E7) -> 212 | F8: =SUM(F6) -> 63.6
A10: Presupuesto de Obra
A11: Clave | B11: Concepto | C11: Unidad | D11: Cantidad | E11: P. U. | F11: Importe
A12: 1 | B12: MICROCARPETA ASFALTICA. POR UNIDAD DE OBRA TERMINADA ACOMODADA DE 1.00 cm. DE ESPESOR, TAMAÑO MAXIMO DEL AGREGADO DE 1/4" (6.35 mm.) DEL BANCO DE TRITURACION TOTAL QUE ELIJA EL CONTRATISTA, INCLUYE: APLICACIÓN CON EQUIPO AUTOPROPULSADO DE ALTA PRECISION Y DOSIFICACION CONTROLADA, MEZCLADO Y COLOCACION DE MICROCAPA ASFALTICA EN FRIO CONSTITUIDA POR UNA MEZCLA DE AGREGADO FINO BIEN GRADUADO, FILLER MINERAL, EMULSION ASFALTICA MODIFICADA CON POLIMERO LATEX AL 3 % Y RESIDUO ASFALTICO DEL 63 %, Y EN GENERAL TODO LO NECESARIO PARA LA CORRECTA EJECUCION DEL CONCEPTO. | C12: M3 | D12: =E8 -> 212 | E12: 5150 | F12: =E12*D12 -> 1091800
A14: 2 | B14: MICROCARPETA ASFALTICA. POR UNIDAD DE OBRA TERMINADA QUE SE UTILICE EN BACHEO O RENIVELACIONES DE ESPESOR VARIABLE Y TAMAÑO MAXIMO DEL AGREGADO DE 1/4" (6.35 mm.) DEL BANCO DE TRITURACION TOTAL QUE ELIJA EL CONTRATISTA, INCLUYE: APLICACIÓN CON EQUIPO AUTOPROPULSADO DE ALTA PRECISION Y DOSIFICACION CONTROLADA, MEZCLADO Y COLOCACION DE MICROCAPA ASFALTICA EN FRIO CONSTITUIDA POR UNA MEZCLA DE AGREGADO FINO BIEN GRADUADO, FILLER MINERAL, EMULSION ASFALTICA MODIFICADA CON POLIMERO LATEX AL 3 % Y RESIDUO ASFALTICO DEL 63 %, Y EN GENERAL TODO LO NECESARIO PARA LA CORRECTA EJECUCION DEL CONCEPTO. | C14: M3 | D14: =F8 -> 63.6 | E14: 5150 | F14: =E14*D14 -> 327540
E18: SUBTOTAL | F18: =SUM(F12:F16) -> 1419340 | G18: 4964.96 | H18: =F18/G18 -> 285.87139
E19: IVA | F19: =+F18*0.16 -> 227094.4
E20: TOTAL | F20: =+F18+F19 -> 1646434.4
G24: 87 | H24: 1422.6 | I24: =G24*H24 -> 123766.2
I25: =F18-I24 -> 1295573.8
I26: 4964.96
I27: =I25/I26 -> 260.94345
I28: =I27/0.013 -> 20072.573

Sheet LOCALIZACIÓN
A1: Localidad: | B1: =PRESUPUESTO!B1 -> CHIHUAHUA
A2: Municipio: | B2: =PRESUPUESTO!B2 -> CHIHUAHUA, CHIH.
A3: O b r a: | B3: =PRESUPUESTO!B3 -> SUMINISTRO Y APLICACIÓN DE MICROCARPETA DE 1 CM. DE ESPESOR Y RENIVELACION DE ESPESOR VARIABLE, A BASE DE EMULSION ASFALTICA ECR-63 MODIFICADA CON POLIMERO Y UN 3 % DE LATEX Y AGREGADO PETREO DE TAMAÑO MAXIMO DE 1/4'' (6.35 MM) EN: AV. PASCUAL OROZCO ENTRE AV. JUAN ESCUTIA Y AV. HOMERO; DE LA CIUDAD DE CHIHUAHUA
A5: CROQUIS DE LOCALIZACIÓN
K17: 'SUMINISTRO Y APLICACIÓN DE MICROCARPETA DE 1 CM. DE ESPESOR Y RENIVELACION DE ESPESOR VARIABLE, A BASE DE EMULSION ASFALTICA ECR-63 MODIFICADA CON POLIMERO Y UN 3 % DE LATEX Y AGREGADO PETREO DE TAMAÑO MAXIMO DE 1/4'' (6.35 MM) EN: AV. PACHECO ENTRE AV. 20 DE NOVIEMBRE Y BLVD. FUENTES MARES (TRAMOS AISLADOS); DE LA CIUDAD DE CHIHUAHUA
A30: AV. PASCUAL OROZCO

Sheet FOTOS
A1: Localidad: | B1: =PRESUPUESTO!B1 -> CHIHUAHUA
A2: Municipio: | B2: =PRESUPUESTO!B2 -> CHIHUAHUA, CHIH.
A3: O b r a: | B3: =PRESUPUESTO!B3 -> SUMINISTRO Y APLICACIÓN DE MICROCARPETA DE 1 CM. DE ESPESOR Y RENIVELACION DE ESPESOR VARIABLE, A BASE DE EMULSION ASFALTICA ECR-63 MODIFICADA CON POLIMERO Y UN 3 % DE LATEX Y AGREGADO PETREO DE TAMAÑO MAXIMO DE 1/4'' (6.35 MM) EN: AV. PASCUAL OROZCO ENTRE AV. JUAN ESCUTIA Y AV. HOMERO; DE LA CIUDAD DE CHIHUAHUA
A5: FOTOGRAFIA
A42: AV. PASCUAL OROZCO
A54: Localidad: | B54: =PRESUPUESTO!B1 -> CHIHUAHUA
A55: Municipio: | B55: =PRESUPUESTO!B2 -> CHIHUAHUA, CHIH.
A56: O b r a: | B56: =PRESUPUESTO!B3 -> SUMINISTRO Y APLICACIÓN DE MICROCARPETA DE 1 CM. DE ESPESOR Y RENIVELACION DE ESPESOR VARIABLE, A BASE DE EMULSION ASFALTICA ECR-63 MODIFICADA CON POLIMERO Y UN 3 % DE LATEX Y AGREGADO PETREO DE TAMAÑO MAXIMO DE 1/4'' (6.35 MM) EN: AV. PASCUAL OROZCO ENTRE AV. JUAN ESCUTIA Y AV. HOMERO; DE LA CIUDAD DE CHIHUAHUA
A58: FOTOGRAFIA
A106: Localidad: | B106: =PRESUPUESTO!B1 -> CHIHUAHUA
A107: Municipio: | B107: =PRESUPUESTO!B2 -> CHIHUAHUA, CHIH.
A108: O b r a: | B108: =PRESUPUESTO!B3 -> SUMINISTRO Y APLICACIÓN DE MICROCARPETA DE 1 CM. DE ESPESOR Y RENIVELACION DE ESPESOR VARIABLE, A BASE DE EMULSION ASFALTICA ECR-63 MODIFICADA CON POLIMERO Y UN 3 % DE LATEX Y AGREGADO PETREO DE TAMAÑO MAXIMO DE 1/4'' (6.35 MM) EN: AV. PASCUAL OROZCO ENTRE AV. JUAN ESCUTIA Y AV. HOMERO; DE LA CIUDAD DE CHIHUAHUA
A110: FOTOGRAFIA
A131: CALLE ELIAS MILLER ENTRE AV. MIRADOR Y HDAS. DEL VALLE
A149: C. SICOMORO ENTRE AV. INDUSTRIAS Y AMERICA LATINA
A150: Localidad: | B150: =PRESUPUESTO!B1 -> CHIHUAHUA
A151: Municipio: | B151: =PRESUPUESTO!B2 -> CHIHUAHUA, CHIH.
A152: O b r a: | B152: =PRESUPUESTO!B3 -> SUMINISTRO Y APLICACIÓN DE MICROCARPETA DE 1 CM. DE ESPESOR Y RENIVELACION DE ESPESOR VARIABLE, A BASE DE EMULSION ASFALTICA ECR-63 MODIFICADA CON POLIMERO Y UN 3 % DE LATEX Y AGREGADO PETREO DE TAMAÑO MAXIMO DE 1/4'' (6.35 MM) EN: AV. PASCUAL OROZCO ENTRE AV. JUAN ESCUTIA Y AV. HOMERO; DE LA CIUDAD DE CHIHUAHUA
A154: FOTOGRAFIA
A178: C. CAMPO DEL NORTE ENTRE ABOLICION DE LA ESCLAVITUD Y CIRC. UNIVERSITARIO.
